BEGIN:VCALENDAR
VERSION:2.0
PRODID:-//Good Shepherd Lutheran Church - ECPv6.15.20//NONSGML v1.0//EN
CALSCALE:GREGORIAN
METHOD:PUBLISH
X-ORIGINAL-URL:https://gslcwi.com
X-WR-CALDESC:Events for Good Shepherd Lutheran Church
REFRESH-INTERVAL;VALUE=DURATION:PT1H
X-Robots-Tag:noindex
X-PUBLISHED-TTL:PT1H
BEGIN:VTIMEZONE
TZID:America/Chicago
BEGIN:DAYLIGHT
TZOFFSETFROM:-0600
TZOFFSETTO:-0500
TZNAME:CDT
DTSTART:20240310T080000
END:DAYLIGHT
BEGIN:STANDARD
TZOFFSETFROM:-0500
TZOFFSETTO:-0600
TZNAME:CST
DTSTART:20241103T070000
END:STANDARD
BEGIN:DAYLIGHT
TZOFFSETFROM:-0600
TZOFFSETTO:-0500
TZNAME:CDT
DTSTART:20250309T080000
END:DAYLIGHT
BEGIN:STANDARD
TZOFFSETFROM:-0500
TZOFFSETTO:-0600
TZNAME:CST
DTSTART:20251102T070000
END:STANDARD
BEGIN:DAYLIGHT
TZOFFSETFROM:-0600
TZOFFSETTO:-0500
TZNAME:CDT
DTSTART:20260308T080000
END:DAYLIGHT
BEGIN:STANDARD
TZOFFSETFROM:-0500
TZOFFSETTO:-0600
TZNAME:CST
DTSTART:20261101T070000
END:STANDARD
END:VTIMEZONE
BEGIN:VEVENT
DTSTART;TZID=America/Chicago:20250419T083000
DTEND;TZID=America/Chicago:20250419T093000
DTSTAMP:20260421T230502
CREATED:20220925T214224Z
LAST-MODIFIED:20230921T134939Z
UID:10016447-1745051400-1745055000@gslcwi.com
SUMMARY:Men's Bible Study Zoom
DESCRIPTION:A small group bible study and fellowship group.
URL:https://gslcwi.com/event/mens-bible-study-zoom-74/2025-04-19/
LOCATION:Zoom Meeting
CATEGORIES:Bible Study,Men's Ministry
ORGANIZER;CN="Vern Andren":MAILTO:vwacja12@outlook.com
END:VEVENT
BEGIN:VEVENT
DTSTART;TZID=America/Chicago:20250419T083000
DTEND;TZID=America/Chicago:20250419T120000
DTSTAMP:20260421T230502
CREATED:20250218T164226Z
LAST-MODIFIED:20250218T164454Z
UID:10022326-1745051400-1745064000@gslcwi.com
SUMMARY:COW @ Spring Egg-stravaganza
DESCRIPTION:Join the Verona Community for a Spring celebration and Egg Hunt!  The Holy COW will be there serving up delicious breakfast items. \nhttps://business.veronawi.com/events/details/spring-egg-stravaganza-5368 \nSign-up here to volunteer with the COW
URL:https://gslcwi.com/event/cow-spring-egg-stravaganza/
CATEGORIES:Holy COW
END:VEVENT
BEGIN:VEVENT
DTSTART;TZID=America/Chicago:20250419T090000
DTEND;TZID=America/Chicago:20250419T120000
DTSTAMP:20260421T230502
CREATED:20250319T005502Z
LAST-MODIFIED:20250415T213625Z
UID:10022547-1745053200-1745064000@gslcwi.com
SUMMARY:Egg-Stravaganza
DESCRIPTION:RT.
URL:https://gslcwi.com/event/egg-stravaganza/
LOCATION:Food Cart Event
END:VEVENT
BEGIN:VEVENT
DTSTART;TZID=America/Chicago:20250419T190000
DTEND;TZID=America/Chicago:20250419T210000
DTSTAMP:20260421T230502
CREATED:20250319T005502Z
LAST-MODIFIED:20250326T002113Z
UID:10022548-1745089200-1745096400@gslcwi.com
SUMMARY:Faith of Christ Church
DESCRIPTION:Gorge Garcia\, gorgegarcia613@yahoo.com\n818-264-6914
URL:https://gslcwi.com/event/faith-of-christ-church-211/
LOCATION:Madison Music Room
END:VEVENT
END:VCALENDAR