BEGIN:VCALENDAR
VERSION:2.0
PRODID:-//Good Shepherd Lutheran Church - ECPv6.15.20//NONSGML v1.0//EN
CALSCALE:GREGORIAN
METHOD:PUBLISH
X-WR-CALNAME:Good Shepherd Lutheran Church
X-ORIGINAL-URL:https://gslcwi.com
X-WR-CALDESC:Events for Good Shepherd Lutheran Church
REFRESH-INTERVAL;VALUE=DURATION:PT1H
X-Robots-Tag:noindex
X-PUBLISHED-TTL:PT1H
BEGIN:VTIMEZONE
TZID:America/Chicago
BEGIN:DAYLIGHT
TZOFFSETFROM:-0600
TZOFFSETTO:-0500
TZNAME:CDT
DTSTART:20240310T080000
END:DAYLIGHT
BEGIN:STANDARD
TZOFFSETFROM:-0500
TZOFFSETTO:-0600
TZNAME:CST
DTSTART:20241103T070000
END:STANDARD
BEGIN:DAYLIGHT
TZOFFSETFROM:-0600
TZOFFSETTO:-0500
TZNAME:CDT
DTSTART:20250309T080000
END:DAYLIGHT
BEGIN:STANDARD
TZOFFSETFROM:-0500
TZOFFSETTO:-0600
TZNAME:CST
DTSTART:20251102T070000
END:STANDARD
BEGIN:DAYLIGHT
TZOFFSETFROM:-0600
TZOFFSETTO:-0500
TZNAME:CDT
DTSTART:20260308T080000
END:DAYLIGHT
BEGIN:STANDARD
TZOFFSETFROM:-0500
TZOFFSETTO:-0600
TZNAME:CST
DTSTART:20261101T070000
END:STANDARD
END:VTIMEZONE
BEGIN:VEVENT
DTSTART;VALUE=DATE:20250421
DTEND;VALUE=DATE:20250422
DTSTAMP:20260422T214840
CREATED:20250415T215215Z
LAST-MODIFIED:20250415T215215Z
UID:10022718-1745193600-1745279999@gslcwi.com
SUMMARY:Easter Monday - Office Closed
DESCRIPTION:
URL:https://gslcwi.com/event/easter-monday-office-closed/
END:VEVENT
BEGIN:VEVENT
DTSTART;TZID=America/Chicago:20250421T100000
DTEND;TZID=America/Chicago:20250421T120000
DTSTAMP:20260422T214840
CREATED:20250319T011054Z
LAST-MODIFIED:20250415T215214Z
UID:10022555-1745229600-1745236800@gslcwi.com
SUMMARY:Quilters
DESCRIPTION:Brent / Donna Hintze<teddyb55@icloud.com\n________________________________________________________________________________\nMicrosoft Teams Need help?\nJoin the meeting now\nMeeting ID: 297 573 519 588\nPasscode: 255jpX\n________________________________\nFor organizers: Meeting options\n________________________________________________________________________________
URL:https://gslcwi.com/event/quilters-130/
LOCATION:Verona Fellowship Hall
END:VEVENT
BEGIN:VEVENT
DTSTART;TZID=America/Chicago:20250421T160000
DTEND;TZID=America/Chicago:20250421T173000
DTSTAMP:20260422T214840
CREATED:20220923T135855Z
LAST-MODIFIED:20230913T194729Z
UID:10015557-1745251200-1745256600@gslcwi.com
SUMMARY:Literacy Network
DESCRIPTION:
URL:https://gslcwi.com/event/literacy-network-40/2025-04-21/
LOCATION:Madison Room 11/The Sheep Fold; Madison Room 9
CATEGORIES:Community Event
END:VEVENT
BEGIN:VEVENT
DTSTART;TZID=America/Chicago:20250421T160000
DTEND;TZID=America/Chicago:20250421T173000
DTSTAMP:20260422T214840
CREATED:20250319T011055Z
LAST-MODIFIED:20250408T225156Z
UID:10022556-1745251200-1745256600@gslcwi.com
SUMMARY:Literacy Network
DESCRIPTION:Bex Fabrizio Bex@litnetwork.org
URL:https://gslcwi.com/event/literacy-network-245/
LOCATION:Madison Good Shepherd Room
END:VEVENT
BEGIN:VEVENT
DTSTART;TZID=America/Chicago:20250421T180000
DTEND;TZID=America/Chicago:20250421T200000
DTSTAMP:20260422T214840
CREATED:20250319T011056Z
LAST-MODIFIED:20250408T225253Z
UID:10022558-1745258400-1745265600@gslcwi.com
SUMMARY:Webelos Meeting
DESCRIPTION:Nicole Dederich ndederich83@gmail.com
URL:https://gslcwi.com/event/webelos-meeting-15/
LOCATION:Verona Fellowship Hall
END:VEVENT
BEGIN:VEVENT
DTSTART;TZID=America/Chicago:20250421T183000
DTEND;TZID=America/Chicago:20250421T193000
DTSTAMP:20260422T214840
CREATED:20250319T011057Z
LAST-MODIFIED:20250408T225254Z
UID:10022559-1745260200-1745263800@gslcwi.com
SUMMARY:Cub Scouts
DESCRIPTION:Jon Bach\, drjonnyb@yahoo.com
URL:https://gslcwi.com/event/cub-scouts-113/
LOCATION:Verona Room 6
END:VEVENT
END:VCALENDAR