BEGIN:VCALENDAR
VERSION:2.0
PRODID:-//Good Shepherd Lutheran Church - ECPv6.15.20//NONSGML v1.0//EN
CALSCALE:GREGORIAN
METHOD:PUBLISH
X-WR-CALNAME:Good Shepherd Lutheran Church
X-ORIGINAL-URL:https://gslcwi.com
X-WR-CALDESC:Events for Good Shepherd Lutheran Church
REFRESH-INTERVAL;VALUE=DURATION:PT1H
X-Robots-Tag:noindex
X-PUBLISHED-TTL:PT1H
BEGIN:VTIMEZONE
TZID:America/Chicago
BEGIN:DAYLIGHT
TZOFFSETFROM:-0600
TZOFFSETTO:-0500
TZNAME:CDT
DTSTART:20240310T080000
END:DAYLIGHT
BEGIN:STANDARD
TZOFFSETFROM:-0500
TZOFFSETTO:-0600
TZNAME:CST
DTSTART:20241103T070000
END:STANDARD
BEGIN:DAYLIGHT
TZOFFSETFROM:-0600
TZOFFSETTO:-0500
TZNAME:CDT
DTSTART:20250309T080000
END:DAYLIGHT
BEGIN:STANDARD
TZOFFSETFROM:-0500
TZOFFSETTO:-0600
TZNAME:CST
DTSTART:20251102T070000
END:STANDARD
BEGIN:DAYLIGHT
TZOFFSETFROM:-0600
TZOFFSETTO:-0500
TZNAME:CDT
DTSTART:20260308T080000
END:DAYLIGHT
BEGIN:STANDARD
TZOFFSETFROM:-0500
TZOFFSETTO:-0600
TZNAME:CST
DTSTART:20261101T070000
END:STANDARD
END:VTIMEZONE
BEGIN:VEVENT
DTSTART;TZID=America/Chicago:20250603T090000
DTEND;TZID=America/Chicago:20250603T110000
DTSTAMP:20260419T082340
CREATED:20230320T152255Z
LAST-MODIFIED:20230921T134352Z
UID:10014592-1748941200-1748948400@gslcwi.com
SUMMARY:Tuesday Trekkers
DESCRIPTION:Join other GS folks for an hour-long hike\, Tuesdays at 9am.  Meets at different locations around the area\, enjoying fresh air and fellowship.
URL:https://gslcwi.com/event/tuesday-trekkers-8/2025-06-03/
LOCATION:Offsite
CATEGORIES:Adult Education,Fellowship,Sports
ATTACH;FMTTYPE=image/jpeg:https://gslcwi.com/wp-content/uploads/2023/03/trekers720.jpg
ORGANIZER;CN="Diane Hughes":MAILTO:dhhands@sbcglobal.net
END:VEVENT
BEGIN:VEVENT
DTSTART;TZID=America/Chicago:20250603T103000
DTEND;TZID=America/Chicago:20250603T130000
DTSTAMP:20260419T082340
CREATED:20250423T014817Z
LAST-MODIFIED:20250529T150528Z
UID:10022808-1748946600-1748955600@gslcwi.com
SUMMARY:NewBridge Senior Meals
DESCRIPTION:Deenah Givens deenahg@newbridgemadison.org\nJim Krueger jimk@newbridgemadison.org
URL:https://gslcwi.com/event/newbridge-senior-meals/
LOCATION:Madison Peterson Hall
END:VEVENT
BEGIN:VEVENT
DTSTART;TZID=America/Chicago:20250603T110000
DTEND;TZID=America/Chicago:20250603T120000
DTSTAMP:20260419T082340
CREATED:20250423T014816Z
LAST-MODIFIED:20250529T150528Z
UID:10022807-1748948400-1748952000@gslcwi.com
SUMMARY:Staff Meeting
DESCRIPTION:Pr. Craig
URL:https://gslcwi.com/event/staff-meeting-45/
LOCATION:Madison Good Shepherd Room
END:VEVENT
BEGIN:VEVENT
DTSTART;TZID=America/Chicago:20250603T150000
DTEND;TZID=America/Chicago:20250604T090000
DTSTAMP:20260419T082340
CREATED:20250423T015007Z
LAST-MODIFIED:20250529T151836Z
UID:10022809-1748962800-1749027600@gslcwi.com
SUMMARY:Messenger
DESCRIPTION:Judy Hoard
URL:https://gslcwi.com/event/messenger-27/
LOCATION:Madison Good Shepherd Room
END:VEVENT
BEGIN:VEVENT
DTSTART;TZID=America/Chicago:20250603T183000
DTEND;TZID=America/Chicago:20250603T200000
DTSTAMP:20260419T082340
CREATED:20250423T015008Z
LAST-MODIFIED:20250529T151836Z
UID:10022811-1748975400-1748980800@gslcwi.com
SUMMARY:Stephen Ministry Supervision
DESCRIPTION:Pr. Sheryl\, serickson@gslcwi.com
URL:https://gslcwi.com/event/stephen-ministry-supervision-18/
LOCATION:Verona Coffee Bar; Verona Family Lounge; Verona Library
END:VEVENT
BEGIN:VEVENT
DTSTART;TZID=America/Chicago:20250603T183000
DTEND;TZID=America/Chicago:20250603T203000
DTSTAMP:20260419T082340
CREATED:20250423T015007Z
LAST-MODIFIED:20250529T151836Z
UID:10022810-1748975400-1748982600@gslcwi.com
SUMMARY:Boy Scouts
DESCRIPTION:Amy Byrnes – Scout Master ajmbyrnes@yahoo.com\nMatt Watrud – Scout Master watrud@uwalumni.com
URL:https://gslcwi.com/event/boy-scouts-234/
LOCATION:Verona Fellowship Hall
END:VEVENT
BEGIN:VEVENT
DTSTART;TZID=America/Chicago:20250603T190000
DTEND;TZID=America/Chicago:20250603T200000
DTSTAMP:20260419T082340
CREATED:20230921T142540Z
LAST-MODIFIED:20230921T152532Z
UID:10016724-1748977200-1748980800@gslcwi.com
SUMMARY:Wine and Word Women's Study
DESCRIPTION:
URL:https://gslcwi.com/event/wine-and-word-womens-study/2025-06-03/
LOCATION:RP Adler’s\, 8202 Watts Rd\, Madison\, WI\, 53711\, United States
CATEGORIES:Bible Study,Women's Ministry
ORGANIZER;CN="Liz Deterding":MAILTO:elizabeth.deterding@gmail.com
END:VEVENT
BEGIN:VEVENT
DTSTART;TZID=America/Chicago:20250603T193000
DTEND;TZID=America/Chicago:20250603T210000
DTSTAMP:20260419T082340
CREATED:20250423T015008Z
LAST-MODIFIED:20250529T150528Z
UID:10022812-1748979000-1748984400@gslcwi.com
SUMMARY:AA Meeting
DESCRIPTION:Jenni Nowak jenninowak25@gmail.com\nAlexander: 585.305.3414\nJennifer: 608.515.0697
URL:https://gslcwi.com/event/aa-meeting-167/
LOCATION:Verona Room 6
END:VEVENT
END:VCALENDAR