BEGIN:VCALENDAR
VERSION:2.0
PRODID:-//Good Shepherd Lutheran Church - ECPv6.15.20//NONSGML v1.0//EN
CALSCALE:GREGORIAN
METHOD:PUBLISH
X-ORIGINAL-URL:https://gslcwi.com
X-WR-CALDESC:Events for Good Shepherd Lutheran Church
REFRESH-INTERVAL;VALUE=DURATION:PT1H
X-Robots-Tag:noindex
X-PUBLISHED-TTL:PT1H
BEGIN:VTIMEZONE
TZID:America/Chicago
BEGIN:DAYLIGHT
TZOFFSETFROM:-0600
TZOFFSETTO:-0500
TZNAME:CDT
DTSTART:20240310T080000
END:DAYLIGHT
BEGIN:STANDARD
TZOFFSETFROM:-0500
TZOFFSETTO:-0600
TZNAME:CST
DTSTART:20241103T070000
END:STANDARD
BEGIN:DAYLIGHT
TZOFFSETFROM:-0600
TZOFFSETTO:-0500
TZNAME:CDT
DTSTART:20250309T080000
END:DAYLIGHT
BEGIN:STANDARD
TZOFFSETFROM:-0500
TZOFFSETTO:-0600
TZNAME:CST
DTSTART:20251102T070000
END:STANDARD
BEGIN:DAYLIGHT
TZOFFSETFROM:-0600
TZOFFSETTO:-0500
TZNAME:CDT
DTSTART:20260308T080000
END:DAYLIGHT
BEGIN:STANDARD
TZOFFSETFROM:-0500
TZOFFSETTO:-0600
TZNAME:CST
DTSTART:20261101T070000
END:STANDARD
END:VTIMEZONE
BEGIN:VEVENT
DTSTART;TZID=America/Chicago:20250602T170000
DTEND;TZID=America/Chicago:20250602T190000
DTSTAMP:20260424T215118
CREATED:20250417T182725Z
LAST-MODIFIED:20250602T175243Z
UID:10022760-1748883600-1748890800@gslcwi.com
SUMMARY:Music Monday
DESCRIPTION:June 2 – Becca & Erik\nBecca Feldhacker\, Former Director of Youth Ministries at Good Shepherd\, and her brother\, Erik Mortensen team up on guitars and vocals including covers of Fleet Foxes\, Tallest Man on Earth\, Leon Bridges\, Peter Gabriel\, Rush\, Joy Oladokun\, Ray LaMontagne\, Bastille\, and more!\n  \nJoin us this summer as we bring the joy of music\, good food\, and community beyond our walls and into the streets! Each Music Monday will feature a different band\, food and a local not-for-profit partner. Proceeds will support that week’s featured organization. All are welcome—bring a lawn chair and a friend! \nUpcoming Music Mondays: \nJune 16      The UW Marching Band | Echoes of Camp Randall \nJune 30     The Night Painters | Indie Rock \nJuly 14       All That Jazz Big Band | Classic and M0dern Big Band \nJuly 28      Acoustic Collective | Feel-good Folk/Pop harmonies \nAugust 11  Trophy Husbands |  Jazz and Pop songs \nAugust 25 SunDance | Classic Rock and Folk favorites
URL:https://gslcwi.com/event/music-monday-11-2/
LOCATION:Madison Campus\, 5701 Raymond Rd\, Madison\, WI\, 53711\, United States
CATEGORIES:Holy COW,Music Monday
ATTACH;FMTTYPE=image/jpeg:https://gslcwi.com/wp-content/uploads/2025/04/Erik-Becca-Music-Monday-2025.jpg
END:VEVENT
BEGIN:VEVENT
DTSTART;TZID=America/Chicago:20250606T170000
DTEND;TZID=America/Chicago:20250606T190000
DTSTAMP:20260424T215118
CREATED:20250311T164304Z
LAST-MODIFIED:20250311T164305Z
UID:10022482-1749229200-1749236400@gslcwi.com
SUMMARY:Family Friday Dinner
DESCRIPTION:Enjoy time to connect with other families over a meal served by the Holy Cow Food Truck at the Verona Campus Tent. Food\, drinks\, and outdoor toys provided.
URL:https://gslcwi.com/event/family-friday-dinner-8/2025-06-06/
LOCATION:Good Shepherd Verona Campus\, 7291 County Road PD\, Verona\, WI\, 53593\, United States
CATEGORIES:Children's Ministry,Holy COW
ATTACH;FMTTYPE=image/jpeg:https://gslcwi.com/wp-content/uploads/2025/03/Family-Friday-Dinners-2025.jpg
ORGANIZER;CN="Emily Gold":MAILTO:egold@gslcwi.com
END:VEVENT
BEGIN:VEVENT
DTSTART;TZID=America/Chicago:20250607T190000
DTEND;TZID=America/Chicago:20250607T210000
DTSTAMP:20260424T215118
CREATED:20250416T162407Z
LAST-MODIFIED:20250416T170340Z
UID:10022759-1749322800-1749330000@gslcwi.com
SUMMARY:Madison Forward Game
DESCRIPTION:$23 Family Special Ticket Package\nEach ticket Purchase comes with a ticket\, a meal and a scarf. \n(A meal consists of a hot dog\, brat\, or hamburger with chips and a drink!) \n  \nClick here to purchase tickets!
URL:https://gslcwi.com/event/madison-forward-game/
LOCATION:Breese Stevens Field\, 917 E. Mifflin Street\, Madison\, WI\, 53703\, United States
CATEGORIES:Community Event
ATTACH;FMTTYPE=image/jpeg:https://gslcwi.com/wp-content/uploads/2025/04/Madison-Forward-2025.jpg
ORGANIZER;CN="Rick Thomas":MAILTO:rthomas@gslcwi.com
END:VEVENT
BEGIN:VEVENT
DTSTART;TZID=America/Chicago:20250616T090000
DTEND;TZID=America/Chicago:20250616T103000
DTSTAMP:20260424T215118
CREATED:20250311T162124Z
LAST-MODIFIED:20250311T162143Z
UID:10022469-1750064400-1750069800@gslcwi.com
SUMMARY:Kinder Creation Camp
DESCRIPTION:Discover God’s creation through outdoor exploration\, musical movement and hands-on creations. \nClick here to Register!
URL:https://gslcwi.com/event/kinder-creation-camp-8/2025-06-16/
LOCATION:Good Shepherd Verona Campus\, 7291 County Road PD\, Verona\, WI\, 53593\, United States
CATEGORIES:Children's Ministry
ATTACH;FMTTYPE=image/jpeg:https://gslcwi.com/wp-content/uploads/2025/03/Kinder-Creation-Camp2025.jpg
ORGANIZER;CN="Emily Gold":MAILTO:egold@gslcwi.com
END:VEVENT
BEGIN:VEVENT
DTSTART;TZID=America/Chicago:20250616T170000
DTEND;TZID=America/Chicago:20250616T190000
DTSTAMP:20260424T215118
CREATED:20250417T183320Z
LAST-MODIFIED:20250604T163848Z
UID:10022761-1750093200-1750100400@gslcwi.com
SUMMARY:Music Monday
DESCRIPTION:June 16 – DJ Eric Holmer (Record Scratchin Reverend!) and The UW Marching Band \nJoin us for a fun evening featuring two sets of musicians! We’ll dance the evening away with DJ hits from 5:00-6:00 p.m. and then with members of the UW Marching Band. Echoes of Camp Randall will blast 5th quarter favorites like “On Wisconsin\,” “The ‘Hey’ Song\,” “Chicken Dance\,” and more from 6:00-6:45 p.m.\n  \nJoin us this summer as we bring the joy of music\, good food\, and community beyond our walls and into the streets! Each Music Monday will feature a different band\, food and a local not-for-profit partner. Proceeds will support that week’s featured organization. All are welcome—bring a lawn chair and a friend! \nUpcoming Music Mondays: \nJune 30     The Night Painters | Indie Rock \nJuly 14       All That Jazz Big Band | Classic and Modern Big Band \nJuly 28      Acoustic Collective | Feel-good Folk/Pop harmonies \nAugust 11  Trophy Husbands |  Jazz and Pop songs \nAugust 25 SunDance | Classic Rock and Folk favorites
URL:https://gslcwi.com/event/music-monday-11-3/
LOCATION:Madison Campus\, 5701 Raymond Rd\, Madison\, WI\, 53711\, United States
CATEGORIES:Holy COW,Music Monday
ATTACH;FMTTYPE=image/jpeg:https://gslcwi.com/wp-content/uploads/2025/04/UW-Band-2025.jpg
END:VEVENT
BEGIN:VEVENT
DTSTART;TZID=America/Chicago:20250617T090000
DTEND;TZID=America/Chicago:20250617T103000
DTSTAMP:20260424T215118
CREATED:20250311T162124Z
LAST-MODIFIED:20250311T162143Z
UID:10022470-1750150800-1750156200@gslcwi.com
SUMMARY:Kinder Creation Camp
DESCRIPTION:Discover God’s creation through outdoor exploration\, musical movement and hands-on creations. \nClick here to Register!
URL:https://gslcwi.com/event/kinder-creation-camp-8/2025-06-17/
LOCATION:Good Shepherd Verona Campus\, 7291 County Road PD\, Verona\, WI\, 53593\, United States
CATEGORIES:Children's Ministry
ATTACH;FMTTYPE=image/jpeg:https://gslcwi.com/wp-content/uploads/2025/03/Kinder-Creation-Camp2025.jpg
ORGANIZER;CN="Emily Gold":MAILTO:egold@gslcwi.com
END:VEVENT
BEGIN:VEVENT
DTSTART;TZID=America/Chicago:20250617T180000
DTEND;TZID=America/Chicago:20250617T193000
DTSTAMP:20260424T215118
CREATED:20250311T165116Z
LAST-MODIFIED:20250703T154835Z
UID:10023127-1750183200-1750188600@gslcwi.com
SUMMARY:Rise Up Nights
DESCRIPTION:Celebrate both the sacred and the silly together with friends as we connect with each other and Christ through outdoor food\, games\, and prayer. Click here to register. 
URL:https://gslcwi.com/event/rise-up-nights-5/2025-06-17/
LOCATION:Good Shepherd Verona Campus\, 7291 County Road PD\, Verona\, WI\, 53593\, United States
CATEGORIES:Children's Ministry
ATTACH;FMTTYPE=image/jpeg:https://gslcwi.com/wp-content/uploads/2023/02/IMG_2164-scaled-e1741711785922.jpg
ORGANIZER;CN="Emily Gold":MAILTO:egold@gslcwi.com
END:VEVENT
BEGIN:VEVENT
DTSTART;TZID=America/Chicago:20250618T090000
DTEND;TZID=America/Chicago:20250618T103000
DTSTAMP:20260424T215118
CREATED:20250311T162124Z
LAST-MODIFIED:20250311T162143Z
UID:10022471-1750237200-1750242600@gslcwi.com
SUMMARY:Kinder Creation Camp
DESCRIPTION:Discover God’s creation through outdoor exploration\, musical movement and hands-on creations. \nClick here to Register!
URL:https://gslcwi.com/event/kinder-creation-camp-8/2025-06-18/
LOCATION:Good Shepherd Verona Campus\, 7291 County Road PD\, Verona\, WI\, 53593\, United States
CATEGORIES:Children's Ministry
ATTACH;FMTTYPE=image/jpeg:https://gslcwi.com/wp-content/uploads/2025/03/Kinder-Creation-Camp2025.jpg
ORGANIZER;CN="Emily Gold":MAILTO:egold@gslcwi.com
END:VEVENT
BEGIN:VEVENT
DTSTART;TZID=America/Chicago:20250618T160000
DTEND;TZID=America/Chicago:20250618T190000
DTSTAMP:20260424T215118
CREATED:20250501T203052Z
LAST-MODIFIED:20250501T210759Z
UID:10022925-1750262400-1750273200@gslcwi.com
SUMMARY:"Stop the Violence. Save the Children." Community Meal
DESCRIPTION:Join the Holy COW as we BBQ for a cause – ending violence in our communities. Representatives from community organizations will be on-site with resources and there will be games and activities for all ages. \n 
URL:https://gslcwi.com/event/stop-the-violence-save-the-children-community-meal/
LOCATION:Good Shepherd Madison Campus\, 5701 Raymond Road\, Madison\, WI\, 53711\, United States
CATEGORIES:Community Event,Holy COW
ATTACH;FMTTYPE=image/jpeg:https://gslcwi.com/wp-content/uploads/2025/05/StopTheViolenceMarch2025_16x9b-scaled.jpg
ORGANIZER;CN="Sheray Wallace":MAILTO:sheraywallace44@gmail.com
END:VEVENT
BEGIN:VEVENT
DTSTART;TZID=America/Chicago:20250622T101500
DTEND;TZID=America/Chicago:20250622T111500
DTSTAMP:20260424T215118
CREATED:20250313T203349Z
LAST-MODIFIED:20250615T144743Z
UID:10022538-1750587300-1750590900@gslcwi.com
SUMMARY:Congregational Life Conversation
DESCRIPTION:Join Pastor Craig for a Congregational Life Conversation—June 22 after worship at our Madison campus and June 29 at our Verona campus. You’ll hear updates from the Children Youth and Family Board\, the Interim Task Force\, and the Lead Pastor Call Committee. You’ll also have a chance to share your thoughts and learn more about what’s happening in our church as we continue to grow together in community.
URL:https://gslcwi.com/event/congregational-life-conversation-3/
LOCATION:Madison Campus\, 5701 Raymond Rd\, Madison\, WI\, 53711\, United States
ATTACH;FMTTYPE=image/jpeg:https://gslcwi.com/wp-content/uploads/2025/03/CLC-June.jpg
END:VEVENT
BEGIN:VEVENT
DTSTART;TZID=America/Chicago:20250623T090000
DTEND;TZID=America/Chicago:20250623T113000
DTSTAMP:20260424T215118
CREATED:20250311T162624Z
LAST-MODIFIED:20250311T162625Z
UID:10022472-1750669200-1750678200@gslcwi.com
SUMMARY:True North Vacation Bible School
DESCRIPTION:As kids trek the tundra at True North VBS\, they’ll explore how easy it is to lose sight of what’s true in our wild world today. They’ll learn and grow through Bible stories\, imagination station crafts\, tidal treats\, music and play. Click here to register. 
URL:https://gslcwi.com/event/true-north-vacation-bible-school/2025-06-23/
LOCATION:Good Shepherd Verona Campus\, 7291 County Road PD\, Verona\, WI\, 53593\, United States
CATEGORIES:Children's Ministry
ATTACH;FMTTYPE=image/jpeg:https://gslcwi.com/wp-content/uploads/2025/02/vbs2025.jpg
ORGANIZER;CN="Emily Gold":MAILTO:egold@gslcwi.com
END:VEVENT
BEGIN:VEVENT
DTSTART;TZID=America/Chicago:20250624T090000
DTEND;TZID=America/Chicago:20250624T113000
DTSTAMP:20260424T215118
CREATED:20250311T162624Z
LAST-MODIFIED:20250311T162625Z
UID:10022473-1750755600-1750764600@gslcwi.com
SUMMARY:True North Vacation Bible School
DESCRIPTION:As kids trek the tundra at True North VBS\, they’ll explore how easy it is to lose sight of what’s true in our wild world today. They’ll learn and grow through Bible stories\, imagination station crafts\, tidal treats\, music and play. Click here to register. 
URL:https://gslcwi.com/event/true-north-vacation-bible-school/2025-06-24/
LOCATION:Good Shepherd Verona Campus\, 7291 County Road PD\, Verona\, WI\, 53593\, United States
CATEGORIES:Children's Ministry
ATTACH;FMTTYPE=image/jpeg:https://gslcwi.com/wp-content/uploads/2025/02/vbs2025.jpg
ORGANIZER;CN="Emily Gold":MAILTO:egold@gslcwi.com
END:VEVENT
BEGIN:VEVENT
DTSTART;TZID=America/Chicago:20250625T090000
DTEND;TZID=America/Chicago:20250625T113000
DTSTAMP:20260424T215118
CREATED:20250311T162624Z
LAST-MODIFIED:20250311T162625Z
UID:10022474-1750842000-1750851000@gslcwi.com
SUMMARY:True North Vacation Bible School
DESCRIPTION:As kids trek the tundra at True North VBS\, they’ll explore how easy it is to lose sight of what’s true in our wild world today. They’ll learn and grow through Bible stories\, imagination station crafts\, tidal treats\, music and play. Click here to register. 
URL:https://gslcwi.com/event/true-north-vacation-bible-school/2025-06-25/
LOCATION:Good Shepherd Verona Campus\, 7291 County Road PD\, Verona\, WI\, 53593\, United States
CATEGORIES:Children's Ministry
ATTACH;FMTTYPE=image/jpeg:https://gslcwi.com/wp-content/uploads/2025/02/vbs2025.jpg
ORGANIZER;CN="Emily Gold":MAILTO:egold@gslcwi.com
END:VEVENT
BEGIN:VEVENT
DTSTART;TZID=America/Chicago:20250626T090000
DTEND;TZID=America/Chicago:20250626T113000
DTSTAMP:20260424T215118
CREATED:20250311T162624Z
LAST-MODIFIED:20250311T162625Z
UID:10022475-1750928400-1750937400@gslcwi.com
SUMMARY:True North Vacation Bible School
DESCRIPTION:As kids trek the tundra at True North VBS\, they’ll explore how easy it is to lose sight of what’s true in our wild world today. They’ll learn and grow through Bible stories\, imagination station crafts\, tidal treats\, music and play. Click here to register. 
URL:https://gslcwi.com/event/true-north-vacation-bible-school/2025-06-26/
LOCATION:Good Shepherd Verona Campus\, 7291 County Road PD\, Verona\, WI\, 53593\, United States
CATEGORIES:Children's Ministry
ATTACH;FMTTYPE=image/jpeg:https://gslcwi.com/wp-content/uploads/2025/02/vbs2025.jpg
ORGANIZER;CN="Emily Gold":MAILTO:egold@gslcwi.com
END:VEVENT
BEGIN:VEVENT
DTSTART;TZID=America/Chicago:20250627T090000
DTEND;TZID=America/Chicago:20250627T113000
DTSTAMP:20260424T215118
CREATED:20250311T162624Z
LAST-MODIFIED:20250311T162625Z
UID:10022476-1751014800-1751023800@gslcwi.com
SUMMARY:True North Vacation Bible School
DESCRIPTION:As kids trek the tundra at True North VBS\, they’ll explore how easy it is to lose sight of what’s true in our wild world today. They’ll learn and grow through Bible stories\, imagination station crafts\, tidal treats\, music and play. Click here to register. 
URL:https://gslcwi.com/event/true-north-vacation-bible-school/2025-06-27/
LOCATION:Good Shepherd Verona Campus\, 7291 County Road PD\, Verona\, WI\, 53593\, United States
CATEGORIES:Children's Ministry
ATTACH;FMTTYPE=image/jpeg:https://gslcwi.com/wp-content/uploads/2025/02/vbs2025.jpg
ORGANIZER;CN="Emily Gold":MAILTO:egold@gslcwi.com
END:VEVENT
END:VCALENDAR