BEGIN:VCALENDAR
VERSION:2.0
PRODID:-//Good Shepherd Lutheran Church - ECPv6.15.20//NONSGML v1.0//EN
CALSCALE:GREGORIAN
METHOD:PUBLISH
X-ORIGINAL-URL:https://gslcwi.com
X-WR-CALDESC:Events for Good Shepherd Lutheran Church
REFRESH-INTERVAL;VALUE=DURATION:PT1H
X-Robots-Tag:noindex
X-PUBLISHED-TTL:PT1H
BEGIN:VTIMEZONE
TZID:America/Chicago
BEGIN:DAYLIGHT
TZOFFSETFROM:-0600
TZOFFSETTO:-0500
TZNAME:CDT
DTSTART:20240310T080000
END:DAYLIGHT
BEGIN:STANDARD
TZOFFSETFROM:-0500
TZOFFSETTO:-0600
TZNAME:CST
DTSTART:20241103T070000
END:STANDARD
BEGIN:DAYLIGHT
TZOFFSETFROM:-0600
TZOFFSETTO:-0500
TZNAME:CDT
DTSTART:20250309T080000
END:DAYLIGHT
BEGIN:STANDARD
TZOFFSETFROM:-0500
TZOFFSETTO:-0600
TZNAME:CST
DTSTART:20251102T070000
END:STANDARD
BEGIN:DAYLIGHT
TZOFFSETFROM:-0600
TZOFFSETTO:-0500
TZNAME:CDT
DTSTART:20260308T080000
END:DAYLIGHT
BEGIN:STANDARD
TZOFFSETFROM:-0500
TZOFFSETTO:-0600
TZNAME:CST
DTSTART:20261101T070000
END:STANDARD
END:VTIMEZONE
BEGIN:VEVENT
DTSTART;TZID=America/Chicago:20250710T093000
DTEND;TZID=America/Chicago:20250710T123000
DTSTAMP:20260423T101041
CREATED:20250522T191942Z
LAST-MODIFIED:20250710T145732Z
UID:10023057-1752139800-1752150600@gslcwi.com
SUMMARY:Community Read
DESCRIPTION:Staci\, 608-347-0138\nAnastasia Saph <ajsaph@gmail.com>
URL:https://gslcwi.com/event/community-read-74/
LOCATION:Madison Room 11/The Sheep Fold; Madison Room 8; Madison Room 9
END:VEVENT
BEGIN:VEVENT
DTSTART;TZID=America/Chicago:20250710T100000
DTEND;TZID=America/Chicago:20250710T120000
DTSTAMP:20260423T101041
CREATED:20250522T191940Z
LAST-MODIFIED:20250710T145732Z
UID:10023054-1752141600-1752148800@gslcwi.com
SUMMARY:Pisando Fuerte
DESCRIPTION:Deenah Givens deenahg@newbridgemadison.org\nMay need TV\, microphone and chairs in a circle
URL:https://gslcwi.com/event/pisando-fuerte-6/
LOCATION:Madison Good Shepherd Room
END:VEVENT
BEGIN:VEVENT
DTSTART;TZID=America/Chicago:20250710T100000
DTEND;TZID=America/Chicago:20250710T120000
DTSTAMP:20260423T101041
CREATED:20250522T191941Z
LAST-MODIFIED:20250710T145732Z
UID:10023056-1752141600-1752148800@gslcwi.com
SUMMARY:GSLC Food Pantry
DESCRIPTION:
URL:https://gslcwi.com/event/gslc-food-pantry-218/
LOCATION:Madison Lobby
END:VEVENT
BEGIN:VEVENT
DTSTART;TZID=America/Chicago:20250710T100000
DTEND;TZID=America/Chicago:20250710T120000
DTSTAMP:20260423T101041
CREATED:20250522T193614Z
LAST-MODIFIED:20250710T145731Z
UID:10023058-1752141600-1752148800@gslcwi.com
SUMMARY:Clothes Closet
DESCRIPTION:
URL:https://gslcwi.com/event/clothes-closet-311/
LOCATION:Madison Room 6
END:VEVENT
BEGIN:VEVENT
DTSTART;TZID=America/Chicago:20250710T103000
DTEND;TZID=America/Chicago:20250710T140000
DTSTAMP:20260423T101041
CREATED:20250522T191941Z
LAST-MODIFIED:20250710T145732Z
UID:10023055-1752143400-1752156000@gslcwi.com
SUMMARY:NewBridge Senior Meals
DESCRIPTION:Deenah Givens deenahg@newbridgemadison.org\nJim Krueger jimk@newbridgemadison.org
URL:https://gslcwi.com/event/newbridge-senior-meals-12/
LOCATION:Madison Peterson Hall
END:VEVENT
BEGIN:VEVENT
DTSTART;TZID=America/Chicago:20250710T173000
DTEND;TZID=America/Chicago:20250710T190000
DTSTAMP:20260423T101041
CREATED:20250522T193615Z
LAST-MODIFIED:20250710T145924Z
UID:10023059-1752168600-1752174000@gslcwi.com
SUMMARY:GSLC Food Pantrty
DESCRIPTION:
URL:https://gslcwi.com/event/gslc-food-pantrty-217/
LOCATION:Madison Peterson Hall
END:VEVENT
BEGIN:VEVENT
DTSTART;TZID=America/Chicago:20250710T190000
DTEND;TZID=America/Chicago:20250710T210000
DTSTAMP:20260423T101041
CREATED:20250522T193616Z
LAST-MODIFIED:20250703T154529Z
UID:10023060-1752174000-1752181200@gslcwi.com
SUMMARY:10:00 Worship Band Rehearsal
DESCRIPTION:Tracy Dahl
URL:https://gslcwi.com/event/1000-worship-band-rehearsal-36/
LOCATION:Verona Sanctuary
END:VEVENT
END:VCALENDAR