BEGIN:VCALENDAR
VERSION:2.0
PRODID:-//Good Shepherd Lutheran Church - ECPv6.15.20//NONSGML v1.0//EN
CALSCALE:GREGORIAN
METHOD:PUBLISH
X-ORIGINAL-URL:https://gslcwi.com
X-WR-CALDESC:Events for Good Shepherd Lutheran Church
REFRESH-INTERVAL;VALUE=DURATION:PT1H
X-Robots-Tag:noindex
X-PUBLISHED-TTL:PT1H
BEGIN:VTIMEZONE
TZID:America/Chicago
BEGIN:DAYLIGHT
TZOFFSETFROM:-0600
TZOFFSETTO:-0500
TZNAME:CDT
DTSTART:20240310T080000
END:DAYLIGHT
BEGIN:STANDARD
TZOFFSETFROM:-0500
TZOFFSETTO:-0600
TZNAME:CST
DTSTART:20241103T070000
END:STANDARD
BEGIN:DAYLIGHT
TZOFFSETFROM:-0600
TZOFFSETTO:-0500
TZNAME:CDT
DTSTART:20250309T080000
END:DAYLIGHT
BEGIN:STANDARD
TZOFFSETFROM:-0500
TZOFFSETTO:-0600
TZNAME:CST
DTSTART:20251102T070000
END:STANDARD
BEGIN:DAYLIGHT
TZOFFSETFROM:-0600
TZOFFSETTO:-0500
TZNAME:CDT
DTSTART:20260308T080000
END:DAYLIGHT
BEGIN:STANDARD
TZOFFSETFROM:-0500
TZOFFSETTO:-0600
TZNAME:CST
DTSTART:20261101T070000
END:STANDARD
END:VTIMEZONE
BEGIN:VEVENT
DTSTART;TZID=America/Chicago:20250720T090000
DTEND;TZID=America/Chicago:20250720T100000
DTSTAMP:20260423T100914
CREATED:20240609T130655Z
LAST-MODIFIED:20240926T161612Z
UID:10013791-1753002000-1753005600@gslcwi.com
SUMMARY:9:00 a.m. Worship Service
DESCRIPTION:You’re invited to the intersection of Whitney Way and Raymond Road for a morning of worship with traditional Lutheran textures and rhythms.
URL:https://gslcwi.com/event/900-worship-service-24-13-2-7/2025-07-20/
LOCATION:Madison Sanctuary
CATEGORIES:Worship
ATTACH;FMTTYPE=image/jpeg:https://gslcwi.com/wp-content/uploads/2024/05/9am2.jpg
END:VEVENT
BEGIN:VEVENT
DTSTART;TZID=America/Chicago:20250720T090000
DTEND;TZID=America/Chicago:20250720T100000
DTSTAMP:20260423T100914
CREATED:20250626T173505Z
LAST-MODIFIED:20250717T150854Z
UID:10023272-1753002000-1753005600@gslcwi.com
SUMMARY:Madison Church Service
DESCRIPTION:Pr. Craig
URL:https://gslcwi.com/event/madison-church-service-29/
LOCATION:Madison Sanctuary; Madison Lobby
END:VEVENT
BEGIN:VEVENT
DTSTART;TZID=America/Chicago:20250720T100000
DTEND;TZID=America/Chicago:20250720T110000
DTSTAMP:20260423T100914
CREATED:20240610T203803Z
LAST-MODIFIED:20240610T203803Z
UID:10020181-1753005600-1753009200@gslcwi.com
SUMMARY:10:00 a.m. Worship Service
DESCRIPTION:Join us on County Highway PD in Verona for morning Worship service featuring modern expressions of praise and prayer anchored by foundational traditions.
URL:https://gslcwi.com/event/1000-a-m-worship-service/2025-07-20/
LOCATION:Good Shepherd Verona Campus\, 7291 County Road PD\, Verona\, WI\, 53593\, United States
CATEGORIES:Worship
ATTACH;FMTTYPE=image/jpeg:https://gslcwi.com/wp-content/uploads/2024/06/10_am_worship_verona.jpg
ORGANIZER;CN="Jared Stellmacher":MAILTO:jstellmacher@gslcwi.com
END:VEVENT
BEGIN:VEVENT
DTSTART;TZID=America/Chicago:20250720T100000
DTEND;TZID=America/Chicago:20250720T110000
DTSTAMP:20260423T100914
CREATED:20250626T173505Z
LAST-MODIFIED:20250717T151131Z
UID:10023273-1753005600-1753009200@gslcwi.com
SUMMARY:Verona Worship Service
DESCRIPTION:Pr. Craig
URL:https://gslcwi.com/event/verona-worship-service-29/
LOCATION:Verona Sanctuary; Verona Lobby
END:VEVENT
BEGIN:VEVENT
DTSTART;TZID=America/Chicago:20250720T110000
DTEND;TZID=America/Chicago:20250720T120000
DTSTAMP:20260423T100914
CREATED:20250619T174640Z
LAST-MODIFIED:20250717T210216Z
UID:10023175-1753009200-1753012800@gslcwi.com
SUMMARY:Congregational Life Conversations
DESCRIPTION:Join Pastor Craig today\, July 20 at our Verona Campus\, following the 10 a.m. and 6 p.m. services. We’ll discuss the upcoming Annual Meeting and our finances. You’ll have a chance to share your thoughts and learn more about what’s happening in our church as we continue to grow together.
URL:https://gslcwi.com/event/congregational-life-conversation-8/
LOCATION:Verona Fellowship Hall
ATTACH;FMTTYPE=image/jpeg:https://gslcwi.com/wp-content/uploads/2025/06/CLC-7.20.jpg
END:VEVENT
BEGIN:VEVENT
DTSTART;TZID=America/Chicago:20250720T120000
DTEND;TZID=America/Chicago:20250720T170000
DTSTAMP:20260423T100914
CREATED:20220925T214225Z
LAST-MODIFIED:20230307T202102Z
UID:10017628-1753012800-1753030800@gslcwi.com
SUMMARY:Pickleball
DESCRIPTION:
URL:https://gslcwi.com/event/pickleball-81/2025-07-20/
LOCATION:Verona Gym
CATEGORIES:Sports,Verona Gym
ATTACH;FMTTYPE=image/jpeg:https://gslcwi.com/wp-content/uploads/2023/02/pickleball2-1.jpg
END:VEVENT
BEGIN:VEVENT
DTSTART;TZID=America/Chicago:20250720T130000
DTEND;TZID=America/Chicago:20250720T160000
DTSTAMP:20260423T100914
CREATED:20250529T195118Z
LAST-MODIFIED:20250717T151132Z
UID:10023092-1753016400-1753027200@gslcwi.com
SUMMARY:Iglesia evangelica el remanente
DESCRIPTION:
URL:https://gslcwi.com/event/iglesia-evangelica-el-remanente-256/
LOCATION:Madison Peterson Hall
END:VEVENT
BEGIN:VEVENT
DTSTART;TZID=America/Chicago:20250720T150000
DTEND;TZID=America/Chicago:20250720T173000
DTSTAMP:20260423T100914
CREATED:20250605T192355Z
LAST-MODIFIED:20250717T151131Z
UID:10023106-1753023600-1753032600@gslcwi.com
SUMMARY:Faith of Christ Church
DESCRIPTION:Gorge Garcia\, gorgegarcia613@yahoo.com
URL:https://gslcwi.com/event/faith-of-christ-church-220/
LOCATION:Madison Room 11/The Sheep Fold
END:VEVENT
BEGIN:VEVENT
DTSTART;TZID=America/Chicago:20250720T180000
DTEND;TZID=America/Chicago:20250720T190000
DTSTAMP:20260423T100914
CREATED:20240925T155628Z
LAST-MODIFIED:20240925T155628Z
UID:10021167-1753034400-1753038000@gslcwi.com
SUMMARY:6:00 p.m. Worship Service
DESCRIPTION:A worship service with evening rhythms for song\, prayer\, and reflection rooted in ancient practices and present day cares & concerns.
URL:https://gslcwi.com/event/600-p-m-worship-service/2025-07-20/
LOCATION:Good Shepherd Verona Campus\, 7291 County Road PD\, Verona\, WI\, 53593\, United States
CATEGORIES:Worship
ATTACH;FMTTYPE=image/jpeg:https://gslcwi.com/wp-content/uploads/2024/09/6pmw2-1.jpg
ORGANIZER;CN="Jared Stellmacher":MAILTO:jstellmacher@gslcwi.com
END:VEVENT
BEGIN:VEVENT
DTSTART;TZID=America/Chicago:20250720T180000
DTEND;TZID=America/Chicago:20250720T190000
DTSTAMP:20260423T100914
CREATED:20250717T152457Z
LAST-MODIFIED:20250717T152457Z
UID:10023363-1753034400-1753038000@gslcwi.com
SUMMARY:6:00 Worship Service
DESCRIPTION:________________________________________________________________________________\nMicrosoft Teams Need help?\nJoin the meeting now\nMeeting ID: 242 838 998 615 7\nPasscode: 9VG9JP66\n________________________________\nFor organizers: Meeting options\n________________________________________________________________________________
URL:https://gslcwi.com/event/600-worship-service-27/
LOCATION:Verona Lobby; Verona Sanctuary
END:VEVENT
BEGIN:VEVENT
DTSTART;TZID=America/Chicago:20250720T190000
DTEND;TZID=America/Chicago:20250720T200000
DTSTAMP:20260423T100914
CREATED:20250529T195119Z
LAST-MODIFIED:20250717T152457Z
UID:10023094-1753038000-1753041600@gslcwi.com
SUMMARY:Youth Group
DESCRIPTION:Sarah Iverson
URL:https://gslcwi.com/event/youth-group-87/
LOCATION:Verona Lobby; Verona Coffee Bar; Verona Youth Room
END:VEVENT
BEGIN:VEVENT
DTSTART;TZID=America/Chicago:20250720T190000
DTEND;TZID=America/Chicago:20250720T200000
DTSTAMP:20260423T100914
CREATED:20250619T180039Z
LAST-MODIFIED:20250717T151132Z
UID:10023176-1753038000-1753041600@gslcwi.com
SUMMARY:Congregational Life Conversation
DESCRIPTION:
URL:https://gslcwi.com/event/congregational-life-conversation-9/
LOCATION:Verona Fellowship Hall
END:VEVENT
END:VCALENDAR