BEGIN:VCALENDAR
VERSION:2.0
PRODID:-//Good Shepherd Lutheran Church - ECPv6.15.20//NONSGML v1.0//EN
CALSCALE:GREGORIAN
METHOD:PUBLISH
X-WR-CALNAME:Good Shepherd Lutheran Church
X-ORIGINAL-URL:https://gslcwi.com
X-WR-CALDESC:Events for Good Shepherd Lutheran Church
REFRESH-INTERVAL;VALUE=DURATION:PT1H
X-Robots-Tag:noindex
X-PUBLISHED-TTL:PT1H
BEGIN:VTIMEZONE
TZID:America/Chicago
BEGIN:DAYLIGHT
TZOFFSETFROM:-0600
TZOFFSETTO:-0500
TZNAME:CDT
DTSTART:20240310T080000
END:DAYLIGHT
BEGIN:STANDARD
TZOFFSETFROM:-0500
TZOFFSETTO:-0600
TZNAME:CST
DTSTART:20241103T070000
END:STANDARD
BEGIN:DAYLIGHT
TZOFFSETFROM:-0600
TZOFFSETTO:-0500
TZNAME:CDT
DTSTART:20250309T080000
END:DAYLIGHT
BEGIN:STANDARD
TZOFFSETFROM:-0500
TZOFFSETTO:-0600
TZNAME:CST
DTSTART:20251102T070000
END:STANDARD
BEGIN:DAYLIGHT
TZOFFSETFROM:-0600
TZOFFSETTO:-0500
TZNAME:CDT
DTSTART:20260308T080000
END:DAYLIGHT
BEGIN:STANDARD
TZOFFSETFROM:-0500
TZOFFSETTO:-0600
TZNAME:CST
DTSTART:20261101T070000
END:STANDARD
END:VTIMEZONE
BEGIN:VEVENT
DTSTART;TZID=America/Chicago:20250823T083000
DTEND;TZID=America/Chicago:20250823T093000
DTSTAMP:20260422T234040
CREATED:20220925T214224Z
LAST-MODIFIED:20230921T134939Z
UID:10016465-1755937800-1755941400@gslcwi.com
SUMMARY:Men's Bible Study Zoom
DESCRIPTION:A small group bible study and fellowship group.
URL:https://gslcwi.com/event/mens-bible-study-zoom-74/2025-08-23/
LOCATION:Zoom Meeting
CATEGORIES:Bible Study,Men's Ministry
ORGANIZER;CN="Vern Andren":MAILTO:vwacja12@outlook.com
END:VEVENT
BEGIN:VEVENT
DTSTART;TZID=America/Chicago:20250823T090000
DTEND;TZID=America/Chicago:20250823T110000
DTSTAMP:20260422T234040
CREATED:20250807T212558Z
LAST-MODIFIED:20250822T212942Z
UID:10023493-1755939600-1755946800@gslcwi.com
SUMMARY:Orchard Ridge Workday
DESCRIPTION:Come help prepare Orchard Ridge Elementary School for the upcoming school year on Saturday\, August 23rd from 9:00-11:00 a.m. Be prepared to work outside on the playground and if we have enough projects we may work indoors as well. You can signup to volunteer here: https://www.signupgenius.com/go/9040545AFAC23A0FB6-57554418-love#/
URL:https://gslcwi.com/event/orchard-ridge-workday/
ATTACH;FMTTYPE=image/png:https://gslcwi.com/wp-content/uploads/2025/08/ore-final.png
END:VEVENT
BEGIN:VEVENT
DTSTART;TZID=America/Chicago:20250823T100000
DTEND;TZID=America/Chicago:20250823T140000
DTSTAMP:20260422T234040
CREATED:20250703T200120Z
LAST-MODIFIED:20250823T102450Z
UID:10023329-1755943200-1755957600@gslcwi.com
SUMMARY:Paulson Event
DESCRIPTION:Ruth P ruthepaulson@gmail.com\nRT
URL:https://gslcwi.com/event/paulson-event/
LOCATION:Madison Peterson Hall
END:VEVENT
BEGIN:VEVENT
DTSTART;TZID=America/Chicago:20250823T100000
DTEND;TZID=America/Chicago:20250823T140000
DTSTAMP:20260422T234040
CREATED:20250710T193308Z
LAST-MODIFIED:20250823T102450Z
UID:10023330-1755943200-1755957600@gslcwi.com
SUMMARY:Generous Jalopy Car Show - Madison Campus
DESCRIPTION:Car show at the Madison campus supporting Generous Jalopy. Music\, cars and delicious food from the Holy COW will be dished up. The event runs 10:00-2:00 with food served 11:00-1:00. Proceeds support Generous Jalopy\, a local nonprofit that brokers transportation solutions for people who exemplify resiliency despite adversity.
URL:https://gslcwi.com/event/generous-jalopy-car-show/
LOCATION:Madison Parking Lot
CATEGORIES:Holy COW
ATTACH;FMTTYPE=image/jpeg:https://gslcwi.com/wp-content/uploads/2025/07/EJCS-copy.jpg
END:VEVENT
END:VCALENDAR