BEGIN:VCALENDAR
VERSION:2.0
PRODID:-//Good Shepherd Lutheran Church - ECPv6.15.20//NONSGML v1.0//EN
CALSCALE:GREGORIAN
METHOD:PUBLISH
X-ORIGINAL-URL:https://gslcwi.com
X-WR-CALDESC:Events for Good Shepherd Lutheran Church
REFRESH-INTERVAL;VALUE=DURATION:PT1H
X-Robots-Tag:noindex
X-PUBLISHED-TTL:PT1H
BEGIN:VTIMEZONE
TZID:America/Chicago
BEGIN:DAYLIGHT
TZOFFSETFROM:-0600
TZOFFSETTO:-0500
TZNAME:CDT
DTSTART:20240310T080000
END:DAYLIGHT
BEGIN:STANDARD
TZOFFSETFROM:-0500
TZOFFSETTO:-0600
TZNAME:CST
DTSTART:20241103T070000
END:STANDARD
BEGIN:DAYLIGHT
TZOFFSETFROM:-0600
TZOFFSETTO:-0500
TZNAME:CDT
DTSTART:20250309T080000
END:DAYLIGHT
BEGIN:STANDARD
TZOFFSETFROM:-0500
TZOFFSETTO:-0600
TZNAME:CST
DTSTART:20251102T070000
END:STANDARD
BEGIN:DAYLIGHT
TZOFFSETFROM:-0600
TZOFFSETTO:-0500
TZNAME:CDT
DTSTART:20260308T080000
END:DAYLIGHT
BEGIN:STANDARD
TZOFFSETFROM:-0500
TZOFFSETTO:-0600
TZNAME:CST
DTSTART:20261101T070000
END:STANDARD
END:VTIMEZONE
BEGIN:VEVENT
DTSTART;VALUE=DATE:20250907
DTEND;VALUE=DATE:20250908
DTSTAMP:20260422T061554
CREATED:20250820T190333Z
LAST-MODIFIED:20250820T190333Z
UID:10023537-1757203200-1757289599@gslcwi.com
SUMMARY:God's Work\, Our Hands Sunday
DESCRIPTION:Help Make Back-to-School Kits for Lutheran World Relief\nEducation is one of the strongest tools a community has for breaking the cycle of poverty. Ensuring that girls attend school\, especially in places where their access is deprioritized\, has even stronger results. Lutheran World Relief School Kits contain essential supplies to help children — and in some cases\, adults — continue learning in the face of serious obstacles. That learning leads to a better life for them\, their families and their communities.\nOn September 7\, which is God’s Hands Our Work Sunday\, we will assemble school supply kits at both campuses after worship. At Madison\, we’ll meet in Peterson Hall. In Verona\, we’ll meet in the fellowship hall on the lower level. Our goal is to assemble 100 kits.\n\nWe will begin collecting school supply donations Sunday\, August 24th-Sunday\, September 7th. You can help by purchasing school supplies\, and dropping them off at the collection bins at both campuses.\n\nDonation Needs\nWe are looking to assemble 100 kits. Here’s a look at what is included in one kit:\n\nFOUR 70-sheet notebooks of wide- or college-ruled paper\, approximately 8” x 10 ½”; no loose leaf paper\nONE 30-centimeter ruler\, or a ruler with centimeters on one side and inches on the other\nONE pencil sharpener\nONE pair of blunt scissors (safety scissors with embedded steel blades work well)\nFIVE unsharpened #2 pencils with erasers; secure together with a rubber band\nFIVE black or blue ballpoint pens (no gel ink); secure together with a rubber band\nONE box of 16 or 24 crayons\nONE 2 ½” eraser\n\n\nIf you’re able to buy all or a portion of the contents of one bag\, we’d be so grateful.\nQuestions? Reach out to Ronda Beggs at rbeggs@gslcwi.com
URL:https://gslcwi.com/event/gods-work-our-hands-sunday-2/
LOCATION:Good Shepherd Verona Campus\, 7291 County Road PD\, Verona\, WI\, 53593\, United States
CATEGORIES:Service
ATTACH;FMTTYPE=image/jpeg:https://gslcwi.com/wp-content/uploads/2025/08/GWOH-25-Slide.jpg
ORGANIZER;CN="Dara Schuller-Hanson":MAILTO:dschuller@gslcwi.com
END:VEVENT
BEGIN:VEVENT
DTSTART;TZID=America/Chicago:20250909T183000
DTEND;TZID=America/Chicago:20250909T200000
DTSTAMP:20260422T061554
CREATED:20250820T183450Z
LAST-MODIFIED:20250820T183451Z
UID:10023528-1757442600-1757448000@gslcwi.com
SUMMARY:Bingo Night
DESCRIPTION:Did somebody say BINGO?!\nBINGO-it isn’t just for summer anymore! Come join us on the second Tuesday of the month\, Tuesday\, September 9th at 6:30 p.m. in the Verona lobby for BINGO! Bring your friends and your family and join us for snacks and prizes! We’re going to try and make this a monthly event so help us kick off the first in a series of what we hope to be some good fellowship! All are welcome!
URL:https://gslcwi.com/event/bingo-night/
LOCATION:Good Shepherd Verona Campus\, 7291 County Road PD\, Verona\, WI\, 53593\, United States
CATEGORIES:Community Event
ATTACH;FMTTYPE=image/jpeg:https://gslcwi.com/wp-content/uploads/2025/08/Bingo-Slide-Sep-25.jpg
ORGANIZER;CN="Ronda Beggs":MAILTO:rbeggs@gslcwi.com
END:VEVENT
BEGIN:VEVENT
DTSTART;VALUE=DATE:20250914
DTEND;VALUE=DATE:20250915
DTSTAMP:20260422T061554
CREATED:20250828T013110Z
LAST-MODIFIED:20250908T154846Z
UID:10023578-1757808000-1757894399@gslcwi.com
SUMMARY:Fall Kick-off Sunday & Back-to-School Blessing
DESCRIPTION:When: September 14 following all services        Where: Both Campuses \nJoin us as we celebrate the start of fall programming for children\, youth and families—plus a special back-to-school blessing for students and teachers during each worship service!\n• 9:00 a.m. – Madison: Breakfast following worship\, bounce house\, popcorn and more!\n• 10:00 a.m. – Verona: Hotdog and brat lunch\, inflatable obstacle course\, cotton candy and more!\n• 6:00 p.m. – Verona: Dinner and cotton candy fun! \nBring your family and friends for a day of food\, fun and blessings as we start the new school year together! \n  \nIf you haven’t already\, sign up for Church School for the fall at gslcwi.com/churchschool25
URL:https://gslcwi.com/event/fall-kick-off-sunday-back-to-school-blessing/
CATEGORIES:Children's Ministry
ATTACH;FMTTYPE=image/jpeg:https://gslcwi.com/wp-content/uploads/2025/08/P1199719.jpg
END:VEVENT
END:VCALENDAR