BEGIN:VCALENDAR
VERSION:2.0
PRODID:-//Good Shepherd Lutheran Church - ECPv6.15.20//NONSGML v1.0//EN
CALSCALE:GREGORIAN
METHOD:PUBLISH
X-ORIGINAL-URL:https://gslcwi.com
X-WR-CALDESC:Events for Good Shepherd Lutheran Church
REFRESH-INTERVAL;VALUE=DURATION:PT1H
X-Robots-Tag:noindex
X-PUBLISHED-TTL:PT1H
BEGIN:VTIMEZONE
TZID:America/Chicago
BEGIN:DAYLIGHT
TZOFFSETFROM:-0600
TZOFFSETTO:-0500
TZNAME:CDT
DTSTART:20240310T080000
END:DAYLIGHT
BEGIN:STANDARD
TZOFFSETFROM:-0500
TZOFFSETTO:-0600
TZNAME:CST
DTSTART:20241103T070000
END:STANDARD
BEGIN:DAYLIGHT
TZOFFSETFROM:-0600
TZOFFSETTO:-0500
TZNAME:CDT
DTSTART:20250309T080000
END:DAYLIGHT
BEGIN:STANDARD
TZOFFSETFROM:-0500
TZOFFSETTO:-0600
TZNAME:CST
DTSTART:20251102T070000
END:STANDARD
BEGIN:DAYLIGHT
TZOFFSETFROM:-0600
TZOFFSETTO:-0500
TZNAME:CDT
DTSTART:20260308T080000
END:DAYLIGHT
BEGIN:STANDARD
TZOFFSETFROM:-0500
TZOFFSETTO:-0600
TZNAME:CST
DTSTART:20261101T070000
END:STANDARD
END:VTIMEZONE
BEGIN:VEVENT
DTSTART;TZID=America/Chicago:20251008T070000
DTEND;TZID=America/Chicago:20251008T080000
DTSTAMP:20260419T180812
CREATED:20230228T160601Z
LAST-MODIFIED:20230921T134643Z
UID:10015766-1759906800-1759910400@gslcwi.com
SUMMARY:Wednesday Morning Men's Bible Study
DESCRIPTION:A Weekly Men’s Bible Study that gathers on Zoom.
URL:https://gslcwi.com/event/wednesday-morning-mens-bible-study/2025-10-08/
CATEGORIES:Adult Education,Bible Study,Men's Ministry
ATTACH;FMTTYPE=image/jpeg:https://gslcwi.com/wp-content/uploads/2023/02/fa-barboza-NWoaoMgMiVY-unsplash.jpg
ORGANIZER;CN="Dean Nelson":MAILTO:deanwnelson@gmail.com
END:VEVENT
BEGIN:VEVENT
DTSTART;TZID=America/Chicago:20251008T090000
DTEND;TZID=America/Chicago:20251008T103000
DTSTAMP:20260419T180812
CREATED:20250913T131858Z
LAST-MODIFIED:20251004T111951Z
UID:10023671-1759914000-1759919400@gslcwi.com
SUMMARY:Holy Yoga
DESCRIPTION:Jessie Kleiner\n________________________________________________________________________________\nMicrosoft Teams Need help?\nJoin the meeting now\nMeeting ID: 251 341 639 297\nPasscode: nJ7po7UL\n________________________________\nFor organizers: Meeting options\n________________________________________________________________________________
URL:https://gslcwi.com/event/holy-yoga-163/
LOCATION:Verona Sanctuary
END:VEVENT
BEGIN:VEVENT
DTSTART;TZID=America/Chicago:20251008T120000
DTEND;TZID=America/Chicago:20251008T130000
DTSTAMP:20260419T180812
CREATED:20250830T132037Z
LAST-MODIFIED:20251004T111951Z
UID:10023612-1759924800-1759928400@gslcwi.com
SUMMARY:Bible Study
DESCRIPTION:Robin Kerl\n________________________________________________________________________________\nMicrosoft Teams Need help?\nJoin the meeting now\nMeeting ID: 245 578 165 534 1\nPasscode: BN7Pa9cZ\n________________________________\nFor organizers: Meeting options\n________________________________________________________________________________
URL:https://gslcwi.com/event/bible-study-122/
LOCATION:Madison Good Shepherd Room
END:VEVENT
BEGIN:VEVENT
DTSTART;TZID=America/Chicago:20251008T160000
DTEND;TZID=America/Chicago:20251008T173000
DTSTAMP:20260419T180812
CREATED:20250814T190757Z
LAST-MODIFIED:20251004T111952Z
UID:10023509-1759939200-1759944600@gslcwi.com
SUMMARY:Literacy Network
DESCRIPTION:Bex Fabrizio Bex@litnetwork.org
URL:https://gslcwi.com/event/literacy-network-277/
LOCATION:Madison Good Shepherd Room
END:VEVENT
BEGIN:VEVENT
DTSTART;TZID=America/Chicago:20251008T180000
DTEND;TZID=America/Chicago:20251008T190000
DTSTAMP:20260419T180812
CREATED:20250731T195853Z
LAST-MODIFIED:20251004T112152Z
UID:10023453-1759946400-1759950000@gslcwi.com
SUMMARY:Handbells Rehearsal
DESCRIPTION:
URL:https://gslcwi.com/event/handbells-rehearsal-5/
LOCATION:Madison Sanctuary
END:VEVENT
BEGIN:VEVENT
DTSTART;TZID=America/Chicago:20251008T180000
DTEND;TZID=America/Chicago:20251008T193000
DTSTAMP:20260419T180812
CREATED:20250814T190758Z
LAST-MODIFIED:20251004T111952Z
UID:10023510-1759946400-1759951800@gslcwi.com
SUMMARY:Girl Scouts
DESCRIPTION:Alison Reuschlein Wood alisoninaz@gmail.com
URL:https://gslcwi.com/event/girl-scouts-178/
LOCATION:Madison Room 8
END:VEVENT
BEGIN:VEVENT
DTSTART;TZID=America/Chicago:20251008T181500
DTEND;TZID=America/Chicago:20251008T200000
DTSTAMP:20260419T180812
CREATED:20250906T134103Z
LAST-MODIFIED:20251004T111952Z
UID:10023649-1759947300-1759953600@gslcwi.com
SUMMARY:Amped
DESCRIPTION:
URL:https://gslcwi.com/event/amped-127/
LOCATION:Verona Sanctuary
END:VEVENT
BEGIN:VEVENT
DTSTART;TZID=America/Chicago:20251008T190000
DTEND;TZID=America/Chicago:20251008T203000
DTSTAMP:20260419T180812
CREATED:20250731T195853Z
LAST-MODIFIED:20251004T112152Z
UID:10023454-1759950000-1759955400@gslcwi.com
SUMMARY:Choir Rehearsal
DESCRIPTION:________________________________________________________________________________\nMicrosoft Teams Need help?\nJoin the meeting now\nMeeting ID: 265 704 690 470 7\nPasscode: tZ7zu7FR\n________________________________\nFor organizers: Meeting options\n________________________________________________________________________________
URL:https://gslcwi.com/event/choir-rehearsal-123/
LOCATION:Madison Sanctuary
END:VEVENT
END:VCALENDAR