BEGIN:VCALENDAR
VERSION:2.0
PRODID:-//Good Shepherd Lutheran Church - ECPv6.15.20//NONSGML v1.0//EN
CALSCALE:GREGORIAN
METHOD:PUBLISH
X-ORIGINAL-URL:https://gslcwi.com
X-WR-CALDESC:Events for Good Shepherd Lutheran Church
REFRESH-INTERVAL;VALUE=DURATION:PT1H
X-Robots-Tag:noindex
X-PUBLISHED-TTL:PT1H
BEGIN:VTIMEZONE
TZID:America/Chicago
BEGIN:DAYLIGHT
TZOFFSETFROM:-0600
TZOFFSETTO:-0500
TZNAME:CDT
DTSTART:20240310T080000
END:DAYLIGHT
BEGIN:STANDARD
TZOFFSETFROM:-0500
TZOFFSETTO:-0600
TZNAME:CST
DTSTART:20241103T070000
END:STANDARD
BEGIN:DAYLIGHT
TZOFFSETFROM:-0600
TZOFFSETTO:-0500
TZNAME:CDT
DTSTART:20250309T080000
END:DAYLIGHT
BEGIN:STANDARD
TZOFFSETFROM:-0500
TZOFFSETTO:-0600
TZNAME:CST
DTSTART:20251102T070000
END:STANDARD
BEGIN:DAYLIGHT
TZOFFSETFROM:-0600
TZOFFSETTO:-0500
TZNAME:CDT
DTSTART:20260308T080000
END:DAYLIGHT
BEGIN:STANDARD
TZOFFSETFROM:-0500
TZOFFSETTO:-0600
TZNAME:CST
DTSTART:20261101T070000
END:STANDARD
END:VTIMEZONE
BEGIN:VEVENT
DTSTART;TZID=America/Chicago:20251028T083000
DTEND;TZID=America/Chicago:20251028T093000
DTSTAMP:20260419T103515
CREATED:20250920T153200Z
LAST-MODIFIED:20251025T112824Z
UID:10023703-1761640200-1761643800@gslcwi.com
SUMMARY:Birth to 3 Play Group
DESCRIPTION:See Tracy Gold
URL:https://gslcwi.com/event/birth-to-3-play-group-7/
LOCATION:Verona Gym
END:VEVENT
BEGIN:VEVENT
DTSTART;TZID=America/Chicago:20251028T090000
DTEND;TZID=America/Chicago:20251028T110000
DTSTAMP:20260419T103515
CREATED:20230320T152255Z
LAST-MODIFIED:20230921T134352Z
UID:10014613-1761642000-1761649200@gslcwi.com
SUMMARY:Tuesday Trekkers
DESCRIPTION:Join other GS folks for an hour-long hike\, Tuesdays at 9am.  Meets at different locations around the area\, enjoying fresh air and fellowship.
URL:https://gslcwi.com/event/tuesday-trekkers-8/2025-10-28/
LOCATION:Offsite
CATEGORIES:Adult Education,Fellowship,Sports
ATTACH;FMTTYPE=image/jpeg:https://gslcwi.com/wp-content/uploads/2023/03/trekers720.jpg
ORGANIZER;CN="Diane Hughes":MAILTO:dhhands@sbcglobal.net
END:VEVENT
BEGIN:VEVENT
DTSTART;TZID=America/Chicago:20251028T090000
DTEND;TZID=America/Chicago:20251028T133000
DTSTAMP:20260419T103515
CREATED:20250822T145451Z
LAST-MODIFIED:20251025T111429Z
UID:10023554-1761642000-1761658200@gslcwi.com
SUMMARY:Foot Clinic
DESCRIPTION:Brent / Cheryl Franz 608-598-0494
URL:https://gslcwi.com/event/foot-clinic-56/
LOCATION:Madison Room 6; outreach@gslcwi.com
END:VEVENT
BEGIN:VEVENT
DTSTART;TZID=America/Chicago:20251028T110000
DTEND;TZID=America/Chicago:20251028T120000
DTSTAMP:20260419T103515
CREATED:20250920T154521Z
LAST-MODIFIED:20251025T112824Z
UID:10023704-1761649200-1761652800@gslcwi.com
SUMMARY:Staff Meeting
DESCRIPTION:
URL:https://gslcwi.com/event/staff-meeting-56/
LOCATION:Madison Good Shepherd Room
END:VEVENT
BEGIN:VEVENT
DTSTART;TZID=America/Chicago:20251028T130000
DTEND;TZID=America/Chicago:20251028T150000
DTSTAMP:20260419T103515
CREATED:20250927T150648Z
LAST-MODIFIED:20251025T113011Z
UID:10023720-1761656400-1761663600@gslcwi.com
SUMMARY:Euterpe Music Club
DESCRIPTION:See Jared\n________________________________________________________________________________\nMicrosoft Teams Need help?\nJoin the meeting now\nMeeting ID: 240 959 949 139 9\nPasscode: ms3Rn3qu\n________________________________\nFor organizers: Meeting options\n________________________________________________________________________________
URL:https://gslcwi.com/event/euterpe-music-club-2/
LOCATION:Madison Sanctuary
END:VEVENT
BEGIN:VEVENT
DTSTART;TZID=America/Chicago:20251028T150000
DTEND;TZID=America/Chicago:20251029T090000
DTSTAMP:20260419T103515
CREATED:20250822T145451Z
LAST-MODIFIED:20251025T112824Z
UID:10023555-1761663600-1761728400@gslcwi.com
SUMMARY:Messenger
DESCRIPTION:Judy Hoard
URL:https://gslcwi.com/event/messenger-32/
LOCATION:Madison Good Shepherd Room
END:VEVENT
BEGIN:VEVENT
DTSTART;TZID=America/Chicago:20251028T183000
DTEND;TZID=America/Chicago:20251028T200000
DTSTAMP:20260419T103515
CREATED:20251025T113011Z
LAST-MODIFIED:20251025T113011Z
UID:10023862-1761676200-1761681600@gslcwi.com
SUMMARY:Chosen Film Study
DESCRIPTION:Eric Holmer
URL:https://gslcwi.com/event/chosen-film-study/
LOCATION:Madison Peterson Hall
END:VEVENT
BEGIN:VEVENT
DTSTART;TZID=America/Chicago:20251028T183000
DTEND;TZID=America/Chicago:20251028T200000
DTSTAMP:20260419T103515
CREATED:20251028T180758Z
LAST-MODIFIED:20251028T180759Z
UID:10023770-1761676200-1761681600@gslcwi.com
SUMMARY:The Chosen Season 5
DESCRIPTION:We will meet each week at 6:30 p.m. in Peterson Hall to watch the most recent season of the acclaimed series “The Chosen” – featuring a unique look at the life of Jesus and his ministry. There will also be an option to join each week on Zoom. Contact Eric Holmer with any questions. \n  \nZoom Details:\nTopic: The Chosen | Season 5 Episode 3 \nClick here to join the Zoom meeting!
URL:https://gslcwi.com/event/the-chosen-season-5-3/
LOCATION:Madison Peterson Hall
CATEGORIES:Adult Education,The Chosen
ATTACH;FMTTYPE=image/jpeg:https://gslcwi.com/wp-content/uploads/2025/10/chosen-s5-gathering.jpg
ORGANIZER;CN="Eric Holmer":MAILTO:eholmer@gslcwi.com
END:VEVENT
BEGIN:VEVENT
DTSTART;TZID=America/Chicago:20251028T183000
DTEND;TZID=America/Chicago:20251028T203000
DTSTAMP:20260419T103515
CREATED:20251018T124410Z
LAST-MODIFIED:20251025T112824Z
UID:10023818-1761676200-1761683400@gslcwi.com
SUMMARY:Boy Scouts
DESCRIPTION:Amy Byrnes – Scout Master ajmbyrnes@yahoo.com\nMatt Watrud – Scout Master watrud@uwalumni.com
URL:https://gslcwi.com/event/boy-scouts-249/
LOCATION:Verona Fellowship Hall
END:VEVENT
BEGIN:VEVENT
DTSTART;TZID=America/Chicago:20251028T190000
DTEND;TZID=America/Chicago:20251028T200000
DTSTAMP:20260419T103515
CREATED:20230921T142540Z
LAST-MODIFIED:20230921T152532Z
UID:10016745-1761678000-1761681600@gslcwi.com
SUMMARY:Wine and Word Women's Study
DESCRIPTION:
URL:https://gslcwi.com/event/wine-and-word-womens-study/2025-10-28/
LOCATION:RP Adler’s\, 8202 Watts Rd\, Madison\, WI\, 53711\, United States
CATEGORIES:Bible Study,Women's Ministry
ORGANIZER;CN="Liz Deterding":MAILTO:elizabeth.deterding@gmail.com
END:VEVENT
BEGIN:VEVENT
DTSTART;TZID=America/Chicago:20251028T190000
DTEND;TZID=America/Chicago:20251028T203000
DTSTAMP:20260419T103515
CREATED:20251011T135332Z
LAST-MODIFIED:20251025T113012Z
UID:10023781-1761678000-1761683400@gslcwi.com
SUMMARY:Troup 628 Meeting
DESCRIPTION:Amy Byrnes
URL:https://gslcwi.com/event/troup-628-meeting/
LOCATION:Verona Gym
END:VEVENT
BEGIN:VEVENT
DTSTART;TZID=America/Chicago:20251028T193000
DTEND;TZID=America/Chicago:20251028T210000
DTSTAMP:20260419T103515
CREATED:20250920T154522Z
LAST-MODIFIED:20251025T113011Z
UID:10023705-1761679800-1761685200@gslcwi.com
SUMMARY:AA Meeting
DESCRIPTION:Jenni Nowak jenninowak25@gmail.com\nAlexander: 585.305.3414\nJennifer: 608.515.0697
URL:https://gslcwi.com/event/aa-meeting-178/
LOCATION:Verona Room 6
END:VEVENT
END:VCALENDAR