BEGIN:VCALENDAR
VERSION:2.0
PRODID:-//Good Shepherd Lutheran Church - ECPv6.15.20//NONSGML v1.0//EN
CALSCALE:GREGORIAN
METHOD:PUBLISH
X-WR-CALNAME:Good Shepherd Lutheran Church
X-ORIGINAL-URL:https://gslcwi.com
X-WR-CALDESC:Events for Good Shepherd Lutheran Church
REFRESH-INTERVAL;VALUE=DURATION:PT1H
X-Robots-Tag:noindex
X-PUBLISHED-TTL:PT1H
BEGIN:VTIMEZONE
TZID:America/Chicago
BEGIN:DAYLIGHT
TZOFFSETFROM:-0600
TZOFFSETTO:-0500
TZNAME:CDT
DTSTART:20240310T080000
END:DAYLIGHT
BEGIN:STANDARD
TZOFFSETFROM:-0500
TZOFFSETTO:-0600
TZNAME:CST
DTSTART:20241103T070000
END:STANDARD
BEGIN:DAYLIGHT
TZOFFSETFROM:-0600
TZOFFSETTO:-0500
TZNAME:CDT
DTSTART:20250309T080000
END:DAYLIGHT
BEGIN:STANDARD
TZOFFSETFROM:-0500
TZOFFSETTO:-0600
TZNAME:CST
DTSTART:20251102T070000
END:STANDARD
BEGIN:DAYLIGHT
TZOFFSETFROM:-0600
TZOFFSETTO:-0500
TZNAME:CDT
DTSTART:20260308T080000
END:DAYLIGHT
BEGIN:STANDARD
TZOFFSETFROM:-0500
TZOFFSETTO:-0600
TZNAME:CST
DTSTART:20261101T070000
END:STANDARD
END:VTIMEZONE
BEGIN:VEVENT
DTSTART;TZID=America/Chicago:20251110T083000
DTEND;TZID=America/Chicago:20251110T100000
DTSTAMP:20260425T192649
CREATED:20251011T151600Z
LAST-MODIFIED:20251108T112429Z
UID:10023784-1762763400-1762768800@gslcwi.com
SUMMARY:Clothes Closet Sorters
DESCRIPTION:Courtnety
URL:https://gslcwi.com/event/clothes-closet-sorters-30/
LOCATION:Madison Peterson Hall
END:VEVENT
BEGIN:VEVENT
DTSTART;TZID=America/Chicago:20251110T083000
DTEND;TZID=America/Chicago:20251110T160000
DTSTAMP:20260425T192649
CREATED:20251004T160002Z
LAST-MODIFIED:20251108T112621Z
UID:10023762-1762763400-1762790400@gslcwi.com
SUMMARY:PEO
DESCRIPTION:Susan Arthur\, suebdgr23@hotmail.com\n50 people. Long tables for auction items and round tables with 8 chairs.
URL:https://gslcwi.com/event/peo/
LOCATION:Madison Peterson Hall
END:VEVENT
BEGIN:VEVENT
DTSTART;TZID=America/Chicago:20251110T090000
DTEND;TZID=America/Chicago:20251110T110000
DTSTAMP:20260425T192649
CREATED:20251004T155722Z
LAST-MODIFIED:20251108T112430Z
UID:10023760-1762765200-1762772400@gslcwi.com
SUMMARY:Ruth Circle
DESCRIPTION:Brent / Polly\n________________________________________________________________________________\nMicrosoft Teams Need help?\nJoin the meeting now\nMeeting ID: 231 318 037 012\nPasscode: zkWPHb\n________________________________\nFor organizers: Meeting options\n________________________________________________________________________________
URL:https://gslcwi.com/event/ruth-circle-47/
LOCATION:Madison Good Shepherd Room
END:VEVENT
BEGIN:VEVENT
DTSTART;TZID=America/Chicago:20251110T104500
DTEND;TZID=America/Chicago:20251110T114500
DTSTAMP:20260425T192649
CREATED:20251004T155722Z
LAST-MODIFIED:20251108T112429Z
UID:10023761-1762771500-1762775100@gslcwi.com
SUMMARY:ACM Program Committee
DESCRIPTION:Jared\n________________________________________________________________________________\nMicrosoft Teams Need help?\nJoin the meeting now\nMeeting ID: 246 849 161 092 5\nPasscode: 2RT2793w\n________________________________\nFor organizers: Meeting options\n________________________________________________________________________________
URL:https://gslcwi.com/event/acm-program-committee-16/
LOCATION:Madison Lobby
END:VEVENT
BEGIN:VEVENT
DTSTART;TZID=America/Chicago:20251110T120000
DTEND;TZID=America/Chicago:20251110T130000
DTSTAMP:20260425T192649
CREATED:20251004T160002Z
LAST-MODIFIED:20251108T112430Z
UID:10023763-1762776000-1762779600@gslcwi.com
SUMMARY:ACM Board Meeting
DESCRIPTION:Jared
URL:https://gslcwi.com/event/acm-board-meeting-4/
LOCATION:Madison Good Shepherd Room
END:VEVENT
BEGIN:VEVENT
DTSTART;TZID=America/Chicago:20251110T160000
DTEND;TZID=America/Chicago:20251110T173000
DTSTAMP:20260425T192649
CREATED:20220923T135855Z
LAST-MODIFIED:20230913T194729Z
UID:10015586-1762790400-1762795800@gslcwi.com
SUMMARY:Literacy Network
DESCRIPTION:
URL:https://gslcwi.com/event/literacy-network-40/2025-11-10/
LOCATION:Madison Room 11/The Sheep Fold; Madison Room 9
CATEGORIES:Community Event
END:VEVENT
BEGIN:VEVENT
DTSTART;TZID=America/Chicago:20251110T160000
DTEND;TZID=America/Chicago:20251110T173000
DTSTAMP:20260425T192649
CREATED:20251004T160003Z
LAST-MODIFIED:20251108T112622Z
UID:10023766-1762790400-1762795800@gslcwi.com
SUMMARY:Literacy Network
DESCRIPTION:Bex Fabrizio Bex@litnetwork.org
URL:https://gslcwi.com/event/literacy-network-286/
LOCATION:Madison Good Shepherd Room
END:VEVENT
BEGIN:VEVENT
DTSTART;TZID=America/Chicago:20251110T173000
DTEND;TZID=America/Chicago:20251110T200000
DTSTAMP:20260425T192649
CREATED:20251004T160003Z
LAST-MODIFIED:20251108T112622Z
UID:10023765-1762795800-1762804800@gslcwi.com
SUMMARY:HR Committee
DESCRIPTION:Deni Naumann deninaumann@gmail.com
URL:https://gslcwi.com/event/hr-committee-13/
LOCATION:Madison Room 6
END:VEVENT
BEGIN:VEVENT
DTSTART;TZID=America/Chicago:20251110T180000
DTEND;TZID=America/Chicago:20251110T190000
DTSTAMP:20260425T192649
CREATED:20251004T160003Z
LAST-MODIFIED:20251108T113959Z
UID:10023764-1762797600-1762801200@gslcwi.com
SUMMARY:Webelos
DESCRIPTION:Kyle Davis\, anthem1@gmail.com
URL:https://gslcwi.com/event/webelos-6/
LOCATION:Verona Room 6
END:VEVENT
BEGIN:VEVENT
DTSTART;TZID=America/Chicago:20251110T180000
DTEND;TZID=America/Chicago:20251110T190000
DTSTAMP:20260425T192649
CREATED:20251011T152922Z
LAST-MODIFIED:20251108T112622Z
UID:10023785-1762797600-1762801200@gslcwi.com
SUMMARY:Wolf Den Meeting
DESCRIPTION:Christopher Theisen\, theisen.christopher@gmail.com
URL:https://gslcwi.com/event/wolf-den-meeting-26/
LOCATION:Verona Room 7
END:VEVENT
BEGIN:VEVENT
DTSTART;TZID=America/Chicago:20251110T180000
DTEND;TZID=America/Chicago:20251110T190000
DTSTAMP:20260425T192649
CREATED:20251025T132226Z
LAST-MODIFIED:20251108T112622Z
UID:10023865-1762797600-1762801200@gslcwi.com
SUMMARY:Futsol Practice
DESCRIPTION:Derek McCarty – 608-354-4118
URL:https://gslcwi.com/event/futsol-practice-3/
LOCATION:Verona Gym
END:VEVENT
END:VCALENDAR