BEGIN:VCALENDAR
VERSION:2.0
PRODID:-//Good Shepherd Lutheran Church - ECPv6.15.20//NONSGML v1.0//EN
CALSCALE:GREGORIAN
METHOD:PUBLISH
X-ORIGINAL-URL:https://gslcwi.com
X-WR-CALDESC:Events for Good Shepherd Lutheran Church
REFRESH-INTERVAL;VALUE=DURATION:PT1H
X-Robots-Tag:noindex
X-PUBLISHED-TTL:PT1H
BEGIN:VTIMEZONE
TZID:America/Chicago
BEGIN:DAYLIGHT
TZOFFSETFROM:-0600
TZOFFSETTO:-0500
TZNAME:CDT
DTSTART:20240310T080000
END:DAYLIGHT
BEGIN:STANDARD
TZOFFSETFROM:-0500
TZOFFSETTO:-0600
TZNAME:CST
DTSTART:20241103T070000
END:STANDARD
BEGIN:DAYLIGHT
TZOFFSETFROM:-0600
TZOFFSETTO:-0500
TZNAME:CDT
DTSTART:20250309T080000
END:DAYLIGHT
BEGIN:STANDARD
TZOFFSETFROM:-0500
TZOFFSETTO:-0600
TZNAME:CST
DTSTART:20251102T070000
END:STANDARD
BEGIN:DAYLIGHT
TZOFFSETFROM:-0600
TZOFFSETTO:-0500
TZNAME:CDT
DTSTART:20260308T080000
END:DAYLIGHT
BEGIN:STANDARD
TZOFFSETFROM:-0500
TZOFFSETTO:-0600
TZNAME:CST
DTSTART:20261101T070000
END:STANDARD
END:VTIMEZONE
BEGIN:VEVENT
DTSTART;TZID=America/Chicago:20251103T183000
DTEND;TZID=America/Chicago:20251103T194500
DTSTAMP:20260419T221410
CREATED:20250918T194413Z
LAST-MODIFIED:20251007T152157Z
UID:10023684-1762194600-1762199100@gslcwi.com
SUMMARY:Book Study – Neighborhood Church
DESCRIPTION:When: Mondays\, October 13 – November 3 at 6:30 p.m. Where: Madison Campus \nAll are invited to join a four-week study of Neighborhood Church – Transforming Your Congregation into a Powerhouse for Mission. Together we’ll explore what it means to be a Neighborhood Church and how Good Shepherd can align our ministries with this vision. Sessions meet Mondays\, October 13–November 3\, from 6:30–7:45 p.m. Contact Pastor Dara for more info.
URL:https://gslcwi.com/event/book-study-neighborhood-church/2025-11-03/
LOCATION:Good Shepherd Madison Campus\, 5701 Raymond Road\, Madison\, WI\, 53711\, United States
CATEGORIES:Adult Education,Outreach
ATTACH;FMTTYPE=image/jpeg:https://gslcwi.com/wp-content/uploads/2025/09/Neighborhood-Church-Book.jpg
ORGANIZER;CN="Dara Schuller-Hanson":MAILTO:dschuller@gslcwi.com
END:VEVENT
BEGIN:VEVENT
DTSTART;TZID=America/Chicago:20251104T183000
DTEND;TZID=America/Chicago:20251104T200000
DTSTAMP:20260419T221410
CREATED:20251009T141055Z
LAST-MODIFIED:20251014T185649Z
UID:10023771-1762281000-1762286400@gslcwi.com
SUMMARY:The Chosen Season 5
DESCRIPTION:We will meet each week at 6:30 p.m. in Peterson Hall to watch the most recent season of the acclaimed series “The Chosen” – featuring a unique look at the life of Jesus and his ministry. There will also be an option to join each week on Zoom. Contact Eric Holmer with any questions. \n  \nZoom Details:\nTopic: The Chosen | Season 5\nTime: Oct 14\, 2025 06:30 PM Central Time (US and Canada) \nhttps://us02web.zoom.us/j/83611173422?pwd=9F3rV13tOzHr5aplt168qciJRSk0sd.1 \nMeeting ID: 836 1117 3422\nPasscode: 462234 \n 
URL:https://gslcwi.com/event/the-chosen-season-5/2025-11-04/
LOCATION:Madison Peterson Hall
CATEGORIES:Adult Education,The Chosen
ATTACH;FMTTYPE=image/jpeg:https://gslcwi.com/wp-content/uploads/2025/10/chosen-s5-gathering.jpg
ORGANIZER;CN="Eric Holmer":MAILTO:eholmer@gslcwi.com
END:VEVENT
BEGIN:VEVENT
DTSTART;TZID=America/Chicago:20251105T181500
DTEND;TZID=America/Chicago:20251105T201500
DTSTAMP:20260419T221410
CREATED:20250929T220733Z
LAST-MODIFIED:20251008T135700Z
UID:10023736-1762366500-1762373700@gslcwi.com
SUMMARY:Documentary Screening & Discussion: Screenagers
DESCRIPTION:GROWING UP IN THE DIGITAL AGE\nSCREENAGERS: Growing Up in The Digital Age has been screened more than 8\,000 times to 4 million people in more than 70 countries around the world.. With multiple screenings happening daily in communities across the globe\,  SCREENAGERS is the first feature documentary to explore the impact of screen technology on kids and offer parents and families proven solutions that work. What started out as a personal story for one has grown into a national movement\, helping millions of teens and their families navigate growing up in a world with instant access to screens. \nABOUT THE FILM\nPhysician and filmmaker\, Delaney Ruston decided to make SCREENAGERS when she found herself constantly struggling with her two kids about screen time. Ruston felt guilty and confused\, not sure what limits were best\, especially around mobile phones\, social media\, gaming\, and how to monitor online homework. Hearing repeatedly how other parents were equally overwhelmed\, she realized this is one of the biggest\, unexplored parenting issues of our time. \nAs a director\, Ruston turned the camera on her own family and others—revealing stories of messy struggles over social media\, video games\, academics and internet addiction.  We meet Hannah\, a 14-year old victim of social media bullying who struggled trying to hide her social media use from her mom. And Andrew\, whose love of video games turned into an addiction taking him from earning straight A’s to flunking out of college. \nInterwoven into these stories\, are cutting edge science and insights from thought leaders Peggy Orenstein\, Sherry Turkle\, Simon Sinek\, as well as leading brain scientists who present evidence on the real changes in the brain when kids are on screens. SCREENAGERS goes far beyond exposing the risks of screen time\, it reveals multiple approaches on how parents and educators can work with kids to help them achieve a healthy amount of screen time.
URL:https://gslcwi.com/event/screenagers/
LOCATION:Good Shepherd Verona Campus\, 7291 County Road PD\, Verona\, WI\, 53593\, United States
CATEGORIES:AMPED Confirmation,Community Event,High School
ATTACH;FMTTYPE=image/jpeg:https://gslcwi.com/wp-content/uploads/2025/09/verona-screenagers-graphic.jpg
ORGANIZER;CN="Sarah Iverson":MAILTO:siverson@gslcwi.com
END:VEVENT
BEGIN:VEVENT
DTSTART;TZID=America/Chicago:20251109T110000
DTEND;TZID=America/Chicago:20251109T130000
DTSTAMP:20260419T221410
CREATED:20250929T223814Z
LAST-MODIFIED:20251016T170154Z
UID:10023737-1762686000-1762693200@gslcwi.com
SUMMARY:Screenagers: Elementary Edition | Documentary Screening
DESCRIPTION:Showing of the Screenagers movie for elementary and younger kids!\nThe screening will begin at 11:15 a.m. \nChildcare will be provided! \nAbout the Film\nScreenagers: Elementary School Edition addresses issues that elementary school-aged kids\, parents\, and educators are facing—smartwatches in class\, unhooking from and monitoring video gaming\, social media pressures and exposure too young\, what research shows is a healthy amount of screen time\, and many solutions to these and other challenges. \n\nRegister Here
URL:https://gslcwi.com/event/mini-agers-showing/
LOCATION:Good Shepherd Verona Campus\, 7291 County Road PD\, Verona\, WI\, 53593\, United States
CATEGORIES:Children's Ministry,Community Event
ATTACH;FMTTYPE=image/png:https://gslcwi.com/wp-content/uploads/2025/09/Screenagers-Elementary-Edition-Thumbnail-1080x1920-1.png
ORGANIZER;CN="Sarah Iverson":MAILTO:siverson@gslcwi.com
END:VEVENT
BEGIN:VEVENT
DTSTART;TZID=America/Chicago:20251111T183000
DTEND;TZID=America/Chicago:20251111T200000
DTSTAMP:20260419T221410
CREATED:20251111T164905Z
LAST-MODIFIED:20251111T164945Z
UID:10023772-1762885800-1762891200@gslcwi.com
SUMMARY:The Chosen Season 5
DESCRIPTION:We will meet each week at 6:30 p.m. in Peterson Hall to watch the most recent season of the acclaimed series “The Chosen” – featuring a unique look at the life of Jesus and his ministry. There will also be an option to join each week on Zoom. Contact Eric Holmer with any questions. \n  \nZoom Details:\nhttps://us02web.zoom.us/j/89360421354?pwd=Pab6PWitNZH1zajptbtuUgj99UEf3M.1 \nPlease contact Eric if you have issues with the Zoom link \n 
URL:https://gslcwi.com/event/the-chosen-season-5-4/2025-11-11/
LOCATION:Madison Peterson Hall
CATEGORIES:Adult Education,The Chosen
ATTACH;FMTTYPE=image/jpeg:https://gslcwi.com/wp-content/uploads/2025/10/chosen-s5-gathering.jpg
ORGANIZER;CN="Eric Holmer":MAILTO:eholmer@gslcwi.com
END:VEVENT
BEGIN:VEVENT
DTSTART;TZID=America/Chicago:20251116T111500
DTEND;TZID=America/Chicago:20251116T123000
DTSTAMP:20260419T221410
CREATED:20251030T194102Z
LAST-MODIFIED:20251030T194102Z
UID:10023906-1763291700-1763296200@gslcwi.com
SUMMARY:Responding to Christian Nationalism
DESCRIPTION:What exactly is Christian Nationalism and how do we respond?\nBe a part of this conversation on Sunday\, November 16 after 10:00 a.m. worship in Verona as we welcome Rev. Breanna Illéném the Director of Ecumenical Innovation and Justice Initiatives at the Wisconsin Council of Churches\, to lead a conversation on this movement that has increasingly been in the headlines. \nWe’ll recap some of the conversation that took place at the October adult forum at Madison Campus and hear from Rev. Breana about her work with the WCC and discuss concrete ways we can respond. Refreshments will be provided and the event will be held in the Verona Coffee Area in the main lobby. \nWatch the replay of the October Event\n \n  \nAdditional Resources for the Conversation\n\nA column from Bishop Eaton of the ELCA on Christian Nationalism\nAn article from Christians Against Christian Nationalism on defining what CN is\nA Substack post from Ryan Burge on measuring the prevalence of Christian Nationalism \nFive Elements of Christian Nationalism by Andrew Whitehead
URL:https://gslcwi.com/event/responding-to-christian-nationalism/
LOCATION:Verona Coffee Bar
CATEGORIES:Adult Education
ATTACH;FMTTYPE=image/jpeg:https://gslcwi.com/wp-content/uploads/2025/10/Adult-Bible-Study-CN-2.jpg
ORGANIZER;CN="Eric Holmer":MAILTO:eholmer@gslcwi.com
END:VEVENT
BEGIN:VEVENT
DTSTART;TZID=America/Chicago:20251118T183000
DTEND;TZID=America/Chicago:20251118T200000
DTSTAMP:20260419T221410
CREATED:20251111T164905Z
LAST-MODIFIED:20251111T164945Z
UID:10023773-1763490600-1763496000@gslcwi.com
SUMMARY:The Chosen Season 5
DESCRIPTION:We will meet each week at 6:30 p.m. in Peterson Hall to watch the most recent season of the acclaimed series “The Chosen” – featuring a unique look at the life of Jesus and his ministry. There will also be an option to join each week on Zoom. Contact Eric Holmer with any questions. \n  \nZoom Details:\nhttps://us02web.zoom.us/j/89360421354?pwd=Pab6PWitNZH1zajptbtuUgj99UEf3M.1 \nPlease contact Eric if you have issues with the Zoom link \n 
URL:https://gslcwi.com/event/the-chosen-season-5-4/2025-11-18/
LOCATION:Madison Peterson Hall
CATEGORIES:Adult Education,The Chosen
ATTACH;FMTTYPE=image/jpeg:https://gslcwi.com/wp-content/uploads/2025/10/chosen-s5-gathering.jpg
ORGANIZER;CN="Eric Holmer":MAILTO:eholmer@gslcwi.com
END:VEVENT
BEGIN:VEVENT
DTSTART;TZID=America/Chicago:20251123T100000
DTEND;TZID=America/Chicago:20251123T110000
DTSTAMP:20260419T221410
CREATED:20251113T204511Z
LAST-MODIFIED:20251121T000300Z
UID:10023990-1763892000-1763895600@gslcwi.com
SUMMARY:Advent Wreath Making | Madison Campus
DESCRIPTION:Welcoming the Advent Season\nJoin us following worship to make an Advent wreath for your household! Together we will learn the what\, why\, when and how of the Advent wreath while you make one together with your family. This is a family-friendly event open to everyone ages 1-101! One wreath/household and a suggested donation of  $15/household can be made the day of the event to cover the cost of supplies. You can also make a donation here.
URL:https://gslcwi.com/event/advent-wreath-making-madison-campus/
LOCATION:Good Shepherd Madison Campus\, 5701 Raymond Road\, Madison\, WI\, 53711\, United States
CATEGORIES:Community Event
ATTACH;FMTTYPE=image/jpeg:https://gslcwi.com/wp-content/uploads/2025/11/1080p-Advent-Wreath-Making.jpg
ORGANIZER;CN="Emily Gold":MAILTO:egold@gslcwi.com
END:VEVENT
BEGIN:VEVENT
DTSTART;TZID=America/Chicago:20251123T110000
DTEND;TZID=America/Chicago:20251123T120000
DTSTAMP:20260419T221410
CREATED:20251113T204604Z
LAST-MODIFIED:20251113T204604Z
UID:10023991-1763895600-1763899200@gslcwi.com
SUMMARY:Advent Wreath Making | Verona Campus
DESCRIPTION:Welcoming the Advent Season\nJoin us following worship to make an Advent wreath for your household! Together we will learn the what\, why\, when and how of the Advent wreath while you make one together with your family. This is a family-friendly event open to everyone ages 1-101! One wreath/household and a suggested donation of  $15/household can be made the day of the event to cover the cost of supplies.
URL:https://gslcwi.com/event/advent-wreath-making-verona-campus/
LOCATION:Good Shepherd Verona Campus\, 7291 County Road PD\, Verona\, WI\, 53593\, United States
CATEGORIES:Community Event
ATTACH;FMTTYPE=image/jpeg:https://gslcwi.com/wp-content/uploads/2025/11/1080p-Advent-Wreath-Making.jpg
ORGANIZER;CN="Emily Gold":MAILTO:egold@gslcwi.com
END:VEVENT
BEGIN:VEVENT
DTSTART;TZID=America/Chicago:20251125T183000
DTEND;TZID=America/Chicago:20251125T200000
DTSTAMP:20260419T221410
CREATED:20251111T164905Z
LAST-MODIFIED:20251111T164945Z
UID:10023774-1764095400-1764100800@gslcwi.com
SUMMARY:The Chosen Season 5
DESCRIPTION:We will meet each week at 6:30 p.m. in Peterson Hall to watch the most recent season of the acclaimed series “The Chosen” – featuring a unique look at the life of Jesus and his ministry. There will also be an option to join each week on Zoom. Contact Eric Holmer with any questions. \n  \nZoom Details:\nhttps://us02web.zoom.us/j/89360421354?pwd=Pab6PWitNZH1zajptbtuUgj99UEf3M.1 \nPlease contact Eric if you have issues with the Zoom link \n 
URL:https://gslcwi.com/event/the-chosen-season-5-4/2025-11-25/
LOCATION:Madison Peterson Hall
CATEGORIES:Adult Education,The Chosen
ATTACH;FMTTYPE=image/jpeg:https://gslcwi.com/wp-content/uploads/2025/10/chosen-s5-gathering.jpg
ORGANIZER;CN="Eric Holmer":MAILTO:eholmer@gslcwi.com
END:VEVENT
BEGIN:VEVENT
DTSTART;TZID=America/Chicago:20251130T190000
DTEND;TZID=America/Chicago:20251130T200000
DTSTAMP:20260419T221410
CREATED:20251113T205520Z
LAST-MODIFIED:20251113T205520Z
UID:10023992-1764529200-1764532800@gslcwi.com
SUMMARY:Advent Wreath Making | Verona Campus
DESCRIPTION:Welcoming the Advent Season\nJoin us following worship to make an Advent wreath for your household! Together we will learn the what\, why\, when and how of the Advent wreath while you make one together with your family. This is a family-friendly event open to everyone ages 1-101! One wreath/household and a suggested donation of  $15/household can be made the day of the event to cover the cost of supplies.
URL:https://gslcwi.com/event/advent-wreath-making-verona-campus-2/
LOCATION:Good Shepherd Verona Campus\, 7291 County Road PD\, Verona\, WI\, 53593\, United States
CATEGORIES:Community Event
ATTACH;FMTTYPE=image/jpeg:https://gslcwi.com/wp-content/uploads/2025/11/1080p-Advent-Wreath-Making.jpg
ORGANIZER;CN="Emily Gold":MAILTO:egold@gslcwi.com
END:VEVENT
END:VCALENDAR