BEGIN:VCALENDAR
VERSION:2.0
PRODID:-//Good Shepherd Lutheran Church - ECPv6.15.20//NONSGML v1.0//EN
CALSCALE:GREGORIAN
METHOD:PUBLISH
X-ORIGINAL-URL:https://gslcwi.com
X-WR-CALDESC:Events for Good Shepherd Lutheran Church
REFRESH-INTERVAL;VALUE=DURATION:PT1H
X-Robots-Tag:noindex
X-PUBLISHED-TTL:PT1H
BEGIN:VTIMEZONE
TZID:America/Chicago
BEGIN:DAYLIGHT
TZOFFSETFROM:-0600
TZOFFSETTO:-0500
TZNAME:CDT
DTSTART:20240310T080000
END:DAYLIGHT
BEGIN:STANDARD
TZOFFSETFROM:-0500
TZOFFSETTO:-0600
TZNAME:CST
DTSTART:20241103T070000
END:STANDARD
BEGIN:DAYLIGHT
TZOFFSETFROM:-0600
TZOFFSETTO:-0500
TZNAME:CDT
DTSTART:20250309T080000
END:DAYLIGHT
BEGIN:STANDARD
TZOFFSETFROM:-0500
TZOFFSETTO:-0600
TZNAME:CST
DTSTART:20251102T070000
END:STANDARD
BEGIN:DAYLIGHT
TZOFFSETFROM:-0600
TZOFFSETTO:-0500
TZNAME:CDT
DTSTART:20260308T080000
END:DAYLIGHT
BEGIN:STANDARD
TZOFFSETFROM:-0500
TZOFFSETTO:-0600
TZNAME:CST
DTSTART:20261101T070000
END:STANDARD
END:VTIMEZONE
BEGIN:VEVENT
DTSTART;TZID=America/Chicago:20251217T070000
DTEND;TZID=America/Chicago:20251217T080000
DTSTAMP:20260423T010653
CREATED:20230228T160601Z
LAST-MODIFIED:20230921T134643Z
UID:10015776-1765954800-1765958400@gslcwi.com
SUMMARY:Wednesday Morning Men's Bible Study
DESCRIPTION:A Weekly Men’s Bible Study that gathers on Zoom.
URL:https://gslcwi.com/event/wednesday-morning-mens-bible-study/2025-12-17/
CATEGORIES:Adult Education,Bible Study,Men's Ministry
ATTACH;FMTTYPE=image/jpeg:https://gslcwi.com/wp-content/uploads/2023/02/fa-barboza-NWoaoMgMiVY-unsplash.jpg
ORGANIZER;CN="Dean Nelson":MAILTO:deanwnelson@gmail.com
END:VEVENT
BEGIN:VEVENT
DTSTART;TZID=America/Chicago:20251217T080000
DTEND;TZID=America/Chicago:20251217T120000
DTSTAMP:20260423T010653
CREATED:20251122T151920Z
LAST-MODIFIED:20251213T121941Z
UID:10024060-1765958400-1765972800@gslcwi.com
SUMMARY:Preschool Event
DESCRIPTION:________________________________________________________________________________\nMicrosoft Teams Need help?\nJoin the meeting now\nMeeting ID: 292 267 354 923 86\nPasscode: ZL6Dv7S4\n________________________________\nFor organizers: Meeting options\n________________________________________________________________________________
URL:https://gslcwi.com/event/preschool-event-2/
LOCATION:Verona Coffee Bar
END:VEVENT
BEGIN:VEVENT
DTSTART;TZID=America/Chicago:20251217T090000
DTEND;TZID=America/Chicago:20251217T103000
DTSTAMP:20260423T010653
CREATED:20251115T161043Z
LAST-MODIFIED:20251115T161043Z
UID:10024028-1765962000-1765967400@gslcwi.com
SUMMARY:Holy Yoga
DESCRIPTION:Jessie Kleiner\n________________________________________________________________________________\nMicrosoft Teams Need help?\nJoin the meeting now\nMeeting ID: 251 341 639 297\nPasscode: nJ7po7UL\n________________________________\nFor organizers: Meeting options\n________________________________________________________________________________
URL:https://gslcwi.com/event/holy-yoga-173/
LOCATION:Verona Sanctuary
END:VEVENT
BEGIN:VEVENT
DTSTART;TZID=America/Chicago:20251217T090000
DTEND;TZID=America/Chicago:20251217T103000
DTSTAMP:20260423T010653
CREATED:20251122T151919Z
LAST-MODIFIED:20251213T121941Z
UID:10024059-1765962000-1765967400@gslcwi.com
SUMMARY:Holy Yoga
DESCRIPTION:Jessie Kleiner\n________________________________________________________________________________\nMicrosoft Teams Need help?\nJoin the meeting now\nMeeting ID: 251 341 639 297\nPasscode: nJ7po7UL\n________________________________\nFor organizers: Meeting options\n________________________________________________________________________________
URL:https://gslcwi.com/event/holy-yoga-174/
LOCATION:Verona Sanctuary
END:VEVENT
BEGIN:VEVENT
DTSTART;TZID=America/Chicago:20251217T103000
DTEND;TZID=America/Chicago:20251217T113000
DTSTAMP:20260423T010653
CREATED:20251122T151920Z
LAST-MODIFIED:20251213T121941Z
UID:10024061-1765967400-1765971000@gslcwi.com
SUMMARY:Preschool Christmas Celebration
DESCRIPTION:Kelly  – kmadden@gslcwi.com\n________________________________________________________________________________\nMicrosoft Teams Need help?\nJoin the meeting now\nMeeting ID: 218 844 709 932 41\nPasscode: UN9XT94C\n________________________________\nFor organizers: Meeting options\n________________________________________________________________________________
URL:https://gslcwi.com/event/preschool-christmas-celebration-2/
LOCATION:Verona Sanctuary; Verona Coffee Bar
END:VEVENT
BEGIN:VEVENT
DTSTART;TZID=America/Chicago:20251217T120000
DTEND;TZID=America/Chicago:20251217T130000
DTSTAMP:20260423T010653
CREATED:20251115T161044Z
LAST-MODIFIED:20251213T121941Z
UID:10024029-1765972800-1765976400@gslcwi.com
SUMMARY:Bible Study
DESCRIPTION:Robin Kerl\n________________________________________________________________________________\nMicrosoft Teams Need help?\nJoin the meeting now\nMeeting ID: 245 578 165 534 1\nPasscode: BN7Pa9cZ\n________________________________\nFor organizers: Meeting options\n________________________________________________________________________________
URL:https://gslcwi.com/event/bible-study-132/
LOCATION:Madison Good Shepherd Room
END:VEVENT
BEGIN:VEVENT
DTSTART;TZID=America/Chicago:20251217T170000
DTEND;TZID=America/Chicago:20251217T190000
DTSTAMP:20260423T010653
CREATED:20251115T161324Z
LAST-MODIFIED:20251213T121942Z
UID:10024030-1765990800-1765998000@gslcwi.com
SUMMARY:Community Meal
DESCRIPTION:Sheray Wallace sheraywallace44@gmail.com
URL:https://gslcwi.com/event/community-meal-11/
LOCATION:Madison Peterson Hall; Madison Kitchen
END:VEVENT
BEGIN:VEVENT
DTSTART;TZID=America/Chicago:20251217T180000
DTEND;TZID=America/Chicago:20251217T190000
DTSTAMP:20260423T010653
CREATED:20251115T161325Z
LAST-MODIFIED:20251213T122219Z
UID:10024033-1765994400-1765998000@gslcwi.com
SUMMARY:Handbells Rehearsal
DESCRIPTION:
URL:https://gslcwi.com/event/handbells-rehearsal-14/
LOCATION:Madison Sanctuary
END:VEVENT
BEGIN:VEVENT
DTSTART;TZID=America/Chicago:20251217T180000
DTEND;TZID=America/Chicago:20251217T193000
DTSTAMP:20260423T010653
CREATED:20251115T161325Z
LAST-MODIFIED:20251213T122219Z
UID:10024034-1765994400-1765999800@gslcwi.com
SUMMARY:Girl Scouts
DESCRIPTION:Alison Reuschlein Wood alisoninaz@gmail.com
URL:https://gslcwi.com/event/girl-scouts-205/
LOCATION:Madison Room 8
END:VEVENT
BEGIN:VEVENT
DTSTART;TZID=America/Chicago:20251217T181500
DTEND;TZID=America/Chicago:20251217T200000
DTSTAMP:20260423T010653
CREATED:20251115T161325Z
LAST-MODIFIED:20251213T122219Z
UID:10024031-1765995300-1766001600@gslcwi.com
SUMMARY:Amped - Christmas Party
DESCRIPTION:
URL:https://gslcwi.com/event/amped-christmas-party/
LOCATION:Verona Sanctuary
END:VEVENT
BEGIN:VEVENT
DTSTART;TZID=America/Chicago:20251217T181500
DTEND;TZID=America/Chicago:20251217T200000
DTSTAMP:20260423T010653
CREATED:20251115T162717Z
LAST-MODIFIED:20251115T162717Z
UID:10024035-1765995300-1766001600@gslcwi.com
SUMMARY:Amped Christmas Party
DESCRIPTION:
URL:https://gslcwi.com/event/amped-christmas-party-2/
LOCATION:Verona Campus\, 7291 County Rd PD\, Verona\, WI\, 53593\, United States
END:VEVENT
BEGIN:VEVENT
DTSTART;TZID=America/Chicago:20251217T181500
DTEND;TZID=America/Chicago:20251217T200000
DTSTAMP:20260423T010653
CREATED:20251125T152836Z
LAST-MODIFIED:20251125T152836Z
UID:10024093-1765995300-1766001600@gslcwi.com
SUMMARY:AMPED Christmas Party
DESCRIPTION:In lieu of regular AMPED programming… it’s the AMPED Christmas Party! Get ready for fun holiday-themed snacks and activities with your fellow AMPED classmates.
URL:https://gslcwi.com/event/amped-christmas-party-3/
LOCATION:Good Shepherd Verona Campus\, 7291 County Road PD\, Verona\, WI\, 53593\, United States
CATEGORIES:AMPED Confirmation,Middle School
ATTACH;FMTTYPE=image/webp:https://gslcwi.com/wp-content/uploads/2025/11/Christmas-Party.webp
ORGANIZER;CN="Sarah Iverson":MAILTO:siverson@gslcwi.com
END:VEVENT
BEGIN:VEVENT
DTSTART;TZID=America/Chicago:20251217T183000
DTEND;TZID=America/Chicago:20251217T200000
DTSTAMP:20260423T010653
CREATED:20251115T162717Z
LAST-MODIFIED:20251213T122219Z
UID:10024036-1765996200-1766001600@gslcwi.com
SUMMARY:Madison Achiever's Toastmaster Club
DESCRIPTION:Steve Czarniak sczarniakmn@gmail.com\nSean Bode 608-335-0435
URL:https://gslcwi.com/event/madison-achievers-toastmaster-club-63/
LOCATION:Madison Good Shepherd Room
END:VEVENT
BEGIN:VEVENT
DTSTART;TZID=America/Chicago:20251217T190000
DTEND;TZID=America/Chicago:20251217T203000
DTSTAMP:20260423T010653
CREATED:20251115T161325Z
LAST-MODIFIED:20251213T122219Z
UID:10024032-1765998000-1766003400@gslcwi.com
SUMMARY:Choir Rehearsal
DESCRIPTION:________________________________________________________________________________\nMicrosoft Teams Need help?\nJoin the meeting now\nMeeting ID: 265 704 690 470 7\nPasscode: tZ7zu7FR\n________________________________\nFor organizers: Meeting options\n________________________________________________________________________________
URL:https://gslcwi.com/event/choir-rehearsal-132/
LOCATION:Madison Sanctuary
END:VEVENT
END:VCALENDAR