BEGIN:VCALENDAR
VERSION:2.0
PRODID:-//Good Shepherd Lutheran Church - ECPv6.15.20//NONSGML v1.0//EN
CALSCALE:GREGORIAN
METHOD:PUBLISH
X-ORIGINAL-URL:https://gslcwi.com
X-WR-CALDESC:Events for Good Shepherd Lutheran Church
REFRESH-INTERVAL;VALUE=DURATION:PT1H
X-Robots-Tag:noindex
X-PUBLISHED-TTL:PT1H
BEGIN:VTIMEZONE
TZID:America/Chicago
BEGIN:DAYLIGHT
TZOFFSETFROM:-0600
TZOFFSETTO:-0500
TZNAME:CDT
DTSTART:20250309T080000
END:DAYLIGHT
BEGIN:STANDARD
TZOFFSETFROM:-0500
TZOFFSETTO:-0600
TZNAME:CST
DTSTART:20251102T070000
END:STANDARD
BEGIN:DAYLIGHT
TZOFFSETFROM:-0600
TZOFFSETTO:-0500
TZNAME:CDT
DTSTART:20260308T080000
END:DAYLIGHT
BEGIN:STANDARD
TZOFFSETFROM:-0500
TZOFFSETTO:-0600
TZNAME:CST
DTSTART:20261101T070000
END:STANDARD
BEGIN:DAYLIGHT
TZOFFSETFROM:-0600
TZOFFSETTO:-0500
TZNAME:CDT
DTSTART:20270314T080000
END:DAYLIGHT
BEGIN:STANDARD
TZOFFSETFROM:-0500
TZOFFSETTO:-0600
TZNAME:CST
DTSTART:20271107T070000
END:STANDARD
END:VTIMEZONE
BEGIN:VEVENT
DTSTART;TZID=America/Chicago:20260114T070000
DTEND;TZID=America/Chicago:20260114T080000
DTSTAMP:20260419T121116
CREATED:20230228T160601Z
LAST-MODIFIED:20230921T134643Z
UID:10015780-1768374000-1768377600@gslcwi.com
SUMMARY:Wednesday Morning Men's Bible Study
DESCRIPTION:A Weekly Men’s Bible Study that gathers on Zoom.
URL:https://gslcwi.com/event/wednesday-morning-mens-bible-study/2026-01-14/
CATEGORIES:Adult Education,Bible Study,Men's Ministry
ATTACH;FMTTYPE=image/jpeg:https://gslcwi.com/wp-content/uploads/2023/02/fa-barboza-NWoaoMgMiVY-unsplash.jpg
ORGANIZER;CN="Dean Nelson":MAILTO:deanwnelson@gmail.com
END:VEVENT
BEGIN:VEVENT
DTSTART;TZID=America/Chicago:20260114T120000
DTEND;TZID=America/Chicago:20260114T130000
DTSTAMP:20260419T121116
CREATED:20251206T162818Z
LAST-MODIFIED:20260110T124009Z
UID:10024171-1768392000-1768395600@gslcwi.com
SUMMARY:Bible Study
DESCRIPTION:Robin Kerl\n________________________________________________________________________________\nMicrosoft Teams Need help?\nJoin the meeting now\nMeeting ID: 245 578 165 534 1\nPasscode: BN7Pa9cZ\n________________________________\nFor organizers: Meeting options\n________________________________________________________________________________
URL:https://gslcwi.com/event/bible-study-136/
LOCATION:Madison Good Shepherd Room
END:VEVENT
BEGIN:VEVENT
DTSTART;TZID=America/Chicago:20260114T180000
DTEND;TZID=America/Chicago:20260114T190000
DTSTAMP:20260419T121116
CREATED:20251206T162819Z
LAST-MODIFIED:20260110T125323Z
UID:10024172-1768413600-1768417200@gslcwi.com
SUMMARY:Handbells Rehearsal
DESCRIPTION:
URL:https://gslcwi.com/event/handbells-rehearsal-16/
LOCATION:Madison Sanctuary
END:VEVENT
BEGIN:VEVENT
DTSTART;TZID=America/Chicago:20260114T180000
DTEND;TZID=America/Chicago:20260114T193000
DTSTAMP:20260419T121116
CREATED:20251206T162819Z
LAST-MODIFIED:20260110T125322Z
UID:10024174-1768413600-1768419000@gslcwi.com
SUMMARY:Girl Scouts
DESCRIPTION:Alison Reuschlein Wood alisoninaz@gmail.com
URL:https://gslcwi.com/event/girl-scouts-213/
LOCATION:Madison Room 8
END:VEVENT
BEGIN:VEVENT
DTSTART;TZID=America/Chicago:20260114T181500
DTEND;TZID=America/Chicago:20260114T200000
DTSTAMP:20260419T121116
CREATED:20260110T125322Z
LAST-MODIFIED:20260110T125322Z
UID:10024424-1768414500-1768420800@gslcwi.com
SUMMARY:Amped
DESCRIPTION:________________________________________________________________________________\nMicrosoft Teams Need help?\nJoin the meeting now\nMeeting ID: 274 624 423 337 40\nPasscode: BQ75Wo3m\n________________________________\nFor organizers: Meeting options\n________________________________________________________________________________
URL:https://gslcwi.com/event/amped-136/
LOCATION:Verona Sanctuary
END:VEVENT
BEGIN:VEVENT
DTSTART;TZID=America/Chicago:20260114T190000
DTEND;TZID=America/Chicago:20260114T203000
DTSTAMP:20260419T121116
CREATED:20251206T162819Z
LAST-MODIFIED:20260110T125323Z
UID:10024173-1768417200-1768422600@gslcwi.com
SUMMARY:Choir Rehearsal
DESCRIPTION:________________________________________________________________________________\nMicrosoft Teams Need help?\nJoin the meeting now\nMeeting ID: 265 704 690 470 7\nPasscode: tZ7zu7FR\n________________________________\nFor organizers: Meeting options\n________________________________________________________________________________
URL:https://gslcwi.com/event/choir-rehearsal-134/
LOCATION:Madison Sanctuary
END:VEVENT
END:VCALENDAR