BEGIN:VCALENDAR
VERSION:2.0
PRODID:-//Good Shepherd Lutheran Church - ECPv6.15.20//NONSGML v1.0//EN
CALSCALE:GREGORIAN
METHOD:PUBLISH
X-ORIGINAL-URL:https://gslcwi.com
X-WR-CALDESC:Events for Good Shepherd Lutheran Church
REFRESH-INTERVAL;VALUE=DURATION:PT1H
X-Robots-Tag:noindex
X-PUBLISHED-TTL:PT1H
BEGIN:VTIMEZONE
TZID:America/Chicago
BEGIN:DAYLIGHT
TZOFFSETFROM:-0600
TZOFFSETTO:-0500
TZNAME:CDT
DTSTART:20250309T080000
END:DAYLIGHT
BEGIN:STANDARD
TZOFFSETFROM:-0500
TZOFFSETTO:-0600
TZNAME:CST
DTSTART:20251102T070000
END:STANDARD
BEGIN:DAYLIGHT
TZOFFSETFROM:-0600
TZOFFSETTO:-0500
TZNAME:CDT
DTSTART:20260308T080000
END:DAYLIGHT
BEGIN:STANDARD
TZOFFSETFROM:-0500
TZOFFSETTO:-0600
TZNAME:CST
DTSTART:20261101T070000
END:STANDARD
BEGIN:DAYLIGHT
TZOFFSETFROM:-0600
TZOFFSETTO:-0500
TZNAME:CDT
DTSTART:20270314T080000
END:DAYLIGHT
BEGIN:STANDARD
TZOFFSETFROM:-0500
TZOFFSETTO:-0600
TZNAME:CST
DTSTART:20271107T070000
END:STANDARD
END:VTIMEZONE
BEGIN:VEVENT
DTSTART;TZID=America/Chicago:20260121T070000
DTEND;TZID=America/Chicago:20260121T080000
DTSTAMP:20260423T101817
CREATED:20230228T160601Z
LAST-MODIFIED:20230921T134643Z
UID:10015781-1768978800-1768982400@gslcwi.com
SUMMARY:Wednesday Morning Men's Bible Study
DESCRIPTION:A Weekly Men’s Bible Study that gathers on Zoom.
URL:https://gslcwi.com/event/wednesday-morning-mens-bible-study/2026-01-21/
CATEGORIES:Adult Education,Bible Study,Men's Ministry
ATTACH;FMTTYPE=image/jpeg:https://gslcwi.com/wp-content/uploads/2023/02/fa-barboza-NWoaoMgMiVY-unsplash.jpg
ORGANIZER;CN="Dean Nelson":MAILTO:deanwnelson@gmail.com
END:VEVENT
BEGIN:VEVENT
DTSTART;TZID=America/Chicago:20260121T090000
DTEND;TZID=America/Chicago:20260121T100000
DTSTAMP:20260423T101817
CREATED:20260117T123304Z
LAST-MODIFIED:20260117T123304Z
UID:10024466-1768986000-1768989600@gslcwi.com
SUMMARY:Holy Yoga
DESCRIPTION:Jessie Kleiner kleiner.jessie@gmail.com
URL:https://gslcwi.com/event/holy-yoga-175/
LOCATION:Verona Sanctuary
END:VEVENT
BEGIN:VEVENT
DTSTART;TZID=America/Chicago:20260121T120000
DTEND;TZID=America/Chicago:20260121T130000
DTSTAMP:20260423T101817
CREATED:20251213T162401Z
LAST-MODIFIED:20260117T124622Z
UID:10024217-1768996800-1769000400@gslcwi.com
SUMMARY:Bible Study
DESCRIPTION:Robin Kerl\n________________________________________________________________________________\nMicrosoft Teams Need help?\nJoin the meeting now\nMeeting ID: 245 578 165 534 1\nPasscode: BN7Pa9cZ\n________________________________\nFor organizers: Meeting options\n________________________________________________________________________________
URL:https://gslcwi.com/event/bible-study-137/
LOCATION:Madison Good Shepherd Room
END:VEVENT
BEGIN:VEVENT
DTSTART;TZID=America/Chicago:20260121T160000
DTEND;TZID=America/Chicago:20260121T173000
DTSTAMP:20260423T101817
CREATED:20251213T162402Z
LAST-MODIFIED:20260117T124623Z
UID:10024218-1769011200-1769016600@gslcwi.com
SUMMARY:Literacy Network
DESCRIPTION:Bex Fabrizio Bex@litnetwork.org
URL:https://gslcwi.com/event/literacy-network-295/
LOCATION:Madison Good Shepherd Room
END:VEVENT
BEGIN:VEVENT
DTSTART;TZID=America/Chicago:20260121T180000
DTEND;TZID=America/Chicago:20260121T190000
DTSTAMP:20260423T101817
CREATED:20251213T162403Z
LAST-MODIFIED:20260117T124624Z
UID:10024220-1769018400-1769022000@gslcwi.com
SUMMARY:Handbells Rehearsal
DESCRIPTION:
URL:https://gslcwi.com/event/handbells-rehearsal-17/
LOCATION:Madison Sanctuary
END:VEVENT
BEGIN:VEVENT
DTSTART;TZID=America/Chicago:20260121T181500
DTEND;TZID=America/Chicago:20260121T200000
DTSTAMP:20260423T101817
CREATED:20260110T134149Z
LAST-MODIFIED:20260117T124908Z
UID:10024427-1769019300-1769025600@gslcwi.com
SUMMARY:Amped
DESCRIPTION:________________________________________________________________________________\nMicrosoft Teams Need help?\nJoin the meeting now\nMeeting ID: 274 624 423 337 40\nPasscode: BQ75Wo3m\n________________________________\nFor organizers: Meeting options\n________________________________________________________________________________
URL:https://gslcwi.com/event/amped-137/
LOCATION:Verona Sanctuary
END:VEVENT
BEGIN:VEVENT
DTSTART;TZID=America/Chicago:20260121T183000
DTEND;TZID=America/Chicago:20260121T200000
DTSTAMP:20260423T101817
CREATED:20251213T162404Z
LAST-MODIFIED:20260117T124907Z
UID:10024221-1769020200-1769025600@gslcwi.com
SUMMARY:Madison Achiever's Toastmaster Club
DESCRIPTION:Steve Czarniak sczarniakmn@gmail.com\nSean Bode 608-335-0435
URL:https://gslcwi.com/event/madison-achievers-toastmaster-club-65/
LOCATION:Madison Good Shepherd Room
END:VEVENT
BEGIN:VEVENT
DTSTART;TZID=America/Chicago:20260121T190000
DTEND;TZID=America/Chicago:20260121T203000
DTSTAMP:20260423T101817
CREATED:20251213T162403Z
LAST-MODIFIED:20260117T124623Z
UID:10024219-1769022000-1769027400@gslcwi.com
SUMMARY:Choir Rehearsal
DESCRIPTION:________________________________________________________________________________\nMicrosoft Teams Need help?\nJoin the meeting now\nMeeting ID: 265 704 690 470 7\nPasscode: tZ7zu7FR\n________________________________\nFor organizers: Meeting options\n________________________________________________________________________________
URL:https://gslcwi.com/event/choir-rehearsal-135/
LOCATION:Madison Sanctuary
END:VEVENT
END:VCALENDAR