BEGIN:VCALENDAR
VERSION:2.0
PRODID:-//Good Shepherd Lutheran Church - ECPv6.15.20//NONSGML v1.0//EN
CALSCALE:GREGORIAN
METHOD:PUBLISH
X-WR-CALNAME:Good Shepherd Lutheran Church
X-ORIGINAL-URL:https://gslcwi.com
X-WR-CALDESC:Events for Good Shepherd Lutheran Church
REFRESH-INTERVAL;VALUE=DURATION:PT1H
X-Robots-Tag:noindex
X-PUBLISHED-TTL:PT1H
BEGIN:VTIMEZONE
TZID:America/Chicago
BEGIN:DAYLIGHT
TZOFFSETFROM:-0600
TZOFFSETTO:-0500
TZNAME:CDT
DTSTART:20250309T080000
END:DAYLIGHT
BEGIN:STANDARD
TZOFFSETFROM:-0500
TZOFFSETTO:-0600
TZNAME:CST
DTSTART:20251102T070000
END:STANDARD
BEGIN:DAYLIGHT
TZOFFSETFROM:-0600
TZOFFSETTO:-0500
TZNAME:CDT
DTSTART:20260308T080000
END:DAYLIGHT
BEGIN:STANDARD
TZOFFSETFROM:-0500
TZOFFSETTO:-0600
TZNAME:CST
DTSTART:20261101T070000
END:STANDARD
BEGIN:DAYLIGHT
TZOFFSETFROM:-0600
TZOFFSETTO:-0500
TZNAME:CDT
DTSTART:20270314T080000
END:DAYLIGHT
BEGIN:STANDARD
TZOFFSETFROM:-0500
TZOFFSETTO:-0600
TZNAME:CST
DTSTART:20271107T070000
END:STANDARD
END:VTIMEZONE
BEGIN:VEVENT
DTSTART;TZID=America/Chicago:20260217T070000
DTEND;TZID=America/Chicago:20260217T200000
DTSTAMP:20260423T040839
CREATED:20260131T150928Z
LAST-MODIFIED:20260214T125027Z
UID:10025191-1771311600-1771358400@gslcwi.com
SUMMARY:Spring Primary Election
DESCRIPTION:RT
URL:https://gslcwi.com/event/tentative-spring-primary-election/
LOCATION:Madison Lobby; Verona Lobby
END:VEVENT
BEGIN:VEVENT
DTSTART;TZID=America/Chicago:20260217T070000
DTEND;TZID=America/Chicago:20260217T200000
DTSTAMP:20260423T040839
CREATED:20260207T141225Z
LAST-MODIFIED:20260214T125028Z
UID:10025292-1771311600-1771358400@gslcwi.com
SUMMARY:Spring Primary Election
DESCRIPTION:RT
URL:https://gslcwi.com/event/spring-primary-election-2/
LOCATION:Verona Lobby; Verona Coffee Bar
END:VEVENT
BEGIN:VEVENT
DTSTART;TZID=America/Chicago:20260217T083000
DTEND;TZID=America/Chicago:20260217T093000
DTSTAMP:20260423T040839
CREATED:20260117T163317Z
LAST-MODIFIED:20260214T124620Z
UID:10024476-1771317000-1771320600@gslcwi.com
SUMMARY:Birth to 3 Play Group
DESCRIPTION:See Tracy Gold
URL:https://gslcwi.com/event/birth-to-3-play-group-23/
LOCATION:Verona Gym
END:VEVENT
BEGIN:VEVENT
DTSTART;TZID=America/Chicago:20260217T090000
DTEND;TZID=America/Chicago:20260217T110000
DTSTAMP:20260423T040839
CREATED:20230320T152255Z
LAST-MODIFIED:20230921T134352Z
UID:10014629-1771318800-1771326000@gslcwi.com
SUMMARY:Tuesday Trekkers
DESCRIPTION:Join other GS folks for an hour-long hike\, Tuesdays at 9am.  Meets at different locations around the area\, enjoying fresh air and fellowship.
URL:https://gslcwi.com/event/tuesday-trekkers-8/2026-02-17/
LOCATION:Offsite
CATEGORIES:Adult Education,Fellowship,Sports
ATTACH;FMTTYPE=image/jpeg:https://gslcwi.com/wp-content/uploads/2023/03/trekers720.jpg
ORGANIZER;CN="Diane Hughes":MAILTO:dhhands@sbcglobal.net
END:VEVENT
BEGIN:VEVENT
DTSTART;TZID=America/Chicago:20260217T110000
DTEND;TZID=America/Chicago:20260217T120000
DTSTAMP:20260423T040839
CREATED:20260117T163317Z
LAST-MODIFIED:20260214T124620Z
UID:10024477-1771326000-1771329600@gslcwi.com
SUMMARY:Staff Meeting
DESCRIPTION:
URL:https://gslcwi.com/event/staff-meeting-71/
LOCATION:Madison Good Shepherd Room
END:VEVENT
BEGIN:VEVENT
DTSTART;TZID=America/Chicago:20260217T173000
DTEND;TZID=America/Chicago:20260217T193000
DTSTAMP:20260423T040839
CREATED:20260131T145429Z
LAST-MODIFIED:20260214T124620Z
UID:10025190-1771349400-1771356600@gslcwi.com
SUMMARY:Shrove Tuesday Pancake Dinner
DESCRIPTION:All are invited on Tuesday\, February 17th from 5:30-7:00 p.m. in Peterson Hall at the Madison campus of Good Shepherd for the annual Shrove Tuesday meal of pancakes and bacon.\nThe meal is open to all and is a free-will donation event.
URL:https://gslcwi.com/event/shrove-tuesday-pancake-dinner-2026/
LOCATION:Madison Peterson Hall
CATEGORIES:Community Event
ATTACH;FMTTYPE=image/jpeg:https://gslcwi.com/wp-content/uploads/2026/01/Shrove-Tuesday-2026-new.jpg
ORGANIZER;CN="Rick Thomas":MAILTO:rthomas@gslcwi.com
END:VEVENT
BEGIN:VEVENT
DTSTART;TZID=America/Chicago:20260217T183000
DTEND;TZID=America/Chicago:20260217T193000
DTSTAMP:20260423T040839
CREATED:20260209T163218Z
LAST-MODIFIED:20260217T213113Z
UID:10025330-1771353000-1771356600@gslcwi.com
SUMMARY:Q&A with Ryan Burge on "The Vanishing Church"
DESCRIPTION:Discuss the recent Past and Future of American Christianity\nYou’re invited to a conversation with political scientist\, author and church demographics expert Dr. Ryan Burge. Burge visited Good Shepherd in 2024 and the content of what he discussed during that visit became a part of his newly released book The Vanishing Church. \nJoin this conversation and bring your questions as we hear about where the church has been\, how it got to where it is today and what might be in store. \nClick here to join the Zoom meeting
URL:https://gslcwi.com/event/qa-with-ryan-burge-on-the-vanishing-church/
LOCATION:Good Shepherd Madison Campus\, 5701 Raymond Road\, Madison\, WI\, 53711\, United States
CATEGORIES:Adult Education
ATTACH;FMTTYPE=image/jpeg:https://gslcwi.com/wp-content/uploads/2026/02/Burge-26-Zoom-Slide-copy.jpg
ORGANIZER;CN="Eric Holmer":MAILTO:eholmer@gslcwi.com
END:VEVENT
BEGIN:VEVENT
DTSTART;TZID=America/Chicago:20260217T183000
DTEND;TZID=America/Chicago:20260217T200000
DTSTAMP:20260423T040839
CREATED:20260117T163459Z
LAST-MODIFIED:20260214T125029Z
UID:10024479-1771353000-1771358400@gslcwi.com
SUMMARY:Good Shepherd Board Meeting
DESCRIPTION:Pr. Craig
URL:https://gslcwi.com/event/good-shepherd-board-meeting-13/
LOCATION:Madison Good Shepherd Room
END:VEVENT
BEGIN:VEVENT
DTSTART;TZID=America/Chicago:20260217T183000
DTEND;TZID=America/Chicago:20260217T203000
DTSTAMP:20260423T040839
CREATED:20260117T163459Z
LAST-MODIFIED:20260214T125028Z
UID:10024478-1771353000-1771360200@gslcwi.com
SUMMARY:Boy Scouts
DESCRIPTION:Amy Byrnes – Scout Master ajmbyrnes@yahoo.com\nMatt Watrud – Scout Master watrud@uwalumni.com
URL:https://gslcwi.com/event/boy-scouts-265/
LOCATION:Verona Fellowship Hall
END:VEVENT
BEGIN:VEVENT
DTSTART;TZID=America/Chicago:20260217T190000
DTEND;TZID=America/Chicago:20260217T200000
DTSTAMP:20260423T040839
CREATED:20230921T142540Z
LAST-MODIFIED:20230921T152532Z
UID:10016761-1771354800-1771358400@gslcwi.com
SUMMARY:Wine and Word Women's Study
DESCRIPTION:
URL:https://gslcwi.com/event/wine-and-word-womens-study/2026-02-17/
LOCATION:RP Adler’s\, 8202 Watts Rd\, Madison\, WI\, 53711\, United States
CATEGORIES:Bible Study,Women's Ministry
ORGANIZER;CN="Liz Deterding":MAILTO:elizabeth.deterding@gmail.com
END:VEVENT
BEGIN:VEVENT
DTSTART;TZID=America/Chicago:20260217T193000
DTEND;TZID=America/Chicago:20260217T210000
DTSTAMP:20260423T040839
CREATED:20260117T163500Z
LAST-MODIFIED:20260214T124621Z
UID:10024480-1771356600-1771362000@gslcwi.com
SUMMARY:AA Meeting
DESCRIPTION:Jenni Nowak jenninowak25@gmail.com\nAlexander: 585.305.3414\nJennifer: 608.515.0697
URL:https://gslcwi.com/event/aa-meeting-194/
LOCATION:Verona Room 6
END:VEVENT
END:VCALENDAR