BEGIN:VCALENDAR
VERSION:2.0
PRODID:-//Good Shepherd Lutheran Church - ECPv6.15.20//NONSGML v1.0//EN
CALSCALE:GREGORIAN
METHOD:PUBLISH
X-WR-CALNAME:Good Shepherd Lutheran Church
X-ORIGINAL-URL:https://gslcwi.com
X-WR-CALDESC:Events for Good Shepherd Lutheran Church
REFRESH-INTERVAL;VALUE=DURATION:PT1H
X-Robots-Tag:noindex
X-PUBLISHED-TTL:PT1H
BEGIN:VTIMEZONE
TZID:America/Chicago
BEGIN:DAYLIGHT
TZOFFSETFROM:-0600
TZOFFSETTO:-0500
TZNAME:CDT
DTSTART:20250309T080000
END:DAYLIGHT
BEGIN:STANDARD
TZOFFSETFROM:-0500
TZOFFSETTO:-0600
TZNAME:CST
DTSTART:20251102T070000
END:STANDARD
BEGIN:DAYLIGHT
TZOFFSETFROM:-0600
TZOFFSETTO:-0500
TZNAME:CDT
DTSTART:20260308T080000
END:DAYLIGHT
BEGIN:STANDARD
TZOFFSETFROM:-0500
TZOFFSETTO:-0600
TZNAME:CST
DTSTART:20261101T070000
END:STANDARD
BEGIN:DAYLIGHT
TZOFFSETFROM:-0600
TZOFFSETTO:-0500
TZNAME:CDT
DTSTART:20270314T080000
END:DAYLIGHT
BEGIN:STANDARD
TZOFFSETFROM:-0500
TZOFFSETTO:-0600
TZNAME:CST
DTSTART:20271107T070000
END:STANDARD
END:VTIMEZONE
BEGIN:VEVENT
DTSTART;TZID=America/Chicago:20260218T070000
DTEND;TZID=America/Chicago:20260218T080000
DTSTAMP:20260421T171404
CREATED:20230228T160601Z
LAST-MODIFIED:20230921T134643Z
UID:10015785-1771398000-1771401600@gslcwi.com
SUMMARY:Wednesday Morning Men's Bible Study
DESCRIPTION:A Weekly Men’s Bible Study that gathers on Zoom.
URL:https://gslcwi.com/event/wednesday-morning-mens-bible-study/2026-02-18/
CATEGORIES:Adult Education,Bible Study,Men's Ministry
ATTACH;FMTTYPE=image/jpeg:https://gslcwi.com/wp-content/uploads/2023/02/fa-barboza-NWoaoMgMiVY-unsplash.jpg
ORGANIZER;CN="Dean Nelson":MAILTO:deanwnelson@gmail.com
END:VEVENT
BEGIN:VEVENT
DTSTART;TZID=America/Chicago:20260218T090000
DTEND;TZID=America/Chicago:20260218T100000
DTSTAMP:20260421T171404
CREATED:20260117T163500Z
LAST-MODIFIED:20260214T125029Z
UID:10024481-1771405200-1771408800@gslcwi.com
SUMMARY:Holy Yoga
DESCRIPTION:Jessie Kleiner kleiner.jessie@gmail.com
URL:https://gslcwi.com/event/holy-yoga-180/
LOCATION:Verona Sanctuary
END:VEVENT
BEGIN:VEVENT
DTSTART;TZID=America/Chicago:20260218T120000
DTEND;TZID=America/Chicago:20260218T130000
DTSTAMP:20260421T171404
CREATED:20260117T163500Z
LAST-MODIFIED:20260214T125433Z
UID:10024482-1771416000-1771419600@gslcwi.com
SUMMARY:Bible Study
DESCRIPTION:Robin Kerl\n________________________________________________________________________________\nMicrosoft Teams Need help?\nJoin the meeting now\nMeeting ID: 245 578 165 534 1\nPasscode: BN7Pa9cZ\n________________________________\nFor organizers: Meeting options\n________________________________________________________________________________
URL:https://gslcwi.com/event/bible-study-141/
LOCATION:Madison Good Shepherd Room
END:VEVENT
BEGIN:VEVENT
DTSTART;TZID=America/Chicago:20260218T120000
DTEND;TZID=America/Chicago:20260218T130000
DTSTAMP:20260421T171404
CREATED:20260131T151036Z
LAST-MODIFIED:20260214T125433Z
UID:10025192-1771416000-1771419600@gslcwi.com
SUMMARY:Ash Wednesday Worship Service | 12 p.m. Madison Campus
DESCRIPTION:
URL:https://gslcwi.com/event/ash-wednesday-worship-service-2/
LOCATION:Madison Sanctuary
CATEGORIES:Worship
ATTACH;FMTTYPE=image/jpeg:https://gslcwi.com/wp-content/uploads/2026/01/AshWeds26Slide.jpg
END:VEVENT
BEGIN:VEVENT
DTSTART;TZID=America/Chicago:20260218T160000
DTEND;TZID=America/Chicago:20260218T173000
DTSTAMP:20260421T171404
CREATED:20260117T164827Z
LAST-MODIFIED:20260214T125434Z
UID:10024483-1771430400-1771435800@gslcwi.com
SUMMARY:Literacy Network
DESCRIPTION:Bex Fabrizio Bex@litnetwork.org
URL:https://gslcwi.com/event/literacy-network-303/
LOCATION:Madison Good Shepherd Room
END:VEVENT
BEGIN:VEVENT
DTSTART;TZID=America/Chicago:20260218T170000
DTEND;TZID=America/Chicago:20260218T183000
DTSTAMP:20260421T171404
CREATED:20260131T151036Z
LAST-MODIFIED:20260214T125434Z
UID:10025193-1771434000-1771439400@gslcwi.com
SUMMARY:Worship Band Rehearsal
DESCRIPTION:Tracy Dahl\n________________________________________________________________________________\nMicrosoft Teams Need help?\nJoin the meeting now\nMeeting ID: 245 083 983 401 78\nPasscode: zJ2j3V3L\n________________________________\nFor organizers: Meeting options\n________________________________________________________________________________
URL:https://gslcwi.com/event/worship-band-rehearsal-39/
LOCATION:Verona Sanctuary
END:VEVENT
BEGIN:VEVENT
DTSTART;TZID=America/Chicago:20260218T180000
DTEND;TZID=America/Chicago:20260218T190000
DTSTAMP:20260421T171404
CREATED:20260117T164828Z
LAST-MODIFIED:20260124T161550Z
UID:10024486-1771437600-1771441200@gslcwi.com
SUMMARY:Handbells Rehearsal
DESCRIPTION:
URL:https://gslcwi.com/event/handbells-rehearsal-21/
LOCATION:Madison Sanctuary
END:VEVENT
BEGIN:VEVENT
DTSTART;TZID=America/Chicago:20260218T181500
DTEND;TZID=America/Chicago:20260218T200000
DTSTAMP:20260421T171404
CREATED:20260117T164828Z
LAST-MODIFIED:20260124T161550Z
UID:10024487-1771438500-1771444800@gslcwi.com
SUMMARY:Amped
DESCRIPTION:________________________________________________________________________________\nMicrosoft Teams Need help?\nJoin the meeting now\nMeeting ID: 274 624 423 337 40\nPasscode: BQ75Wo3m\n________________________________\nFor organizers: Meeting options\n________________________________________________________________________________
URL:https://gslcwi.com/event/amped-141/
LOCATION:Verona Sanctuary
END:VEVENT
BEGIN:VEVENT
DTSTART;TZID=America/Chicago:20260218T183000
DTEND;TZID=America/Chicago:20260218T200000
DTSTAMP:20260421T171404
CREATED:20260117T164828Z
LAST-MODIFIED:20260214T125832Z
UID:10024484-1771439400-1771444800@gslcwi.com
SUMMARY:Madison Achiever's Toastmaster Club
DESCRIPTION:Steve Czarniak sczarniakmn@gmail.com\nSean Bode 608-335-0435
URL:https://gslcwi.com/event/madison-achievers-toastmaster-club-67/
LOCATION:Madison Good Shepherd Room
END:VEVENT
BEGIN:VEVENT
DTSTART;TZID=America/Chicago:20260218T190000
DTEND;TZID=America/Chicago:20260218T200000
DTSTAMP:20260421T171404
CREATED:20260131T151036Z
LAST-MODIFIED:20260214T125832Z
UID:10025194-1771441200-1771444800@gslcwi.com
SUMMARY:Ash Wednesday Worship Service | 7 p.m. Madison Campus
DESCRIPTION:
URL:https://gslcwi.com/event/ash-wednesday-worship-service-3/
LOCATION:Madison Sanctuary
CATEGORIES:Worship
ATTACH;FMTTYPE=image/jpeg:https://gslcwi.com/wp-content/uploads/2026/01/AshWeds26Slide.jpg
END:VEVENT
BEGIN:VEVENT
DTSTART;TZID=America/Chicago:20260218T190000
DTEND;TZID=America/Chicago:20260218T200000
DTSTAMP:20260421T171404
CREATED:20260131T152516Z
LAST-MODIFIED:20260214T125434Z
UID:10025195-1771441200-1771444800@gslcwi.com
SUMMARY:Ash Wednesday Worship Service | 7 p.m. Verona Campus
DESCRIPTION:
URL:https://gslcwi.com/event/ash-wednesday-worship-service-4/
LOCATION:Verona Sanctuary
CATEGORIES:Worship
ATTACH;FMTTYPE=image/jpeg:https://gslcwi.com/wp-content/uploads/2026/01/AshWeds26Slide.jpg
END:VEVENT
BEGIN:VEVENT
DTSTART;TZID=America/Chicago:20260218T190000
DTEND;TZID=America/Chicago:20260218T203000
DTSTAMP:20260421T171404
CREATED:20260117T164828Z
LAST-MODIFIED:20260124T161550Z
UID:10024485-1771441200-1771446600@gslcwi.com
SUMMARY:Choir Rehearsal
DESCRIPTION:________________________________________________________________________________\nMicrosoft Teams Need help?\nJoin the meeting now\nMeeting ID: 265 704 690 470 7\nPasscode: tZ7zu7FR\n________________________________\nFor organizers: Meeting options\n________________________________________________________________________________
URL:https://gslcwi.com/event/choir-rehearsal-139/
LOCATION:Madison Sanctuary
END:VEVENT
END:VCALENDAR