BEGIN:VCALENDAR
VERSION:2.0
PRODID:-//Good Shepherd Lutheran Church - ECPv6.15.20//NONSGML v1.0//EN
CALSCALE:GREGORIAN
METHOD:PUBLISH
X-ORIGINAL-URL:https://gslcwi.com
X-WR-CALDESC:Events for Good Shepherd Lutheran Church
REFRESH-INTERVAL;VALUE=DURATION:PT1H
X-Robots-Tag:noindex
X-PUBLISHED-TTL:PT1H
BEGIN:VTIMEZONE
TZID:America/Chicago
BEGIN:DAYLIGHT
TZOFFSETFROM:-0600
TZOFFSETTO:-0500
TZNAME:CDT
DTSTART:20250309T080000
END:DAYLIGHT
BEGIN:STANDARD
TZOFFSETFROM:-0500
TZOFFSETTO:-0600
TZNAME:CST
DTSTART:20251102T070000
END:STANDARD
BEGIN:DAYLIGHT
TZOFFSETFROM:-0600
TZOFFSETTO:-0500
TZNAME:CDT
DTSTART:20260308T080000
END:DAYLIGHT
BEGIN:STANDARD
TZOFFSETFROM:-0500
TZOFFSETTO:-0600
TZNAME:CST
DTSTART:20261101T070000
END:STANDARD
BEGIN:DAYLIGHT
TZOFFSETFROM:-0600
TZOFFSETTO:-0500
TZNAME:CDT
DTSTART:20270314T080000
END:DAYLIGHT
BEGIN:STANDARD
TZOFFSETFROM:-0500
TZOFFSETTO:-0600
TZNAME:CST
DTSTART:20271107T070000
END:STANDARD
END:VTIMEZONE
BEGIN:VEVENT
DTSTART;TZID=America/Chicago:20260302T083000
DTEND;TZID=America/Chicago:20260302T100000
DTSTAMP:20260425T081636
CREATED:20260131T170025Z
LAST-MODIFIED:20260228T124001Z
UID:10025211-1772440200-1772445600@gslcwi.com
SUMMARY:Clothes Closet Sorters
DESCRIPTION:Courtnety
URL:https://gslcwi.com/event/clothes-closet-sorters-46/
LOCATION:Madison Peterson Hall
END:VEVENT
BEGIN:VEVENT
DTSTART;TZID=America/Chicago:20260302T113000
DTEND;TZID=America/Chicago:20260302T123000
DTSTAMP:20260425T081636
CREATED:20260131T170025Z
LAST-MODIFIED:20260228T124456Z
UID:10025212-1772451000-1772454600@gslcwi.com
SUMMARY:Soccer Shots
DESCRIPTION:________________________________________________________________________________\nMicrosoft Teams meeting\nJoin: https://teams.microsoft.com/meet/2839286314255?p=VvF0HxvRF1d1qW5iAc\nMeeting ID: 283 928 631 425 5\nPasscode: Km6nn32E\n________________________________\nNeed help? | System reference\nFor organizers: Meeting options\n________________________________________________________________________________
URL:https://gslcwi.com/event/soccer-shots-18/
LOCATION:Verona Gym
END:VEVENT
BEGIN:VEVENT
DTSTART;TZID=America/Chicago:20260302T160000
DTEND;TZID=America/Chicago:20260302T173000
DTSTAMP:20260425T081636
CREATED:20220923T135855Z
LAST-MODIFIED:20230913T194729Z
UID:10015602-1772467200-1772472600@gslcwi.com
SUMMARY:Literacy Network
DESCRIPTION:
URL:https://gslcwi.com/event/literacy-network-40/2026-03-02/
LOCATION:Madison Room 11/The Sheep Fold; Madison Room 9
CATEGORIES:Community Event
END:VEVENT
BEGIN:VEVENT
DTSTART;TZID=America/Chicago:20260302T160000
DTEND;TZID=America/Chicago:20260302T173000
DTSTAMP:20260425T081636
CREATED:20260131T170025Z
LAST-MODIFIED:20260228T124456Z
UID:10025213-1772467200-1772472600@gslcwi.com
SUMMARY:Literacy Network
DESCRIPTION:Bex Fabrizio Bex@litnetwork.org
URL:https://gslcwi.com/event/literacy-network-306/
LOCATION:Madison Good Shepherd Room
END:VEVENT
BEGIN:VEVENT
DTSTART;TZID=America/Chicago:20260302T183000
DTEND;TZID=America/Chicago:20260302T194500
DTSTAMP:20260425T081636
CREATED:20260213T180303Z
LAST-MODIFIED:20260213T180303Z
UID:10025331-1772476200-1772480700@gslcwi.com
SUMMARY:Having Nothing\, Possessing Everything: Finding Abundant Communities in Unexpected Places Book Study
DESCRIPTION:Outreach Ministries is hosting a book study over 4 Mondays from 6:30-7:45 p.m. at the Verona campus to celebrate Outreach Ministries month. We will be reading the book\, Having Nothing\, Possessing Everything: Finding Abundant Communities in Unexpected Places by Michael Mather. We will meet Mondays\, March 2\, March 9\, March 16 and March 23.
URL:https://gslcwi.com/event/having-nothing-possessing-everything-finding-abundant-communities-in-unexpected-places-book-study/2026-03-02/
LOCATION:Verona Coffee Bar
CATEGORIES:Adult Education,Outreach,Service
END:VEVENT
BEGIN:VEVENT
DTSTART;TZID=America/Chicago:20260302T183000
DTEND;TZID=America/Chicago:20260302T200000
DTSTAMP:20260425T081636
CREATED:20260131T170136Z
LAST-MODIFIED:20260228T124457Z
UID:10025215-1772476200-1772481600@gslcwi.com
SUMMARY:Girl Scouts
DESCRIPTION:Katy Kosobucki kbreidenbach@uwalumni.com
URL:https://gslcwi.com/event/girl-scouts-231/
LOCATION:Verona Room 6
END:VEVENT
BEGIN:VEVENT
DTSTART;TZID=America/Chicago:20260302T183000
DTEND;TZID=America/Chicago:20260302T200000
DTSTAMP:20260425T081636
CREATED:20260214T135432Z
LAST-MODIFIED:20260228T124458Z
UID:10025336-1772476200-1772481600@gslcwi.com
SUMMARY:Outreach Book Study
DESCRIPTION:RT/Pr. Dara
URL:https://gslcwi.com/event/outreach-book-study/
LOCATION:Verona Coffee Bar
END:VEVENT
BEGIN:VEVENT
DTSTART;TZID=America/Chicago:20260302T183000
DTEND;TZID=America/Chicago:20260302T203000
DTSTAMP:20260425T081636
CREATED:20260131T170026Z
LAST-MODIFIED:20260228T124457Z
UID:10025214-1772476200-1772483400@gslcwi.com
SUMMARY:Living Wates Bible Study
DESCRIPTION:Nancy Rasmussen\n________________________________________________________________________________\nMicrosoft Teams Need help?\nJoin the meeting now\nMeeting ID: 241 859 141 108 3\nPasscode: LU6Pb2yT\n________________________________\nFor organizers: Meeting options\n________________________________________________________________________________
URL:https://gslcwi.com/event/living-wates-bible-study-7/
LOCATION:Verona Family Lounge
END:VEVENT
BEGIN:VEVENT
DTSTART;TZID=America/Chicago:20260302T190000
DTEND;TZID=America/Chicago:20260302T210000
DTSTAMP:20260425T081636
CREATED:20260221T132044Z
LAST-MODIFIED:20260228T124955Z
UID:10025391-1772478000-1772485200@gslcwi.com
SUMMARY:Ridgewood Board of Directors
DESCRIPTION:alanamwagner@hotmail.com
URL:https://gslcwi.com/event/ridgewood-board-of-directors/
LOCATION:Madison Good Shepherd Room
END:VEVENT
END:VCALENDAR