BEGIN:VCALENDAR
VERSION:2.0
PRODID:-//Good Shepherd Lutheran Church - ECPv6.15.20//NONSGML v1.0//EN
CALSCALE:GREGORIAN
METHOD:PUBLISH
X-ORIGINAL-URL:https://gslcwi.com
X-WR-CALDESC:Events for Good Shepherd Lutheran Church
REFRESH-INTERVAL;VALUE=DURATION:PT1H
X-Robots-Tag:noindex
X-PUBLISHED-TTL:PT1H
BEGIN:VTIMEZONE
TZID:America/Chicago
BEGIN:DAYLIGHT
TZOFFSETFROM:-0600
TZOFFSETTO:-0500
TZNAME:CDT
DTSTART:20250309T080000
END:DAYLIGHT
BEGIN:STANDARD
TZOFFSETFROM:-0500
TZOFFSETTO:-0600
TZNAME:CST
DTSTART:20251102T070000
END:STANDARD
BEGIN:DAYLIGHT
TZOFFSETFROM:-0600
TZOFFSETTO:-0500
TZNAME:CDT
DTSTART:20260308T080000
END:DAYLIGHT
BEGIN:STANDARD
TZOFFSETFROM:-0500
TZOFFSETTO:-0600
TZNAME:CST
DTSTART:20261101T070000
END:STANDARD
BEGIN:DAYLIGHT
TZOFFSETFROM:-0600
TZOFFSETTO:-0500
TZNAME:CDT
DTSTART:20270314T080000
END:DAYLIGHT
BEGIN:STANDARD
TZOFFSETFROM:-0500
TZOFFSETTO:-0600
TZNAME:CST
DTSTART:20271107T070000
END:STANDARD
END:VTIMEZONE
BEGIN:VEVENT
DTSTART;TZID=America/Chicago:20260303T083000
DTEND;TZID=America/Chicago:20260303T093000
DTSTAMP:20260423T181109
CREATED:20260131T170137Z
LAST-MODIFIED:20260228T124956Z
UID:10025216-1772526600-1772530200@gslcwi.com
SUMMARY:Birth to 3 Play Group
DESCRIPTION:See Tracy Gold
URL:https://gslcwi.com/event/birth-to-3-play-group-25/
LOCATION:Verona Gym
END:VEVENT
BEGIN:VEVENT
DTSTART;TZID=America/Chicago:20260303T090000
DTEND;TZID=America/Chicago:20260303T110000
DTSTAMP:20260423T181109
CREATED:20230320T152255Z
LAST-MODIFIED:20230921T134352Z
UID:10014631-1772528400-1772535600@gslcwi.com
SUMMARY:Tuesday Trekkers
DESCRIPTION:Join other GS folks for an hour-long hike\, Tuesdays at 9am.  Meets at different locations around the area\, enjoying fresh air and fellowship.
URL:https://gslcwi.com/event/tuesday-trekkers-8/2026-03-03/
LOCATION:Offsite
CATEGORIES:Adult Education,Fellowship,Sports
ATTACH;FMTTYPE=image/jpeg:https://gslcwi.com/wp-content/uploads/2023/03/trekers720.jpg
ORGANIZER;CN="Diane Hughes":MAILTO:dhhands@sbcglobal.net
END:VEVENT
BEGIN:VEVENT
DTSTART;TZID=America/Chicago:20260303T110000
DTEND;TZID=America/Chicago:20260303T120000
DTSTAMP:20260423T181109
CREATED:20260131T170137Z
LAST-MODIFIED:20260228T124957Z
UID:10025217-1772535600-1772539200@gslcwi.com
SUMMARY:Staff Meeting
DESCRIPTION:
URL:https://gslcwi.com/event/staff-meeting-73/
LOCATION:Madison Good Shepherd Room
END:VEVENT
BEGIN:VEVENT
DTSTART;TZID=America/Chicago:20260303T183000
DTEND;TZID=America/Chicago:20260303T203000
DTSTAMP:20260423T181109
CREATED:20260131T170137Z
LAST-MODIFIED:20260228T125500Z
UID:10025218-1772562600-1772569800@gslcwi.com
SUMMARY:Stephen Ministry Supervision
DESCRIPTION:Pr. Sheryl\, serickson@gslcwi.com
URL:https://gslcwi.com/event/stephen-ministry-supervision-29/
LOCATION:Verona Coffee Bar; Verona Family Lounge; Verona Library
END:VEVENT
BEGIN:VEVENT
DTSTART;TZID=America/Chicago:20260303T183000
DTEND;TZID=America/Chicago:20260303T203000
DTSTAMP:20260423T181109
CREATED:20260131T170137Z
LAST-MODIFIED:20260228T124957Z
UID:10025219-1772562600-1772569800@gslcwi.com
SUMMARY:Boy Scouts
DESCRIPTION:Amy Byrnes – Scout Master ajmbyrnes@yahoo.com\nMatt Watrud – Scout Master watrud@uwalumni.com
URL:https://gslcwi.com/event/boy-scouts-267/
LOCATION:Verona Fellowship Hall
END:VEVENT
BEGIN:VEVENT
DTSTART;TZID=America/Chicago:20260303T190000
DTEND;TZID=America/Chicago:20260303T200000
DTSTAMP:20260423T181109
CREATED:20230921T142540Z
LAST-MODIFIED:20230921T152532Z
UID:10016763-1772564400-1772568000@gslcwi.com
SUMMARY:Wine and Word Women's Study
DESCRIPTION:
URL:https://gslcwi.com/event/wine-and-word-womens-study/2026-03-03/
LOCATION:RP Adler’s\, 8202 Watts Rd\, Madison\, WI\, 53711\, United States
CATEGORIES:Bible Study,Women's Ministry
ORGANIZER;CN="Liz Deterding":MAILTO:elizabeth.deterding@gmail.com
END:VEVENT
BEGIN:VEVENT
DTSTART;TZID=America/Chicago:20260303T193000
DTEND;TZID=America/Chicago:20260303T210000
DTSTAMP:20260423T181109
CREATED:20260131T171633Z
LAST-MODIFIED:20260228T124957Z
UID:10025220-1772566200-1772571600@gslcwi.com
SUMMARY:AA Meeting
DESCRIPTION:Jenni Nowak jenninowak25@gmail.com\nAlexander: 585.305.3414\nJennifer: 608.515.0697
URL:https://gslcwi.com/event/aa-meeting-196/
LOCATION:Verona Room 6
END:VEVENT
END:VCALENDAR