BEGIN:VCALENDAR
VERSION:2.0
PRODID:-//Good Shepherd Lutheran Church - ECPv6.15.20//NONSGML v1.0//EN
CALSCALE:GREGORIAN
METHOD:PUBLISH
X-WR-CALNAME:Good Shepherd Lutheran Church
X-ORIGINAL-URL:https://gslcwi.com
X-WR-CALDESC:Events for Good Shepherd Lutheran Church
REFRESH-INTERVAL;VALUE=DURATION:PT1H
X-Robots-Tag:noindex
X-PUBLISHED-TTL:PT1H
BEGIN:VTIMEZONE
TZID:America/Chicago
BEGIN:DAYLIGHT
TZOFFSETFROM:-0600
TZOFFSETTO:-0500
TZNAME:CDT
DTSTART:20250309T080000
END:DAYLIGHT
BEGIN:STANDARD
TZOFFSETFROM:-0500
TZOFFSETTO:-0600
TZNAME:CST
DTSTART:20251102T070000
END:STANDARD
BEGIN:DAYLIGHT
TZOFFSETFROM:-0600
TZOFFSETTO:-0500
TZNAME:CDT
DTSTART:20260308T080000
END:DAYLIGHT
BEGIN:STANDARD
TZOFFSETFROM:-0500
TZOFFSETTO:-0600
TZNAME:CST
DTSTART:20261101T070000
END:STANDARD
BEGIN:DAYLIGHT
TZOFFSETFROM:-0600
TZOFFSETTO:-0500
TZNAME:CDT
DTSTART:20270314T080000
END:DAYLIGHT
BEGIN:STANDARD
TZOFFSETFROM:-0500
TZOFFSETTO:-0600
TZNAME:CST
DTSTART:20271107T070000
END:STANDARD
END:VTIMEZONE
BEGIN:VEVENT
DTSTART;TZID=America/Chicago:20260325T070000
DTEND;TZID=America/Chicago:20260325T080000
DTSTAMP:20260419T194232
CREATED:20230228T160601Z
LAST-MODIFIED:20230921T134643Z
UID:10015790-1774422000-1774425600@gslcwi.com
SUMMARY:Wednesday Morning Men's Bible Study
DESCRIPTION:A Weekly Men’s Bible Study that gathers on Zoom.
URL:https://gslcwi.com/event/wednesday-morning-mens-bible-study/2026-03-25/
CATEGORIES:Adult Education,Bible Study,Men's Ministry
ATTACH;FMTTYPE=image/jpeg:https://gslcwi.com/wp-content/uploads/2023/02/fa-barboza-NWoaoMgMiVY-unsplash.jpg
ORGANIZER;CN="Dean Nelson":MAILTO:deanwnelson@gmail.com
END:VEVENT
BEGIN:VEVENT
DTSTART;TZID=America/Chicago:20260325T090000
DTEND;TZID=America/Chicago:20260325T100000
DTSTAMP:20260419T194232
CREATED:20260221T150149Z
LAST-MODIFIED:20260314T134318Z
UID:10025418-1774429200-1774432800@gslcwi.com
SUMMARY:Holy Yoga
DESCRIPTION:Jessie Kleiner kleiner.jessie@gmail.com
URL:https://gslcwi.com/event/holy-yoga-185/
LOCATION:Verona Sanctuary
END:VEVENT
BEGIN:VEVENT
DTSTART;TZID=America/Chicago:20260325T110000
DTEND;TZID=America/Chicago:20260325T120000
DTSTAMP:20260419T194232
CREATED:20260221T150151Z
LAST-MODIFIED:20260321T130727Z
UID:10025420-1774436400-1774440000@gslcwi.com
SUMMARY:Lenten Lunch
DESCRIPTION:________________________________________________________________________________\nMicrosoft Teams meeting\nJoin: https://teams.microsoft.com/meet/29585208519898?p=REtRCw0RfI748G0CeF\nMeeting ID: 295 852 085 198 98\nPasscode: 2oK3Kx2o\n________________________________\nNeed help? | System reference\nFor organizers: Meeting options\n________________________________________________________________________________
URL:https://gslcwi.com/event/lenten-lunch-5/
LOCATION:Madison Peterson Hall
END:VEVENT
BEGIN:VEVENT
DTSTART;TZID=America/Chicago:20260325T120000
DTEND;TZID=America/Chicago:20260325T130000
DTSTAMP:20260419T194232
CREATED:20260221T150150Z
LAST-MODIFIED:20260321T131242Z
UID:10025419-1774440000-1774443600@gslcwi.com
SUMMARY:Bible Study
DESCRIPTION:Robin Kerl\n________________________________________________________________________________\nMicrosoft Teams Need help?\nJoin the meeting now\nMeeting ID: 245 578 165 534 1\nPasscode: BN7Pa9cZ\n________________________________\nFor organizers: Meeting options\n________________________________________________________________________________
URL:https://gslcwi.com/event/bible-study-146/
LOCATION:Madison Good Shepherd Room
END:VEVENT
BEGIN:VEVENT
DTSTART;TZID=America/Chicago:20260325T150000
DTEND;TZID=America/Chicago:20260326T090000
DTSTAMP:20260419T194232
CREATED:20260221T151010Z
LAST-MODIFIED:20260321T131245Z
UID:10025426-1774450800-1774515600@gslcwi.com
SUMMARY:Messenger
DESCRIPTION:Judy Hoard\n________________________________________________________________________________\nMicrosoft Teams meeting\nJoin: https://teams.microsoft.com/meet/26211887448564?p=P2HWEkeJ2UMskBrWnC\nMeeting ID: 262 118 874 485 64\nPasscode: dH2R2Gs9\n________________________________\nNeed help? | System reference\nFor organizers: Meeting options\n________________________________________________________________________________
URL:https://gslcwi.com/event/messenger-36/
LOCATION:Madison Good Shepherd Room
END:VEVENT
BEGIN:VEVENT
DTSTART;TZID=America/Chicago:20260325T160000
DTEND;TZID=America/Chicago:20260325T173000
DTSTAMP:20260419T194232
CREATED:20260221T150601Z
LAST-MODIFIED:20260321T131653Z
UID:10025421-1774454400-1774459800@gslcwi.com
SUMMARY:Literacy Network
DESCRIPTION:Bex Fabrizio Bex@litnetwork.org
URL:https://gslcwi.com/event/literacy-network-313/
LOCATION:Madison Good Shepherd Room
END:VEVENT
BEGIN:VEVENT
DTSTART;TZID=America/Chicago:20260325T180000
DTEND;TZID=America/Chicago:20260325T190000
DTSTAMP:20260419T194232
CREATED:20260221T150606Z
LAST-MODIFIED:20260321T131244Z
UID:10025425-1774461600-1774465200@gslcwi.com
SUMMARY:Handbells Rehearsal
DESCRIPTION:
URL:https://gslcwi.com/event/handbells-rehearsal-26/
LOCATION:Madison Sanctuary
END:VEVENT
BEGIN:VEVENT
DTSTART;TZID=America/Chicago:20260325T180000
DTEND;TZID=America/Chicago:20260325T193000
DTSTAMP:20260419T194232
CREATED:20260221T150603Z
LAST-MODIFIED:20260321T131243Z
UID:10025422-1774461600-1774467000@gslcwi.com
SUMMARY:Girl Scouts
DESCRIPTION:Alison Reuschlein Wood alisoninaz@gmail.com
URL:https://gslcwi.com/event/girl-scouts-238/
LOCATION:Madison Room 8
END:VEVENT
BEGIN:VEVENT
DTSTART;TZID=America/Chicago:20260325T181500
DTEND;TZID=America/Chicago:20260325T200000
DTSTAMP:20260419T194232
CREATED:20260221T150605Z
LAST-MODIFIED:20260314T135246Z
UID:10025424-1774462500-1774468800@gslcwi.com
SUMMARY:Amped
DESCRIPTION:________________________________________________________________________________\nMicrosoft Teams Need help?\nJoin the meeting now\nMeeting ID: 274 624 423 337 40\nPasscode: BQ75Wo3m\n________________________________\nFor organizers: Meeting options\n________________________________________________________________________________
URL:https://gslcwi.com/event/amped-146/
LOCATION:Verona Sanctuary
END:VEVENT
BEGIN:VEVENT
DTSTART;TZID=America/Chicago:20260325T190000
DTEND;TZID=America/Chicago:20260325T203000
DTSTAMP:20260419T194232
CREATED:20260221T150604Z
LAST-MODIFIED:20260321T131244Z
UID:10025423-1774465200-1774470600@gslcwi.com
SUMMARY:Choir Rehearsal
DESCRIPTION:________________________________________________________________________________\nMicrosoft Teams Need help?\nJoin the meeting now\nMeeting ID: 265 704 690 470 7\nPasscode: tZ7zu7FR\n________________________________\nFor organizers: Meeting options\n________________________________________________________________________________
URL:https://gslcwi.com/event/choir-rehearsal-144/
LOCATION:Madison Sanctuary
END:VEVENT
END:VCALENDAR