BEGIN:VCALENDAR
VERSION:2.0
PRODID:-//Good Shepherd Lutheran Church - ECPv6.15.20//NONSGML v1.0//EN
CALSCALE:GREGORIAN
METHOD:PUBLISH
X-ORIGINAL-URL:https://gslcwi.com
X-WR-CALDESC:Events for Good Shepherd Lutheran Church
REFRESH-INTERVAL;VALUE=DURATION:PT1H
X-Robots-Tag:noindex
X-PUBLISHED-TTL:PT1H
BEGIN:VTIMEZONE
TZID:America/Chicago
BEGIN:DAYLIGHT
TZOFFSETFROM:-0600
TZOFFSETTO:-0500
TZNAME:CDT
DTSTART:20250309T080000
END:DAYLIGHT
BEGIN:STANDARD
TZOFFSETFROM:-0500
TZOFFSETTO:-0600
TZNAME:CST
DTSTART:20251102T070000
END:STANDARD
BEGIN:DAYLIGHT
TZOFFSETFROM:-0600
TZOFFSETTO:-0500
TZNAME:CDT
DTSTART:20260308T080000
END:DAYLIGHT
BEGIN:STANDARD
TZOFFSETFROM:-0500
TZOFFSETTO:-0600
TZNAME:CST
DTSTART:20261101T070000
END:STANDARD
BEGIN:DAYLIGHT
TZOFFSETFROM:-0600
TZOFFSETTO:-0500
TZNAME:CDT
DTSTART:20270314T080000
END:DAYLIGHT
BEGIN:STANDARD
TZOFFSETFROM:-0500
TZOFFSETTO:-0600
TZNAME:CST
DTSTART:20271107T070000
END:STANDARD
END:VTIMEZONE
BEGIN:VEVENT
DTSTART;TZID=America/Chicago:20260325T150000
DTEND;TZID=America/Chicago:20260326T090000
DTSTAMP:20260422T235741
CREATED:20260221T151010Z
LAST-MODIFIED:20260321T131245Z
UID:10025426-1774450800-1774515600@gslcwi.com
SUMMARY:Messenger
DESCRIPTION:Judy Hoard\n________________________________________________________________________________\nMicrosoft Teams meeting\nJoin: https://teams.microsoft.com/meet/26211887448564?p=P2HWEkeJ2UMskBrWnC\nMeeting ID: 262 118 874 485 64\nPasscode: dH2R2Gs9\n________________________________\nNeed help? | System reference\nFor organizers: Meeting options\n________________________________________________________________________________
URL:https://gslcwi.com/event/messenger-36/
LOCATION:Madison Good Shepherd Room
END:VEVENT
BEGIN:VEVENT
DTSTART;TZID=America/Chicago:20260326T083000
DTEND;TZID=America/Chicago:20260326T120000
DTSTAMP:20260422T235741
CREATED:20260312T190110Z
LAST-MODIFIED:20260409T163537Z
UID:10025483-1774513800-1774526400@gslcwi.com
SUMMARY:Fix-It Faire
DESCRIPTION:The Good Shepherd Fix-It Faire will have expert volunteers with repair skills in various fields who will assist and repair items for free such as clothing\, furniture\, electronics\, small appliances\, bikes etc.
URL:https://gslcwi.com/event/the-fix-it-faire-is-coming/2026-03-26/
LOCATION:Madison Campus\, 5701 Raymond Rd\, Madison\, WI\, 53711\, United States
ATTACH;FMTTYPE=image/jpeg:https://gslcwi.com/wp-content/uploads/2025/12/woman-electronic-technician-unscrews-laptop-2026-01-08-22-56-55-utc-scaled-e1768496231404.jpg
END:VEVENT
BEGIN:VEVENT
DTSTART;TZID=America/Chicago:20260326T093000
DTEND;TZID=America/Chicago:20260326T120000
DTSTAMP:20260422T235741
CREATED:20260221T151011Z
LAST-MODIFIED:20260321T131653Z
UID:10025427-1774517400-1774526400@gslcwi.com
SUMMARY:GSLC Food Pantry
DESCRIPTION:RT
URL:https://gslcwi.com/event/gslc-food-pantry-253/
LOCATION:Madison Lobby
END:VEVENT
BEGIN:VEVENT
DTSTART;TZID=America/Chicago:20260326T093000
DTEND;TZID=America/Chicago:20260326T120000
DTSTAMP:20260422T235741
CREATED:20260221T151012Z
LAST-MODIFIED:20260321T131654Z
UID:10025428-1774517400-1774526400@gslcwi.com
SUMMARY:Clothes Closet
DESCRIPTION:
URL:https://gslcwi.com/event/clothes-closet-349/
LOCATION:Madison Kitchen
END:VEVENT
BEGIN:VEVENT
DTSTART;TZID=America/Chicago:20260326T173000
DTEND;TZID=America/Chicago:20260326T190000
DTSTAMP:20260422T235741
CREATED:20260228T150903Z
LAST-MODIFIED:20260321T131655Z
UID:10025442-1774546200-1774551600@gslcwi.com
SUMMARY:Fibromyalgia Support Group
DESCRIPTION:alecia armstrong aleciababe@yahoo.com
URL:https://gslcwi.com/event/fibromyalgia-support-group/
LOCATION:Madison Good Shepherd Room
END:VEVENT
BEGIN:VEVENT
DTSTART;TZID=America/Chicago:20260326T173000
DTEND;TZID=America/Chicago:20260326T190000
DTSTAMP:20260422T235741
CREATED:20260228T151356Z
LAST-MODIFIED:20260321T131654Z
UID:10025443-1774546200-1774551600@gslcwi.com
SUMMARY:GSLC Food Pantrty
DESCRIPTION:
URL:https://gslcwi.com/event/gslc-food-pantrty-251/
LOCATION:Madison Peterson Hall
END:VEVENT
BEGIN:VEVENT
DTSTART;TZID=America/Chicago:20260326T183000
DTEND;TZID=America/Chicago:20260326T200000
DTSTAMP:20260422T235741
CREATED:20260221T151015Z
LAST-MODIFIED:20260321T132101Z
UID:10025430-1774549800-1774555200@gslcwi.com
SUMMARY:RIC Team Meeting
DESCRIPTION:Sarah Simon\nsdsimon.wi@gmail.com\n2625106098
URL:https://gslcwi.com/event/ric-team-meeting-6/
LOCATION:Madison Room 6
END:VEVENT
BEGIN:VEVENT
DTSTART;TZID=America/Chicago:20260326T190000
DTEND;TZID=America/Chicago:20260326T210000
DTSTAMP:20260422T235741
CREATED:20260221T151014Z
LAST-MODIFIED:20260321T132102Z
UID:10025429-1774551600-1774558800@gslcwi.com
SUMMARY:10:00 Worship Band Rehearsal
DESCRIPTION:Tracy Dahl\n________________________________________________________________________________\nMicrosoft Teams Need help?\nJoin the meeting now\nMeeting ID: 245 083 983 401 78\nPasscode: zJ2j3V3L\n________________________________\nFor organizers: Meeting options\n________________________________________________________________________________
URL:https://gslcwi.com/event/1000-worship-band-rehearsal-70/
LOCATION:Verona Sanctuary
END:VEVENT
END:VCALENDAR