BEGIN:VCALENDAR
VERSION:2.0
PRODID:-//Good Shepherd Lutheran Church - ECPv6.15.20//NONSGML v1.0//EN
CALSCALE:GREGORIAN
METHOD:PUBLISH
X-WR-CALNAME:Good Shepherd Lutheran Church
X-ORIGINAL-URL:https://gslcwi.com
X-WR-CALDESC:Events for Good Shepherd Lutheran Church
REFRESH-INTERVAL;VALUE=DURATION:PT1H
X-Robots-Tag:noindex
X-PUBLISHED-TTL:PT1H
BEGIN:VTIMEZONE
TZID:America/Chicago
BEGIN:DAYLIGHT
TZOFFSETFROM:-0600
TZOFFSETTO:-0500
TZNAME:CDT
DTSTART:20250309T080000
END:DAYLIGHT
BEGIN:STANDARD
TZOFFSETFROM:-0500
TZOFFSETTO:-0600
TZNAME:CST
DTSTART:20251102T070000
END:STANDARD
BEGIN:DAYLIGHT
TZOFFSETFROM:-0600
TZOFFSETTO:-0500
TZNAME:CDT
DTSTART:20260308T080000
END:DAYLIGHT
BEGIN:STANDARD
TZOFFSETFROM:-0500
TZOFFSETTO:-0600
TZNAME:CST
DTSTART:20261101T070000
END:STANDARD
BEGIN:DAYLIGHT
TZOFFSETFROM:-0600
TZOFFSETTO:-0500
TZNAME:CDT
DTSTART:20270314T080000
END:DAYLIGHT
BEGIN:STANDARD
TZOFFSETFROM:-0500
TZOFFSETTO:-0600
TZNAME:CST
DTSTART:20271107T070000
END:STANDARD
END:VTIMEZONE
BEGIN:VEVENT
DTSTART;VALUE=DATE:20260402
DTEND;VALUE=DATE:20260403
DTSTAMP:20260422T050020
CREATED:20260321T135339Z
LAST-MODIFIED:20260328T133150Z
UID:10025572-1775088000-1775174399@gslcwi.com
SUMMARY:Maunday Thursday
DESCRIPTION:
URL:https://gslcwi.com/event/maunday-thursday/
END:VEVENT
BEGIN:VEVENT
DTSTART;TZID=America/Chicago:20260402T093000
DTEND;TZID=America/Chicago:20260402T120000
DTSTAMP:20260422T050020
CREATED:20260228T153910Z
LAST-MODIFIED:20260328T132714Z
UID:10025468-1775122200-1775131200@gslcwi.com
SUMMARY:GSLC Food Pantry
DESCRIPTION:RT
URL:https://gslcwi.com/event/gslc-food-pantry-254/
LOCATION:Madison Lobby
END:VEVENT
BEGIN:VEVENT
DTSTART;TZID=America/Chicago:20260402T093000
DTEND;TZID=America/Chicago:20260402T120000
DTSTAMP:20260422T050020
CREATED:20260228T153912Z
LAST-MODIFIED:20260328T132713Z
UID:10025469-1775122200-1775131200@gslcwi.com
SUMMARY:Clothes Closet
DESCRIPTION:
URL:https://gslcwi.com/event/clothes-closet-350/
LOCATION:Madison Kitchen
END:VEVENT
BEGIN:VEVENT
DTSTART;TZID=America/Chicago:20260402T120000
DTEND;TZID=America/Chicago:20260402T130000
DTSTAMP:20260422T050020
CREATED:20260228T153910Z
LAST-MODIFIED:20260328T132714Z
UID:10025467-1775131200-1775134800@gslcwi.com
SUMMARY:Worship Service
DESCRIPTION:________________________________________________________________________________\nMicrosoft Teams meeting\nJoin: https://teams.microsoft.com/meet/27436566789983?p=UPGjMnH0L2AZl1MNkS\nMeeting ID: 274 365 667 899 83\nPasscode: dY37W8U6\n________________________________\nNeed help? | System reference\nFor organizers: Meeting options\n________________________________________________________________________________
URL:https://gslcwi.com/event/worship-service-6/
LOCATION:Madison Sanctuary; Madison Lobby
END:VEVENT
BEGIN:VEVENT
DTSTART;TZID=America/Chicago:20260402T173000
DTEND;TZID=America/Chicago:20260402T190000
DTSTAMP:20260422T050020
CREATED:20260228T154407Z
LAST-MODIFIED:20260328T132715Z
UID:10025473-1775151000-1775156400@gslcwi.com
SUMMARY:GSLC Food Pantrty
DESCRIPTION:
URL:https://gslcwi.com/event/gslc-food-pantrty-252/
LOCATION:Madison Peterson Hall
END:VEVENT
BEGIN:VEVENT
DTSTART;TZID=America/Chicago:20260402T173000
DTEND;TZID=America/Chicago:20260402T190000
DTSTAMP:20260422T050020
CREATED:20260228T154408Z
LAST-MODIFIED:20260328T133149Z
UID:10025474-1775151000-1775156400@gslcwi.com
SUMMARY:Clothes Closet
DESCRIPTION:RT
URL:https://gslcwi.com/event/clothes-closet-351/
LOCATION:Madison Kitchen
END:VEVENT
BEGIN:VEVENT
DTSTART;TZID=America/Chicago:20260402T190000
DTEND;TZID=America/Chicago:20260402T200000
DTSTAMP:20260422T050020
CREATED:20260228T154405Z
LAST-MODIFIED:20260328T132715Z
UID:10025471-1775156400-1775160000@gslcwi.com
SUMMARY:Worship Service
DESCRIPTION:________________________________________________________________________________\nMicrosoft Teams meeting\nJoin: https://teams.microsoft.com/meet/22615658789046?p=UHP5kFhxCm7zEGIMKu\nMeeting ID: 226 156 587 890 46\nPasscode: wY6gj62d\n________________________________\nNeed help? | System reference\nFor organizers: Meeting options\n________________________________________________________________________________
URL:https://gslcwi.com/event/worship-service-7/
LOCATION:Madison Sanctuary; Madison Lobby
END:VEVENT
BEGIN:VEVENT
DTSTART;TZID=America/Chicago:20260402T190000
DTEND;TZID=America/Chicago:20260402T200000
DTSTAMP:20260422T050020
CREATED:20260228T154406Z
LAST-MODIFIED:20260328T133149Z
UID:10025472-1775156400-1775160000@gslcwi.com
SUMMARY:Worship Service
DESCRIPTION:________________________________________________________________________________\nMicrosoft Teams meeting\nJoin: https://teams.microsoft.com/meet/22615658789046?p=UHP5kFhxCm7zEGIMKu\nMeeting ID: 226 156 587 890 46\nPasscode: wY6gj62d\n________________________________\nNeed help? | System reference\nFor organizers: Meeting options\n________________________________________________________________________________
URL:https://gslcwi.com/event/worship-service-8/
LOCATION:Verona Sanctuary; Verona Lobby
END:VEVENT
END:VCALENDAR