BEGIN:VCALENDAR
VERSION:2.0
PRODID:-//Good Shepherd Lutheran Church - ECPv6.15.20//NONSGML v1.0//EN
CALSCALE:GREGORIAN
METHOD:PUBLISH
X-WR-CALNAME:Good Shepherd Lutheran Church
X-ORIGINAL-URL:https://gslcwi.com
X-WR-CALDESC:Events for Good Shepherd Lutheran Church
REFRESH-INTERVAL;VALUE=DURATION:PT1H
X-Robots-Tag:noindex
X-PUBLISHED-TTL:PT1H
BEGIN:VTIMEZONE
TZID:America/Chicago
BEGIN:DAYLIGHT
TZOFFSETFROM:-0600
TZOFFSETTO:-0500
TZNAME:CDT
DTSTART:20250309T080000
END:DAYLIGHT
BEGIN:STANDARD
TZOFFSETFROM:-0500
TZOFFSETTO:-0600
TZNAME:CST
DTSTART:20251102T070000
END:STANDARD
BEGIN:DAYLIGHT
TZOFFSETFROM:-0600
TZOFFSETTO:-0500
TZNAME:CDT
DTSTART:20260308T080000
END:DAYLIGHT
BEGIN:STANDARD
TZOFFSETFROM:-0500
TZOFFSETTO:-0600
TZNAME:CST
DTSTART:20261101T070000
END:STANDARD
BEGIN:DAYLIGHT
TZOFFSETFROM:-0600
TZOFFSETTO:-0500
TZNAME:CDT
DTSTART:20270314T080000
END:DAYLIGHT
BEGIN:STANDARD
TZOFFSETFROM:-0500
TZOFFSETTO:-0600
TZNAME:CST
DTSTART:20271107T070000
END:STANDARD
END:VTIMEZONE
BEGIN:VEVENT
DTSTART;TZID=America/Chicago:20260413T083000
DTEND;TZID=America/Chicago:20260413T100000
DTSTAMP:20260419T170431
CREATED:20260314T152326Z
LAST-MODIFIED:20260411T131942Z
UID:10025535-1776069000-1776074400@gslcwi.com
SUMMARY:Clothes Closet Sorters
DESCRIPTION:Courtnety
URL:https://gslcwi.com/event/clothes-closet-sorters-52/
LOCATION:Madison Peterson Hall
END:VEVENT
BEGIN:VEVENT
DTSTART;TZID=America/Chicago:20260413T090000
DTEND;TZID=America/Chicago:20260413T110000
DTSTAMP:20260419T170431
CREATED:20260314T152326Z
LAST-MODIFIED:20260411T132427Z
UID:10025534-1776070800-1776078000@gslcwi.com
SUMMARY:Ruth Circle
DESCRIPTION:Brent / Polly\n________________________________________________________________________________\nMicrosoft Teams Need help?\nJoin the meeting now\nMeeting ID: 231 318 037 012\nPasscode: zkWPHb\n________________________________\nFor organizers: Meeting options\n________________________________________________________________________________
URL:https://gslcwi.com/event/ruth-circle-52/
LOCATION:Madison Good Shepherd Room
END:VEVENT
BEGIN:VEVENT
DTSTART;TZID=America/Chicago:20260413T104500
DTEND;TZID=America/Chicago:20260413T114500
DTSTAMP:20260419T170431
CREATED:20260314T152327Z
LAST-MODIFIED:20260411T132427Z
UID:10025536-1776077100-1776080700@gslcwi.com
SUMMARY:ACM Program Committee
DESCRIPTION:Jared\n________________________________________________________________________________\nMicrosoft Teams Need help?\nJoin the meeting now\nMeeting ID: 246 849 161 092 5\nPasscode: 2RT2793w\n________________________________\nFor organizers: Meeting options\n________________________________________________________________________________
URL:https://gslcwi.com/event/acm-program-committee-21/
LOCATION:Madison Lobby
END:VEVENT
BEGIN:VEVENT
DTSTART;TZID=America/Chicago:20260413T120000
DTEND;TZID=America/Chicago:20260413T130000
DTSTAMP:20260419T170431
CREATED:20260314T152328Z
LAST-MODIFIED:20260411T132427Z
UID:10025537-1776081600-1776085200@gslcwi.com
SUMMARY:ACM Board Meeting
DESCRIPTION:Jared
URL:https://gslcwi.com/event/acm-board-meeting-9/
LOCATION:Madison Good Shepherd Room
END:VEVENT
BEGIN:VEVENT
DTSTART;TZID=America/Chicago:20260413T160000
DTEND;TZID=America/Chicago:20260413T173000
DTSTAMP:20260419T170431
CREATED:20220923T135855Z
LAST-MODIFIED:20230913T194729Z
UID:10015608-1776096000-1776101400@gslcwi.com
SUMMARY:Literacy Network
DESCRIPTION:
URL:https://gslcwi.com/event/literacy-network-40/2026-04-13/
LOCATION:Madison Room 11/The Sheep Fold; Madison Room 9
CATEGORIES:Community Event
END:VEVENT
BEGIN:VEVENT
DTSTART;TZID=America/Chicago:20260413T160000
DTEND;TZID=America/Chicago:20260413T173000
DTSTAMP:20260419T170431
CREATED:20260314T152328Z
LAST-MODIFIED:20260411T132921Z
UID:10025538-1776096000-1776101400@gslcwi.com
SUMMARY:Literacy Network
DESCRIPTION:Bex Fabrizio Bex@litnetwork.org
URL:https://gslcwi.com/event/literacy-network-317/
LOCATION:Madison Good Shepherd Room
END:VEVENT
BEGIN:VEVENT
DTSTART;TZID=America/Chicago:20260413T173000
DTEND;TZID=America/Chicago:20260413T190000
DTSTAMP:20260419T170431
CREATED:20260314T152725Z
LAST-MODIFIED:20260411T132428Z
UID:10025540-1776101400-1776106800@gslcwi.com
SUMMARY:Girl Scouts
DESCRIPTION:Kim Cleveland 763-300-2363\n________________________________________________________________________________\nMicrosoft Teams Need help?\nJoin the meeting now\nMeeting ID: 228 777 967 663 32\nPasscode: Ks7n2Jj7\n________________________________\nFor organizers: Meeting options\n________________________________________________________________________________
URL:https://gslcwi.com/event/girl-scouts-244/
LOCATION:Verona Fellowship Hall
END:VEVENT
BEGIN:VEVENT
DTSTART;TZID=America/Chicago:20260413T180000
DTEND;TZID=America/Chicago:20260413T190000
DTSTAMP:20260419T170431
CREATED:20260314T153146Z
LAST-MODIFIED:20260411T132922Z
UID:10025544-1776103200-1776106800@gslcwi.com
SUMMARY:Wolf Den Meeting
DESCRIPTION:Christopher Theisen\, theisen.christopher@gmail.com
URL:https://gslcwi.com/event/wolf-den-meeting-31/
LOCATION:Verona Room 7
END:VEVENT
BEGIN:VEVENT
DTSTART;TZID=America/Chicago:20260413T180000
DTEND;TZID=America/Chicago:20260413T190000
DTSTAMP:20260419T170431
CREATED:20260314T153147Z
LAST-MODIFIED:20260411T132921Z
UID:10025545-1776103200-1776106800@gslcwi.com
SUMMARY:Webelos
DESCRIPTION:Kyle Davis\, anthem1@gmail.com
URL:https://gslcwi.com/event/webelos-11/
LOCATION:Verona Room 6
END:VEVENT
BEGIN:VEVENT
DTSTART;TZID=America/Chicago:20260413T180000
DTEND;TZID=America/Chicago:20260413T203000
DTSTAMP:20260419T170431
CREATED:20260314T152724Z
LAST-MODIFIED:20260411T132428Z
UID:10025539-1776103200-1776112200@gslcwi.com
SUMMARY:The Grace Collective
DESCRIPTION:New GSLC women’s social community created to bring women together to grow in faith\, friendship and community.\n–\nMon\, Apr 13\, 6-8:15pm. Bring a project\, craft\, game or simply yourself. Meet other women\, moms\, retirees\, nature-lovers\, etc. Start a friendship circle with common interests. Bring an appetizer if you wish.\n–\nTues\, May 26th – Ice Age Trail and AzTec Taqueria (160 Keenan Ct\, Verona). We’ll trek through one of the most beautiful Ice Age Trail segments in the state\, enjoy conversation\, nature and tacos! Not into the hike? Meet us 6:30pm\, AzTec Taqueria\, Verona. Trail walkers\, meet at McKee/S. High Point Ice Age Trail Segment parking lot/shelter at 5:30-5:45pm.\n–\nReach out to Holly if you want event updates. hollyjsimon@gmail.com\nJoin Facebook Group: The Grace Collective – GSLC for events & communication.\n 
URL:https://gslcwi.com/event/grace-collective-6/
LOCATION:Verona Sanctuary
ATTACH;FMTTYPE=image/jpeg:https://gslcwi.com/wp-content/uploads/2026/01/The-Grace-Collective-16x9-copy.jpg
END:VEVENT
BEGIN:VEVENT
DTSTART;TZID=America/Chicago:20260413T180000
DTEND;TZID=America/Chicago:20260413T203000
DTSTAMP:20260419T170431
CREATED:20260314T153147Z
LAST-MODIFIED:20260314T153147Z
UID:10025546-1776103200-1776112200@gslcwi.com
SUMMARY:Grace Collective
DESCRIPTION:Holly Simon\, hollyjsimon@gmail.com
URL:https://gslcwi.com/event/grace-collective-7/
LOCATION:Verona Coffee Bar
END:VEVENT
BEGIN:VEVENT
DTSTART;TZID=America/Chicago:20260413T183000
DTEND;TZID=America/Chicago:20260413T200000
DTSTAMP:20260419T170431
CREATED:20260314T152726Z
LAST-MODIFIED:20260411T132922Z
UID:10025542-1776105000-1776110400@gslcwi.com
SUMMARY:Den Meeting
DESCRIPTION:Joshua Rubin jkotrub@gmail.com
URL:https://gslcwi.com/event/den-meeting-100/
LOCATION:Verona Room 11
END:VEVENT
BEGIN:VEVENT
DTSTART;TZID=America/Chicago:20260413T183000
DTEND;TZID=America/Chicago:20260413T200000
DTSTAMP:20260419T170431
CREATED:20260411T132921Z
LAST-MODIFIED:20260411T132921Z
UID:10025726-1776105000-1776110400@gslcwi.com
SUMMARY:Finance Committee Meeting
DESCRIPTION:________________________________________________________________________________\nMicrosoft Teams meeting\nJoin: https://teams.microsoft.com/meet/23566615288812?p=gDiZpMaxlwZgYOS7XE\nMeeting ID: 235 666 152 888 12\nPasscode: Qo7Uj6SU\n________________________________\nNeed help? | System reference\nFor organizers: Meeting options\n________________________________________________________________________________
URL:https://gslcwi.com/event/finance-committee-meeting-5/
LOCATION:Madison Good Shepherd Room
END:VEVENT
END:VCALENDAR