BEGIN:VCALENDAR
VERSION:2.0
PRODID:-//Good Shepherd Lutheran Church - ECPv6.15.20//NONSGML v1.0//EN
CALSCALE:GREGORIAN
METHOD:PUBLISH
X-ORIGINAL-URL:https://gslcwi.com
X-WR-CALDESC:Events for Good Shepherd Lutheran Church
REFRESH-INTERVAL;VALUE=DURATION:PT1H
X-Robots-Tag:noindex
X-PUBLISHED-TTL:PT1H
BEGIN:VTIMEZONE
TZID:America/Chicago
BEGIN:DAYLIGHT
TZOFFSETFROM:-0600
TZOFFSETTO:-0500
TZNAME:CDT
DTSTART:20250309T080000
END:DAYLIGHT
BEGIN:STANDARD
TZOFFSETFROM:-0500
TZOFFSETTO:-0600
TZNAME:CST
DTSTART:20251102T070000
END:STANDARD
BEGIN:DAYLIGHT
TZOFFSETFROM:-0600
TZOFFSETTO:-0500
TZNAME:CDT
DTSTART:20260308T080000
END:DAYLIGHT
BEGIN:STANDARD
TZOFFSETFROM:-0500
TZOFFSETTO:-0600
TZNAME:CST
DTSTART:20261101T070000
END:STANDARD
BEGIN:DAYLIGHT
TZOFFSETFROM:-0600
TZOFFSETTO:-0500
TZNAME:CDT
DTSTART:20270314T080000
END:DAYLIGHT
BEGIN:STANDARD
TZOFFSETFROM:-0500
TZOFFSETTO:-0600
TZNAME:CST
DTSTART:20271107T070000
END:STANDARD
END:VTIMEZONE
BEGIN:VEVENT
DTSTART;TZID=America/Chicago:20260426T090000
DTEND;TZID=America/Chicago:20260426T100000
DTSTAMP:20260420T135642
CREATED:20240609T130655Z
LAST-MODIFIED:20240926T161612Z
UID:10013831-1777194000-1777197600@gslcwi.com
SUMMARY:9:00 a.m. Worship Service
DESCRIPTION:You’re invited to the intersection of Whitney Way and Raymond Road for a morning of worship with traditional Lutheran textures and rhythms.
URL:https://gslcwi.com/event/900-worship-service-24-13-2-7/2026-04-26/
LOCATION:Madison Sanctuary
CATEGORIES:Worship
ATTACH;FMTTYPE=image/jpeg:https://gslcwi.com/wp-content/uploads/2024/05/9am2.jpg
END:VEVENT
BEGIN:VEVENT
DTSTART;TZID=America/Chicago:20260426T090000
DTEND;TZID=America/Chicago:20260426T100000
DTSTAMP:20260420T135642
CREATED:20260328T153711Z
LAST-MODIFIED:20260418T142055Z
UID:10025629-1777194000-1777197600@gslcwi.com
SUMMARY:Madison Church Service
DESCRIPTION:Pr. Craig
URL:https://gslcwi.com/event/madison-church-service-68/
LOCATION:Madison Sanctuary; Madison Lobby
END:VEVENT
BEGIN:VEVENT
DTSTART;TZID=America/Chicago:20260426T100000
DTEND;TZID=America/Chicago:20260426T110000
DTSTAMP:20260420T135642
CREATED:20240610T203803Z
LAST-MODIFIED:20240610T203803Z
UID:10020221-1777197600-1777201200@gslcwi.com
SUMMARY:10:00 a.m. Worship Service
DESCRIPTION:Join us on County Highway PD in Verona for morning Worship service featuring modern expressions of praise and prayer anchored by foundational traditions.
URL:https://gslcwi.com/event/1000-a-m-worship-service/2026-04-26/
LOCATION:Good Shepherd Verona Campus\, 7291 County Road PD\, Verona\, WI\, 53593\, United States
CATEGORIES:Worship
ATTACH;FMTTYPE=image/jpeg:https://gslcwi.com/wp-content/uploads/2024/06/10_am_worship_verona.jpg
ORGANIZER;CN="Jared Stellmacher":MAILTO:jstellmacher@gslcwi.com
END:VEVENT
BEGIN:VEVENT
DTSTART;TZID=America/Chicago:20260426T100000
DTEND;TZID=America/Chicago:20260426T110000
DTSTAMP:20260420T135642
CREATED:20260328T153710Z
LAST-MODIFIED:20260418T142055Z
UID:10025628-1777197600-1777201200@gslcwi.com
SUMMARY:Verona Worship Service
DESCRIPTION:Pr. Craig
URL:https://gslcwi.com/event/verona-worship-service-69/
LOCATION:Verona Sanctuary; Verona Lobby
END:VEVENT
BEGIN:VEVENT
DTSTART;TZID=America/Chicago:20260426T120000
DTEND;TZID=America/Chicago:20260426T160000
DTSTAMP:20260420T135642
CREATED:20260328T153712Z
LAST-MODIFIED:20260418T142056Z
UID:10025630-1777204800-1777219200@gslcwi.com
SUMMARY:Iglesia evangelica el remanente
DESCRIPTION:Juan\, alcaconstruction@yahoo.com\nRT\nNelsy Palma nelsypalma24@gmail.com\nMisael Gamez misaelgamezguti@gmail.com
URL:https://gslcwi.com/event/iglesia-evangelica-el-remanente-298/
LOCATION:Madison Peterson Hall
END:VEVENT
BEGIN:VEVENT
DTSTART;TZID=America/Chicago:20260426T120000
DTEND;TZID=America/Chicago:20260426T170000
DTSTAMP:20260420T135642
CREATED:20220925T214225Z
LAST-MODIFIED:20230307T202102Z
UID:10017668-1777204800-1777222800@gslcwi.com
SUMMARY:Pickleball
DESCRIPTION:
URL:https://gslcwi.com/event/pickleball-81/2026-04-26/
LOCATION:Verona Gym
CATEGORIES:Sports,Verona Gym
ATTACH;FMTTYPE=image/jpeg:https://gslcwi.com/wp-content/uploads/2023/02/pickleball2-1.jpg
END:VEVENT
BEGIN:VEVENT
DTSTART;TZID=America/Chicago:20260426T130000
DTEND;TZID=America/Chicago:20260426T170000
DTSTAMP:20260420T135642
CREATED:20260328T153715Z
LAST-MODIFIED:20260418T142056Z
UID:10025632-1777208400-1777222800@gslcwi.com
SUMMARY:Pickleball
DESCRIPTION:Phyllis Wiederhoeft\npwiederhoeft@gmail.com
URL:https://gslcwi.com/event/pickleball-362/
LOCATION:Verona Gym
END:VEVENT
BEGIN:VEVENT
DTSTART;TZID=America/Chicago:20260426T140000
DTEND;TZID=America/Chicago:20260426T153000
DTSTAMP:20260420T135642
CREATED:20260328T153714Z
LAST-MODIFIED:20260418T142557Z
UID:10025631-1777212000-1777217400@gslcwi.com
SUMMARY:Girl Scouts
DESCRIPTION:Sara Powers sapowers09@gmail.com
URL:https://gslcwi.com/event/girl-scouts-248/
LOCATION:Madison Room 11/The Sheep Fold
END:VEVENT
BEGIN:VEVENT
DTSTART;TZID=America/Chicago:20260426T153000
DTEND;TZID=America/Chicago:20260426T180000
DTSTAMP:20260420T135642
CREATED:20260328T154124Z
LAST-MODIFIED:20260418T142056Z
UID:10025634-1777217400-1777226400@gslcwi.com
SUMMARY:Faith of Christ Church
DESCRIPTION:Gorge Garcia\, gorgegarcia613@yahoo.com
URL:https://gslcwi.com/event/faith-of-christ-church-270/
LOCATION:Madison Room 11/The Sheep Fold
END:VEVENT
BEGIN:VEVENT
DTSTART;TZID=America/Chicago:20260426T160000
DTEND;TZID=America/Chicago:20260426T173000
DTSTAMP:20260420T135642
CREATED:20260404T150653Z
LAST-MODIFIED:20260418T142557Z
UID:10025673-1777219200-1777224600@gslcwi.com
SUMMARY:Anana Parent Meeting
DESCRIPTION:Melissa Bennett melissa.bennett.90@gmail.com
URL:https://gslcwi.com/event/anana-parent-meeting/
LOCATION:Madison Good Shepherd Room; Madison Room 5
END:VEVENT
BEGIN:VEVENT
DTSTART;TZID=America/Chicago:20260426T180000
DTEND;TZID=America/Chicago:20260426T190000
DTSTAMP:20260420T135642
CREATED:20240925T155628Z
LAST-MODIFIED:20240925T155628Z
UID:10021207-1777226400-1777230000@gslcwi.com
SUMMARY:6:00 p.m. Worship Service
DESCRIPTION:A worship service with evening rhythms for song\, prayer\, and reflection rooted in ancient practices and present day cares & concerns.
URL:https://gslcwi.com/event/600-p-m-worship-service/2026-04-26/
LOCATION:Good Shepherd Verona Campus\, 7291 County Road PD\, Verona\, WI\, 53593\, United States
CATEGORIES:Worship
ATTACH;FMTTYPE=image/jpeg:https://gslcwi.com/wp-content/uploads/2024/09/6pmw2-1.jpg
ORGANIZER;CN="Jared Stellmacher":MAILTO:jstellmacher@gslcwi.com
END:VEVENT
BEGIN:VEVENT
DTSTART;TZID=America/Chicago:20260426T180000
DTEND;TZID=America/Chicago:20260426T190000
DTSTAMP:20260420T135642
CREATED:20260328T154124Z
LAST-MODIFIED:20260418T142558Z
UID:10025633-1777226400-1777230000@gslcwi.com
SUMMARY:6:00 Worship Service
DESCRIPTION:________________________________________________________________________________\nMicrosoft Teams Need help?\nJoin the meeting now\nMeeting ID: 242 838 998 615 7\nPasscode: 9VG9JP66\n________________________________\nFor organizers: Meeting options\n________________________________________________________________________________
URL:https://gslcwi.com/event/600-worship-service-67/
LOCATION:Verona Lobby; Verona Sanctuary
END:VEVENT
END:VCALENDAR