BEGIN:VCALENDAR
VERSION:2.0
PRODID:-//Good Shepherd Lutheran Church - ECPv6.15.20//NONSGML v1.0//EN
CALSCALE:GREGORIAN
METHOD:PUBLISH
X-ORIGINAL-URL:https://gslcwi.com
X-WR-CALDESC:Events for Good Shepherd Lutheran Church
REFRESH-INTERVAL;VALUE=DURATION:PT1H
X-Robots-Tag:noindex
X-PUBLISHED-TTL:PT1H
BEGIN:VTIMEZONE
TZID:America/Chicago
BEGIN:DAYLIGHT
TZOFFSETFROM:-0600
TZOFFSETTO:-0500
TZNAME:CDT
DTSTART:20250309T080000
END:DAYLIGHT
BEGIN:STANDARD
TZOFFSETFROM:-0500
TZOFFSETTO:-0600
TZNAME:CST
DTSTART:20251102T070000
END:STANDARD
BEGIN:DAYLIGHT
TZOFFSETFROM:-0600
TZOFFSETTO:-0500
TZNAME:CDT
DTSTART:20260308T080000
END:DAYLIGHT
BEGIN:STANDARD
TZOFFSETFROM:-0500
TZOFFSETTO:-0600
TZNAME:CST
DTSTART:20261101T070000
END:STANDARD
BEGIN:DAYLIGHT
TZOFFSETFROM:-0600
TZOFFSETTO:-0500
TZNAME:CDT
DTSTART:20270314T080000
END:DAYLIGHT
BEGIN:STANDARD
TZOFFSETFROM:-0500
TZOFFSETTO:-0600
TZNAME:CST
DTSTART:20271107T070000
END:STANDARD
END:VTIMEZONE
BEGIN:VEVENT
DTSTART;TZID=America/Chicago:20260512T083000
DTEND;TZID=America/Chicago:20260512T093000
DTSTAMP:20260421T183031
CREATED:20260411T155618Z
LAST-MODIFIED:20260418T155412Z
UID:10025749-1778574600-1778578200@gslcwi.com
SUMMARY:Birth to 3 Play Group
DESCRIPTION:See Tracy Gold
URL:https://gslcwi.com/event/birth-to-3-play-group-35/
LOCATION:Verona Gym
END:VEVENT
BEGIN:VEVENT
DTSTART;TZID=America/Chicago:20260512T090000
DTEND;TZID=America/Chicago:20260512T110000
DTSTAMP:20260421T183031
CREATED:20230320T152255Z
LAST-MODIFIED:20230921T134352Z
UID:10014641-1778576400-1778583600@gslcwi.com
SUMMARY:Tuesday Trekkers
DESCRIPTION:Join other GS folks for an hour-long hike\, Tuesdays at 9am.  Meets at different locations around the area\, enjoying fresh air and fellowship.
URL:https://gslcwi.com/event/tuesday-trekkers-8/2026-05-12/
LOCATION:Offsite
CATEGORIES:Adult Education,Fellowship,Sports
ATTACH;FMTTYPE=image/jpeg:https://gslcwi.com/wp-content/uploads/2023/03/trekers720.jpg
ORGANIZER;CN="Diane Hughes":MAILTO:dhhands@sbcglobal.net
END:VEVENT
BEGIN:VEVENT
DTSTART;TZID=America/Chicago:20260512T093000
DTEND;TZID=America/Chicago:20260512T120000
DTSTAMP:20260421T183031
CREATED:20260411T155617Z
LAST-MODIFIED:20260418T155412Z
UID:10025748-1778578200-1778587200@gslcwi.com
SUMMARY:Holy COW at BPNN
DESCRIPTION:RT
URL:https://gslcwi.com/event/holy-cow-at-bpnn-2/
LOCATION:Food Cart Event
END:VEVENT
BEGIN:VEVENT
DTSTART;TZID=America/Chicago:20260512T103000
DTEND;TZID=America/Chicago:20260512T130000
DTSTAMP:20260421T183031
CREATED:20260411T160029Z
LAST-MODIFIED:20260418T155835Z
UID:10025750-1778581800-1778590800@gslcwi.com
SUMMARY:Caregiver Support Group
DESCRIPTION:Hayde\, Julia Hayde.Julia@danecounty.gov
URL:https://gslcwi.com/event/caregiver-support-group-28/
LOCATION:Madison Room 6
END:VEVENT
BEGIN:VEVENT
DTSTART;TZID=America/Chicago:20260512T110000
DTEND;TZID=America/Chicago:20260512T120000
DTSTAMP:20260421T183031
CREATED:20260411T160029Z
LAST-MODIFIED:20260418T155835Z
UID:10025751-1778583600-1778587200@gslcwi.com
SUMMARY:Staff Meeting
DESCRIPTION:
URL:https://gslcwi.com/event/staff-meeting-84/
LOCATION:Madison Good Shepherd Room
END:VEVENT
BEGIN:VEVENT
DTSTART;TZID=America/Chicago:20260512T183000
DTEND;TZID=America/Chicago:20260512T200000
DTSTAMP:20260421T183031
CREATED:20260411T160031Z
LAST-MODIFIED:20260418T155836Z
UID:10025754-1778610600-1778616000@gslcwi.com
SUMMARY:Bingo
DESCRIPTION:RT and Ronda
URL:https://gslcwi.com/event/bingo-10/
LOCATION:Verona Coffee Bar
END:VEVENT
BEGIN:VEVENT
DTSTART;TZID=America/Chicago:20260512T183000
DTEND;TZID=America/Chicago:20260512T200000
DTSTAMP:20260421T183031
CREATED:20260411T160506Z
LAST-MODIFIED:20260418T161818Z
UID:10025755-1778610600-1778616000@gslcwi.com
SUMMARY:Sigma Masters
DESCRIPTION:Trisha Bloom – 608-218-0422\n________________________________________________________________________________\nMicrosoft Teams meeting\nJoin: https://teams.microsoft.com/meet/23517099312777?p=UYmRbAEChNovLovza9\nMeeting ID: 235 170 993 127 77\nPasscode: aR3fD2yJ\n________________________________\nNeed help? | System reference\nFor organizers: Meeting options\n________________________________________________________________________________
URL:https://gslcwi.com/event/sigma-masters/
LOCATION:Madison Good Shepherd Room
END:VEVENT
BEGIN:VEVENT
DTSTART;TZID=America/Chicago:20260512T183000
DTEND;TZID=America/Chicago:20260512T203000
DTSTAMP:20260421T183031
CREATED:20260411T160030Z
LAST-MODIFIED:20260418T155835Z
UID:10025752-1778610600-1778617800@gslcwi.com
SUMMARY:Boy Scouts
DESCRIPTION:Amy Byrnes – Scout Master ajmbyrnes@yahoo.com\nMatt Watrud – Scout Master watrud@uwalumni.com
URL:https://gslcwi.com/event/boy-scouts-95/
LOCATION:Verona Fellowship Hall
END:VEVENT
BEGIN:VEVENT
DTSTART;TZID=America/Chicago:20260512T190000
DTEND;TZID=America/Chicago:20260512T200000
DTSTAMP:20260421T183031
CREATED:20230921T142540Z
LAST-MODIFIED:20230921T152532Z
UID:10016773-1778612400-1778616000@gslcwi.com
SUMMARY:Wine and Word Women's Study
DESCRIPTION:
URL:https://gslcwi.com/event/wine-and-word-womens-study/2026-05-12/
LOCATION:RP Adler’s\, 8202 Watts Rd\, Madison\, WI\, 53711\, United States
CATEGORIES:Bible Study,Women's Ministry
ORGANIZER;CN="Liz Deterding":MAILTO:elizabeth.deterding@gmail.com
END:VEVENT
BEGIN:VEVENT
DTSTART;TZID=America/Chicago:20260512T193000
DTEND;TZID=America/Chicago:20260512T210000
DTSTAMP:20260421T183031
CREATED:20260411T160030Z
LAST-MODIFIED:20260418T155836Z
UID:10025753-1778614200-1778619600@gslcwi.com
SUMMARY:AA Meeting
DESCRIPTION:Jenni Nowak jenninowak25@gmail.com\nAlexander: 585.305.3414\nJennifer: 608.515.0697
URL:https://gslcwi.com/event/aa-meeting-206/
LOCATION:Verona Room 6
END:VEVENT
END:VCALENDAR