BEGIN:VCALENDAR
VERSION:2.0
PRODID:-//Good Shepherd Lutheran Church - ECPv6.15.20//NONSGML v1.0//EN
CALSCALE:GREGORIAN
METHOD:PUBLISH
X-WR-CALNAME:Good Shepherd Lutheran Church
X-ORIGINAL-URL:https://gslcwi.com
X-WR-CALDESC:Events for Good Shepherd Lutheran Church
REFRESH-INTERVAL;VALUE=DURATION:PT1H
X-Robots-Tag:noindex
X-PUBLISHED-TTL:PT1H
BEGIN:VTIMEZONE
TZID:America/Chicago
BEGIN:DAYLIGHT
TZOFFSETFROM:-0600
TZOFFSETTO:-0500
TZNAME:CDT
DTSTART:20240310T080000
END:DAYLIGHT
BEGIN:STANDARD
TZOFFSETFROM:-0500
TZOFFSETTO:-0600
TZNAME:CST
DTSTART:20241103T070000
END:STANDARD
BEGIN:DAYLIGHT
TZOFFSETFROM:-0600
TZOFFSETTO:-0500
TZNAME:CDT
DTSTART:20250309T080000
END:DAYLIGHT
BEGIN:STANDARD
TZOFFSETFROM:-0500
TZOFFSETTO:-0600
TZNAME:CST
DTSTART:20251102T070000
END:STANDARD
BEGIN:DAYLIGHT
TZOFFSETFROM:-0600
TZOFFSETTO:-0500
TZNAME:CDT
DTSTART:20260308T080000
END:DAYLIGHT
BEGIN:STANDARD
TZOFFSETFROM:-0500
TZOFFSETTO:-0600
TZNAME:CST
DTSTART:20261101T070000
END:STANDARD
END:VTIMEZONE
BEGIN:VEVENT
DTSTART;TZID=America/Chicago:20250201T083000
DTEND;TZID=America/Chicago:20250201T093000
DTSTAMP:20260420T095519
CREATED:20220925T214224Z
LAST-MODIFIED:20230921T134939Z
UID:10016436-1738398600-1738402200@gslcwi.com
SUMMARY:Men's Bible Study Zoom
DESCRIPTION:A small group bible study and fellowship group.
URL:https://gslcwi.com/event/mens-bible-study-zoom-74/2025-02-01/
LOCATION:Zoom Meeting
CATEGORIES:Bible Study,Men's Ministry
ORGANIZER;CN="Vern Andren":MAILTO:vwacja12@outlook.com
END:VEVENT
BEGIN:VEVENT
DTSTART;TZID=America/Chicago:20250204T090000
DTEND;TZID=America/Chicago:20250204T110000
DTSTAMP:20260420T095519
CREATED:20230320T152255Z
LAST-MODIFIED:20230921T134352Z
UID:10013402-1738659600-1738666800@gslcwi.com
SUMMARY:Tuesday Trekkers
DESCRIPTION:Join other GS folks for an hour-long hike\, Tuesdays at 9am.  Meets at different locations around the area\, enjoying fresh air and fellowship.
URL:https://gslcwi.com/event/tuesday-trekkers-8/2025-02-04/
LOCATION:Offsite
CATEGORIES:Adult Education,Fellowship,Sports
ATTACH;FMTTYPE=image/jpeg:https://gslcwi.com/wp-content/uploads/2023/03/trekers720.jpg
ORGANIZER;CN="Diane Hughes":MAILTO:dhhands@sbcglobal.net
END:VEVENT
BEGIN:VEVENT
DTSTART;TZID=America/Chicago:20250204T183000
DTEND;TZID=America/Chicago:20250204T200000
DTSTAMP:20260420T095519
CREATED:20250103T021355Z
LAST-MODIFIED:20250130T223506Z
UID:10022022-1738693800-1738699200@gslcwi.com
SUMMARY:Bonhoeffer Class Week 3 | Faith is Worldly
DESCRIPTION:Bonhoeffer and “This-Worldliness”\nBy attending this session\, participants will continue to consider Bonhoeffer’s theological and ethical themes\, but now in light of his thinking about justice. They will continue to think about the relevance of Bonhoeffer’s thought for our politically fraught and divisive times. \nZoom Meeting Details\nClick here to join the Zoom meeting \nTopic: Good Shepherd | Bonhoeffer Class 3\nTime: Feb 4\, 2025 06:30 PM Central Time (US and Canada)\nJoin Zoom Meeting\nhttps://duke.zoom.us/j/98621143192 \nMeeting ID: 986 2114 3192 \n  \n  \n 
URL:https://gslcwi.com/event/bonhoeffer-class-3/
LOCATION:Madison Peterson Hall
CATEGORIES:Adult Education
ATTACH;FMTTYPE=image/jpeg:https://gslcwi.com/wp-content/uploads/2025/01/Bonhoeffer-Classs.jpg
END:VEVENT
BEGIN:VEVENT
DTSTART;TZID=America/Chicago:20250204T190000
DTEND;TZID=America/Chicago:20250204T200000
DTSTAMP:20260420T095519
CREATED:20230921T142540Z
LAST-MODIFIED:20230921T152532Z
UID:10016707-1738695600-1738699200@gslcwi.com
SUMMARY:Wine and Word Women's Study
DESCRIPTION:
URL:https://gslcwi.com/event/wine-and-word-womens-study/2025-02-04/
LOCATION:RP Adler’s\, 8202 Watts Rd\, Madison\, WI\, 53711\, United States
CATEGORIES:Bible Study,Women's Ministry
ORGANIZER;CN="Liz Deterding":MAILTO:elizabeth.deterding@gmail.com
END:VEVENT
BEGIN:VEVENT
DTSTART;TZID=America/Chicago:20250205T070000
DTEND;TZID=America/Chicago:20250205T080000
DTSTAMP:20260420T095519
CREATED:20230228T160601Z
LAST-MODIFIED:20230921T134643Z
UID:10012613-1738738800-1738742400@gslcwi.com
SUMMARY:Wednesday Morning Men's Bible Study
DESCRIPTION:A Weekly Men’s Bible Study that gathers on Zoom.
URL:https://gslcwi.com/event/wednesday-morning-mens-bible-study/2025-02-05/
LOCATION:WI
CATEGORIES:Adult Education,Bible Study,Men's Ministry
ATTACH;FMTTYPE=image/jpeg:https://gslcwi.com/wp-content/uploads/2023/02/fa-barboza-NWoaoMgMiVY-unsplash.jpg
ORGANIZER;CN="Dean Nelson":MAILTO:deanwnelson@gmail.com
END:VEVENT
BEGIN:VEVENT
DTSTART;TZID=America/Chicago:20250207T063000
DTEND;TZID=America/Chicago:20250207T073000
DTSTAMP:20260420T095519
CREATED:20220924T190555Z
LAST-MODIFIED:20260121T194640Z
UID:10012276-1738909800-1738913400@gslcwi.com
SUMMARY:Friday Morning Men's Group
DESCRIPTION:A men’s gathering for support\, study\, and fellowship.
URL:https://gslcwi.com/event/friday-morning-mens-group-74/2025-02-07/
LOCATION:Verona Coffee Bar
CATEGORIES:Adult Education,Men's Ministry
ORGANIZER;CN="Rick Thomas":MAILTO:rthomas@gslcwi.com
END:VEVENT
BEGIN:VEVENT
DTSTART;TZID=America/Chicago:20250208T083000
DTEND;TZID=America/Chicago:20250208T093000
DTSTAMP:20260420T095519
CREATED:20220925T214224Z
LAST-MODIFIED:20230921T134939Z
UID:10016437-1739003400-1739007000@gslcwi.com
SUMMARY:Men's Bible Study Zoom
DESCRIPTION:A small group bible study and fellowship group.
URL:https://gslcwi.com/event/mens-bible-study-zoom-74/2025-02-08/
LOCATION:Zoom Meeting
CATEGORIES:Bible Study,Men's Ministry
ORGANIZER;CN="Vern Andren":MAILTO:vwacja12@outlook.com
END:VEVENT
BEGIN:VEVENT
DTSTART;TZID=America/Chicago:20250211T090000
DTEND;TZID=America/Chicago:20250211T110000
DTSTAMP:20260420T095519
CREATED:20230320T152255Z
LAST-MODIFIED:20230921T134352Z
UID:10013403-1739264400-1739271600@gslcwi.com
SUMMARY:Tuesday Trekkers
DESCRIPTION:Join other GS folks for an hour-long hike\, Tuesdays at 9am.  Meets at different locations around the area\, enjoying fresh air and fellowship.
URL:https://gslcwi.com/event/tuesday-trekkers-8/2025-02-11/
LOCATION:Offsite
CATEGORIES:Adult Education,Fellowship,Sports
ATTACH;FMTTYPE=image/jpeg:https://gslcwi.com/wp-content/uploads/2023/03/trekers720.jpg
ORGANIZER;CN="Diane Hughes":MAILTO:dhhands@sbcglobal.net
END:VEVENT
BEGIN:VEVENT
DTSTART;TZID=America/Chicago:20250211T183000
DTEND;TZID=America/Chicago:20250211T200000
DTSTAMP:20260420T095519
CREATED:20250110T025215Z
LAST-MODIFIED:20250206T224612Z
UID:10022079-1739298600-1739304000@gslcwi.com
SUMMARY:Bonhoeffer Class Week 4 | Taking a Stand
DESCRIPTION:Taking a Stand: “Is this a Bonhoeffer moment?” is the wrong question\nBy attending this session\, participants will consider lessons from Bonhoeffer formed by paying attention to the intersections of his biography\, theology\, and ethics. They will continue to think about the relevance of Bonhoeffer’s thought for our politically fraught and divisive times\, and consider what responsible action looks like in their own lives. \nZoom Meeting Details\nClick here to join the Zoom meeting \nTopic: Good Shepherd | Bonhoeffer Class 4\nTime: Feb 11\, 2025 06:30 PM Central Time (US and Canada)\nJoin Zoom Meeting\nhttps://duke.zoom.us/j/93479945615 \nMeeting ID: 934 7994 5615 \n  \n 
URL:https://gslcwi.com/event/bonhoeffer-class-4/
LOCATION:Madison Peterson Hall
CATEGORIES:Adult Education
ATTACH;FMTTYPE=image/jpeg:https://gslcwi.com/wp-content/uploads/2025/01/Bonhoeffer-Classs.jpg
ORGANIZER;CN="Eric Holmer":MAILTO:eholmer@gslcwi.com
END:VEVENT
BEGIN:VEVENT
DTSTART;TZID=America/Chicago:20250211T190000
DTEND;TZID=America/Chicago:20250211T200000
DTSTAMP:20260420T095519
CREATED:20230921T142540Z
LAST-MODIFIED:20230921T152532Z
UID:10016708-1739300400-1739304000@gslcwi.com
SUMMARY:Wine and Word Women's Study
DESCRIPTION:
URL:https://gslcwi.com/event/wine-and-word-womens-study/2025-02-11/
LOCATION:RP Adler’s\, 8202 Watts Rd\, Madison\, WI\, 53711\, United States
CATEGORIES:Bible Study,Women's Ministry
ORGANIZER;CN="Liz Deterding":MAILTO:elizabeth.deterding@gmail.com
END:VEVENT
BEGIN:VEVENT
DTSTART;TZID=America/Chicago:20250212T070000
DTEND;TZID=America/Chicago:20250212T080000
DTSTAMP:20260420T095519
CREATED:20230228T160601Z
LAST-MODIFIED:20230921T134643Z
UID:10012614-1739343600-1739347200@gslcwi.com
SUMMARY:Wednesday Morning Men's Bible Study
DESCRIPTION:A Weekly Men’s Bible Study that gathers on Zoom.
URL:https://gslcwi.com/event/wednesday-morning-mens-bible-study/2025-02-12/
LOCATION:WI
CATEGORIES:Adult Education,Bible Study,Men's Ministry
ATTACH;FMTTYPE=image/jpeg:https://gslcwi.com/wp-content/uploads/2023/02/fa-barboza-NWoaoMgMiVY-unsplash.jpg
ORGANIZER;CN="Dean Nelson":MAILTO:deanwnelson@gmail.com
END:VEVENT
BEGIN:VEVENT
DTSTART;TZID=America/Chicago:20250214T063000
DTEND;TZID=America/Chicago:20250214T073000
DTSTAMP:20260420T095519
CREATED:20220924T190555Z
LAST-MODIFIED:20260121T194640Z
UID:10012277-1739514600-1739518200@gslcwi.com
SUMMARY:Friday Morning Men's Group
DESCRIPTION:A men’s gathering for support\, study\, and fellowship.
URL:https://gslcwi.com/event/friday-morning-mens-group-74/2025-02-14/
LOCATION:Verona Coffee Bar
CATEGORIES:Adult Education,Men's Ministry
ORGANIZER;CN="Rick Thomas":MAILTO:rthomas@gslcwi.com
END:VEVENT
BEGIN:VEVENT
DTSTART;TZID=America/Chicago:20250215T083000
DTEND;TZID=America/Chicago:20250215T093000
DTSTAMP:20260420T095519
CREATED:20220925T214224Z
LAST-MODIFIED:20230921T134939Z
UID:10016438-1739608200-1739611800@gslcwi.com
SUMMARY:Men's Bible Study Zoom
DESCRIPTION:A small group bible study and fellowship group.
URL:https://gslcwi.com/event/mens-bible-study-zoom-74/2025-02-15/
LOCATION:Zoom Meeting
CATEGORIES:Bible Study,Men's Ministry
ORGANIZER;CN="Vern Andren":MAILTO:vwacja12@outlook.com
END:VEVENT
BEGIN:VEVENT
DTSTART;TZID=America/Chicago:20250218T090000
DTEND;TZID=America/Chicago:20250218T110000
DTSTAMP:20260420T095519
CREATED:20230320T152255Z
LAST-MODIFIED:20230921T134352Z
UID:10013404-1739869200-1739876400@gslcwi.com
SUMMARY:Tuesday Trekkers
DESCRIPTION:Join other GS folks for an hour-long hike\, Tuesdays at 9am.  Meets at different locations around the area\, enjoying fresh air and fellowship.
URL:https://gslcwi.com/event/tuesday-trekkers-8/2025-02-18/
LOCATION:Offsite
CATEGORIES:Adult Education,Fellowship,Sports
ATTACH;FMTTYPE=image/jpeg:https://gslcwi.com/wp-content/uploads/2023/03/trekers720.jpg
ORGANIZER;CN="Diane Hughes":MAILTO:dhhands@sbcglobal.net
END:VEVENT
BEGIN:VEVENT
DTSTART;TZID=America/Chicago:20250218T190000
DTEND;TZID=America/Chicago:20250218T200000
DTSTAMP:20260420T095519
CREATED:20230921T142540Z
LAST-MODIFIED:20230921T152532Z
UID:10016709-1739905200-1739908800@gslcwi.com
SUMMARY:Wine and Word Women's Study
DESCRIPTION:
URL:https://gslcwi.com/event/wine-and-word-womens-study/2025-02-18/
LOCATION:RP Adler’s\, 8202 Watts Rd\, Madison\, WI\, 53711\, United States
CATEGORIES:Bible Study,Women's Ministry
ORGANIZER;CN="Liz Deterding":MAILTO:elizabeth.deterding@gmail.com
END:VEVENT
BEGIN:VEVENT
DTSTART;TZID=America/Chicago:20250219T070000
DTEND;TZID=America/Chicago:20250219T080000
DTSTAMP:20260420T095519
CREATED:20230228T160601Z
LAST-MODIFIED:20230921T134643Z
UID:10012615-1739948400-1739952000@gslcwi.com
SUMMARY:Wednesday Morning Men's Bible Study
DESCRIPTION:A Weekly Men’s Bible Study that gathers on Zoom.
URL:https://gslcwi.com/event/wednesday-morning-mens-bible-study/2025-02-19/
LOCATION:WI
CATEGORIES:Adult Education,Bible Study,Men's Ministry
ATTACH;FMTTYPE=image/jpeg:https://gslcwi.com/wp-content/uploads/2023/02/fa-barboza-NWoaoMgMiVY-unsplash.jpg
ORGANIZER;CN="Dean Nelson":MAILTO:deanwnelson@gmail.com
END:VEVENT
BEGIN:VEVENT
DTSTART;TZID=America/Chicago:20250219T181500
DTEND;TZID=America/Chicago:20250219T200000
DTSTAMP:20260420T095519
CREATED:20250206T172635Z
LAST-MODIFIED:20250206T172722Z
UID:10022228-1739988900-1739995200@gslcwi.com
SUMMARY:A Time for Burning - Film Screening and Discussion
DESCRIPTION:Watch and Discuss with the Good Shepherd Community\nA Time for Burning is a 1966 American documentary film that explores the attempts of the minister of Augustana Lutheran Church in Omaha\, Nebraska\, to persuade his all-white congregation to reach out to “Negro” Lutherans in the city’s north side. The film was directed by Bill Jersey and was nominated for Best Documentary Feature in the 1967 Academy Awards. The film was commissioned by Lutheran Film Associates (LFA). \nThe film was remastered by the Academy Film Archive and premiered at the Oscars Museum in Los Angeles on December 17\, 2023. The film is shot in “cinéma vérité” style. It chronicles the relationship between the minister\, L. William Youngdahl\, and white and black Lutheran parishioners. The film includes a meeting between Youngdahl and a black barber\, Ernie Chambers\, who tells Youngdahl that his Jesus is “contaminated.” At one point another Omaha Lutheran minister\, Walter E. Rowoldt of Luther Memorial Lutheran Church\, says\, “This one lady said to me\, ‘pastor’\, she said\, ‘I want them to have everything I have\, I want God to bless them as much as he blesses me\, but’\, she says\, ‘pastor\, I just can’t be in the same room with them\, it just bothers me’.” Rowoldt and other ministers also discuss the concern that blacks moving into white neighborhoods will decrease property values. The attempt to reach out does not succeed and Youngdahl resigns as minister of the church. \nIn 2005\, A Time for Burning was selected for preservation in the United States National Film Registry by the Library of Congress as “culturally\, historically\, or aesthetically significant”. Chambers completed law school and was elected to the Nebraska Legislature in 1970. Senator Chambers is the longest-serving state senator in Nebraska history.
URL:https://gslcwi.com/event/a-time-for-burning-film-screening-and-discussion/
LOCATION:Verona Coffee Bar
CATEGORIES:Adult Education,Community Event
ATTACH;FMTTYPE=image/jpeg:https://gslcwi.com/wp-content/uploads/2025/02/A-Time-for-Burning-2025.jpg
ORGANIZER;CN="Eric Holmer":MAILTO:eholmer@gslcwi.com
END:VEVENT
BEGIN:VEVENT
DTSTART;TZID=America/Chicago:20250221T063000
DTEND;TZID=America/Chicago:20250221T073000
DTSTAMP:20260420T095519
CREATED:20220924T190555Z
LAST-MODIFIED:20260121T194640Z
UID:10012670-1740119400-1740123000@gslcwi.com
SUMMARY:Friday Morning Men's Group
DESCRIPTION:A men’s gathering for support\, study\, and fellowship.
URL:https://gslcwi.com/event/friday-morning-mens-group-74/2025-02-21/
LOCATION:Verona Coffee Bar
CATEGORIES:Adult Education,Men's Ministry
ORGANIZER;CN="Rick Thomas":MAILTO:rthomas@gslcwi.com
END:VEVENT
BEGIN:VEVENT
DTSTART;TZID=America/Chicago:20250222T083000
DTEND;TZID=America/Chicago:20250222T093000
DTSTAMP:20260420T095519
CREATED:20220925T214224Z
LAST-MODIFIED:20230921T134939Z
UID:10016439-1740213000-1740216600@gslcwi.com
SUMMARY:Men's Bible Study Zoom
DESCRIPTION:A small group bible study and fellowship group.
URL:https://gslcwi.com/event/mens-bible-study-zoom-74/2025-02-22/
LOCATION:Zoom Meeting
CATEGORIES:Bible Study,Men's Ministry
ORGANIZER;CN="Vern Andren":MAILTO:vwacja12@outlook.com
END:VEVENT
BEGIN:VEVENT
DTSTART;TZID=America/Chicago:20250225T090000
DTEND;TZID=America/Chicago:20250225T110000
DTSTAMP:20260420T095519
CREATED:20230320T152255Z
LAST-MODIFIED:20230921T134352Z
UID:10013405-1740474000-1740481200@gslcwi.com
SUMMARY:Tuesday Trekkers
DESCRIPTION:Join other GS folks for an hour-long hike\, Tuesdays at 9am.  Meets at different locations around the area\, enjoying fresh air and fellowship.
URL:https://gslcwi.com/event/tuesday-trekkers-8/2025-02-25/
LOCATION:Offsite
CATEGORIES:Adult Education,Fellowship,Sports
ATTACH;FMTTYPE=image/jpeg:https://gslcwi.com/wp-content/uploads/2023/03/trekers720.jpg
ORGANIZER;CN="Diane Hughes":MAILTO:dhhands@sbcglobal.net
END:VEVENT
BEGIN:VEVENT
DTSTART;TZID=America/Chicago:20250225T183000
DTEND;TZID=America/Chicago:20250225T200000
DTSTAMP:20260420T095519
CREATED:20250220T204255Z
LAST-MODIFIED:20250220T204256Z
UID:10022334-1740508200-1740513600@gslcwi.com
SUMMARY:Bonhoeffer Class - Part Five
DESCRIPTION:
URL:https://gslcwi.com/event/bonhoeffer-class-part-five/
LOCATION:Madison Kitchen; Madison Peterson Hall
CATEGORIES:Adult Education
ATTACH;FMTTYPE=image/jpeg:https://gslcwi.com/wp-content/uploads/2025/01/Bonhoeffer-Classs.jpg
ORGANIZER;CN="Eric Holmer":MAILTO:eholmer@gslcwi.com
END:VEVENT
BEGIN:VEVENT
DTSTART;TZID=America/Chicago:20250225T190000
DTEND;TZID=America/Chicago:20250225T200000
DTSTAMP:20260420T095519
CREATED:20230921T142540Z
LAST-MODIFIED:20230921T152532Z
UID:10016710-1740510000-1740513600@gslcwi.com
SUMMARY:Wine and Word Women's Study
DESCRIPTION:
URL:https://gslcwi.com/event/wine-and-word-womens-study/2025-02-25/
LOCATION:RP Adler’s\, 8202 Watts Rd\, Madison\, WI\, 53711\, United States
CATEGORIES:Bible Study,Women's Ministry
ORGANIZER;CN="Liz Deterding":MAILTO:elizabeth.deterding@gmail.com
END:VEVENT
BEGIN:VEVENT
DTSTART;TZID=America/Chicago:20250226T070000
DTEND;TZID=America/Chicago:20250226T080000
DTSTAMP:20260420T095519
CREATED:20230228T160601Z
LAST-MODIFIED:20230921T134643Z
UID:10012616-1740553200-1740556800@gslcwi.com
SUMMARY:Wednesday Morning Men's Bible Study
DESCRIPTION:A Weekly Men’s Bible Study that gathers on Zoom.
URL:https://gslcwi.com/event/wednesday-morning-mens-bible-study/2025-02-26/
LOCATION:WI
CATEGORIES:Adult Education,Bible Study,Men's Ministry
ATTACH;FMTTYPE=image/jpeg:https://gslcwi.com/wp-content/uploads/2023/02/fa-barboza-NWoaoMgMiVY-unsplash.jpg
ORGANIZER;CN="Dean Nelson":MAILTO:deanwnelson@gmail.com
END:VEVENT
BEGIN:VEVENT
DTSTART;TZID=America/Chicago:20250228T063000
DTEND;TZID=America/Chicago:20250228T073000
DTSTAMP:20260420T095519
CREATED:20220924T190555Z
LAST-MODIFIED:20260121T194640Z
UID:10012671-1740724200-1740727800@gslcwi.com
SUMMARY:Friday Morning Men's Group
DESCRIPTION:A men’s gathering for support\, study\, and fellowship.
URL:https://gslcwi.com/event/friday-morning-mens-group-74/2025-02-28/
LOCATION:Verona Coffee Bar
CATEGORIES:Adult Education,Men's Ministry
ORGANIZER;CN="Rick Thomas":MAILTO:rthomas@gslcwi.com
END:VEVENT
END:VCALENDAR