BEGIN:VCALENDAR
VERSION:2.0
PRODID:-//Good Shepherd Lutheran Church - ECPv6.15.20//NONSGML v1.0//EN
CALSCALE:GREGORIAN
METHOD:PUBLISH
X-ORIGINAL-URL:https://gslcwi.com
X-WR-CALDESC:Events for Good Shepherd Lutheran Church
REFRESH-INTERVAL;VALUE=DURATION:PT1H
X-Robots-Tag:noindex
X-PUBLISHED-TTL:PT1H
BEGIN:VTIMEZONE
TZID:America/Chicago
BEGIN:DAYLIGHT
TZOFFSETFROM:-0600
TZOFFSETTO:-0500
TZNAME:CDT
DTSTART:20220313T080000
END:DAYLIGHT
BEGIN:STANDARD
TZOFFSETFROM:-0500
TZOFFSETTO:-0600
TZNAME:CST
DTSTART:20221106T070000
END:STANDARD
BEGIN:DAYLIGHT
TZOFFSETFROM:-0600
TZOFFSETTO:-0500
TZNAME:CDT
DTSTART:20230312T080000
END:DAYLIGHT
BEGIN:STANDARD
TZOFFSETFROM:-0500
TZOFFSETTO:-0600
TZNAME:CST
DTSTART:20231105T070000
END:STANDARD
BEGIN:DAYLIGHT
TZOFFSETFROM:-0600
TZOFFSETTO:-0500
TZNAME:CDT
DTSTART:20240310T080000
END:DAYLIGHT
BEGIN:STANDARD
TZOFFSETFROM:-0500
TZOFFSETTO:-0600
TZNAME:CST
DTSTART:20241103T070000
END:STANDARD
END:VTIMEZONE
BEGIN:VEVENT
DTSTART;TZID=America/Chicago:20230707T170000
DTEND;TZID=America/Chicago:20230707T190000
DTSTAMP:20260422T035040
CREATED:20230512T162658Z
LAST-MODIFIED:20230512T162659Z
UID:10013999-1688749200-1688756400@gslcwi.com
SUMMARY:Family Friday Dinner
DESCRIPTION:This event is open to young families with children ages 0-5th grade. Enjoy time to connect with other families over a meal served by the Holy COW Food Truck at the Verona Campus Tent. Food\, drinks\, and outdoor toys will be provided! If you are interested\, it is not necessary to RSVP but encouraged so the Holy COW team can get an idea of how much food to prepare. Contact Emily Gold with any questions.
URL:https://gslcwi.com/event/family-friday-dinner/2023-07-07/
LOCATION:Verona Parking Lot; Verona Tent
CATEGORIES:Children's Ministry,Holy COW
ATTACH;FMTTYPE=image/png:https://gslcwi.com/wp-content/uploads/2023/05/fam-fri-din.png
ORGANIZER;CN="Emily Gold":MAILTO:egold@gslcwi.com
END:VEVENT
BEGIN:VEVENT
DTSTART;TZID=America/Chicago:20230717T090000
DTEND;TZID=America/Chicago:20230717T110000
DTSTAMP:20260422T035040
CREATED:20230622T043748Z
LAST-MODIFIED:20230713T003443Z
UID:10014539-1689584400-1689591600@gslcwi.com
SUMMARY:Kinder Creation Camp
DESCRIPTION:Geared specifically toward little learners\, discover God’s creation through outdoor exploration\, musical movement and hands-on creations
URL:https://gslcwi.com/event/kinder-creation-camp/
LOCATION:Verona Fellowship Hall; Verona Lobby; Verona Sanctuary; Verona Gym
CATEGORIES:Children's Ministry
END:VEVENT
BEGIN:VEVENT
DTSTART;TZID=America/Chicago:20230718T090000
DTEND;TZID=America/Chicago:20230718T110000
DTSTAMP:20260422T035040
CREATED:20230622T043750Z
LAST-MODIFIED:20230713T005448Z
UID:10014542-1689670800-1689678000@gslcwi.com
SUMMARY:Kinder Creation Camp
DESCRIPTION:Geared specifically toward little learners\, discover God’s creation through outdoor exploration\, musical movement and hands-on creations.
URL:https://gslcwi.com/event/kinder-creation-camp-2/
LOCATION:Verona Fellowship Hall; Verona Lobby; Verona Sanctuary; Verona Gym
CATEGORIES:Children's Ministry
END:VEVENT
BEGIN:VEVENT
DTSTART;TZID=America/Chicago:20230719T090000
DTEND;TZID=America/Chicago:20230719T110000
DTSTAMP:20260422T035040
CREATED:20230629T040422Z
LAST-MODIFIED:20230713T010657Z
UID:10014567-1689757200-1689764400@gslcwi.com
SUMMARY:Kinder Creation Camp
DESCRIPTION:Geared specifically toward little learners\, discover God’s creation through outdoor exploration\, musical movement and hands-on creations.
URL:https://gslcwi.com/event/kinder-creation-camp-3/
LOCATION:Verona Fellowship Hall; Verona Lobby; Verona Sanctuary; Verona Gym
CATEGORIES:Children's Ministry
END:VEVENT
BEGIN:VEVENT
DTSTART;TZID=America/Chicago:20230731T090000
DTEND;TZID=America/Chicago:20230731T120000
DTSTAMP:20260422T035040
CREATED:20230713T045932Z
LAST-MODIFIED:20230727T000709Z
UID:10014807-1690794000-1690804800@gslcwi.com
SUMMARY:Camp Create It
DESCRIPTION:
URL:https://gslcwi.com/event/camp-creat-it/
LOCATION:Verona Fellowship Hall; Verona Gym; Verona Lobby; Verona Sanctuary
CATEGORIES:Children's Ministry,Youth Gathering
END:VEVENT
END:VCALENDAR