BEGIN:VCALENDAR
VERSION:2.0
PRODID:-//Good Shepherd Lutheran Church - ECPv6.15.20//NONSGML v1.0//EN
CALSCALE:GREGORIAN
METHOD:PUBLISH
X-ORIGINAL-URL:https://gslcwi.com
X-WR-CALDESC:Events for Good Shepherd Lutheran Church
REFRESH-INTERVAL;VALUE=DURATION:PT1H
X-Robots-Tag:noindex
X-PUBLISHED-TTL:PT1H
BEGIN:VTIMEZONE
TZID:America/Chicago
BEGIN:DAYLIGHT
TZOFFSETFROM:-0600
TZOFFSETTO:-0500
TZNAME:CDT
DTSTART:20210314T080000
END:DAYLIGHT
BEGIN:STANDARD
TZOFFSETFROM:-0500
TZOFFSETTO:-0600
TZNAME:CST
DTSTART:20211107T070000
END:STANDARD
BEGIN:DAYLIGHT
TZOFFSETFROM:-0600
TZOFFSETTO:-0500
TZNAME:CDT
DTSTART:20220313T080000
END:DAYLIGHT
BEGIN:STANDARD
TZOFFSETFROM:-0500
TZOFFSETTO:-0600
TZNAME:CST
DTSTART:20221106T070000
END:STANDARD
BEGIN:DAYLIGHT
TZOFFSETFROM:-0600
TZOFFSETTO:-0500
TZNAME:CDT
DTSTART:20230312T080000
END:DAYLIGHT
BEGIN:STANDARD
TZOFFSETFROM:-0500
TZOFFSETTO:-0600
TZNAME:CST
DTSTART:20231105T070000
END:STANDARD
END:VTIMEZONE
BEGIN:VEVENT
DTSTART;TZID=America/Chicago:20220902T074500
DTEND;TZID=America/Chicago:20220902T090000
DTSTAMP:20260420T232612
CREATED:20211205T215943Z
LAST-MODIFIED:20211212T222717Z
UID:10025959-1662104700-1662109200@gslcwi.com
SUMMARY:Live at 7:45
DESCRIPTION:Join us every other Friday morning at 7:45 a.m. via Zoom! This way\, your kitchen table and favorite mug are nearby! This group reads an array of books on scripture\, spirituality and religious culture. Email Sarah McCormack for information and the Zoom link.
URL:https://gslcwi.com/event/live-at-745/2022-09-02/
CATEGORIES:Adult Education,Fellowship
ATTACH;FMTTYPE=image/jpeg:https://gslcwi.com/wp-content/uploads/2021/12/360_F_281619240_RQEKhn42utSujfr3pZPxGVk9gtEaGtUX.jpg
END:VEVENT
BEGIN:VEVENT
DTSTART;TZID=America/Chicago:20220902T200000
DTEND;TZID=America/Chicago:20220902T210000
DTSTAMP:20260420T232612
CREATED:20211205T221154Z
LAST-MODIFIED:20211212T224116Z
UID:10008049-1662148800-1662152400@gslcwi.com
SUMMARY:Space of Grace
DESCRIPTION:This is a multi-generational gathering led by Sarah is the first Thursday of the month at 8 p.m. on Zoom. Each night has time for personal reflection\, conversation\, discussion and prayer. There’s music\, poetry\, scripture\, silence\, laughter and tears. You’re welcome any night from any comfy space in your home. Contact Sarah Iverson for more information.
URL:https://gslcwi.com/event/space-of-grace-3/2022-09-02/
CATEGORIES:Adult Education,Fellowship
ATTACH;FMTTYPE=image/jpeg:https://gslcwi.com/wp-content/uploads/2021/12/IMG_0931.jpg
END:VEVENT
END:VCALENDAR