BEGIN:VCALENDAR
VERSION:2.0
PRODID:-//Good Shepherd Lutheran Church - ECPv6.15.20//NONSGML v1.0//EN
CALSCALE:GREGORIAN
METHOD:PUBLISH
X-ORIGINAL-URL:https://gslcwi.com
X-WR-CALDESC:Events for Good Shepherd Lutheran Church
REFRESH-INTERVAL;VALUE=DURATION:PT1H
X-Robots-Tag:noindex
X-PUBLISHED-TTL:PT1H
BEGIN:VTIMEZONE
TZID:America/Chicago
BEGIN:DAYLIGHT
TZOFFSETFROM:-0600
TZOFFSETTO:-0500
TZNAME:CDT
DTSTART:20220313T080000
END:DAYLIGHT
BEGIN:STANDARD
TZOFFSETFROM:-0500
TZOFFSETTO:-0600
TZNAME:CST
DTSTART:20221106T070000
END:STANDARD
BEGIN:DAYLIGHT
TZOFFSETFROM:-0600
TZOFFSETTO:-0500
TZNAME:CDT
DTSTART:20230312T080000
END:DAYLIGHT
BEGIN:STANDARD
TZOFFSETFROM:-0500
TZOFFSETTO:-0600
TZNAME:CST
DTSTART:20231105T070000
END:STANDARD
BEGIN:DAYLIGHT
TZOFFSETFROM:-0600
TZOFFSETTO:-0500
TZNAME:CDT
DTSTART:20240310T080000
END:DAYLIGHT
BEGIN:STANDARD
TZOFFSETFROM:-0500
TZOFFSETTO:-0600
TZNAME:CST
DTSTART:20241103T070000
END:STANDARD
END:VTIMEZONE
BEGIN:VEVENT
DTSTART;TZID=America/Chicago:20230916T070000
DTEND;TZID=America/Chicago:20230916T120000
DTSTAMP:20260420T075108
CREATED:20230823T171703Z
LAST-MODIFIED:20230905T191314Z
UID:10015411-1694847600-1694865600@gslcwi.com
SUMMARY:Gathering of LWR Quilts
DESCRIPTION:Join the team of Good Shepherd quilters as we deliver the latest rounds of quilts to the train station as they are sent to places around the world! You can sign up to volunteer here.
URL:https://gslcwi.com/event/gathering-of-lwr-quilts/
CATEGORIES:Fellowship,Service
ATTACH;FMTTYPE=image/jpeg:https://gslcwi.com/wp-content/uploads/2018/10/Quilts_gslc_ak_20181007-006.jpg
END:VEVENT
END:VCALENDAR