BEGIN:VCALENDAR
VERSION:2.0
PRODID:-//Good Shepherd Lutheran Church - ECPv6.15.20//NONSGML v1.0//EN
CALSCALE:GREGORIAN
METHOD:PUBLISH
X-WR-CALNAME:Good Shepherd Lutheran Church
X-ORIGINAL-URL:https://gslcwi.com
X-WR-CALDESC:Events for Good Shepherd Lutheran Church
REFRESH-INTERVAL;VALUE=DURATION:PT1H
X-Robots-Tag:noindex
X-PUBLISHED-TTL:PT1H
BEGIN:VTIMEZONE
TZID:America/Chicago
BEGIN:DAYLIGHT
TZOFFSETFROM:-0600
TZOFFSETTO:-0500
TZNAME:CDT
DTSTART:20230312T080000
END:DAYLIGHT
BEGIN:STANDARD
TZOFFSETFROM:-0500
TZOFFSETTO:-0600
TZNAME:CST
DTSTART:20231105T070000
END:STANDARD
BEGIN:DAYLIGHT
TZOFFSETFROM:-0600
TZOFFSETTO:-0500
TZNAME:CDT
DTSTART:20240310T080000
END:DAYLIGHT
BEGIN:STANDARD
TZOFFSETFROM:-0500
TZOFFSETTO:-0600
TZNAME:CST
DTSTART:20241103T070000
END:STANDARD
BEGIN:DAYLIGHT
TZOFFSETFROM:-0600
TZOFFSETTO:-0500
TZNAME:CDT
DTSTART:20250309T080000
END:DAYLIGHT
BEGIN:STANDARD
TZOFFSETFROM:-0500
TZOFFSETTO:-0600
TZNAME:CST
DTSTART:20251102T070000
END:STANDARD
END:VTIMEZONE
BEGIN:VEVENT
DTSTART;TZID=America/Chicago:20240201T190000
DTEND;TZID=America/Chicago:20240201T210000
DTSTAMP:20260420T232242
CREATED:20221025T213413Z
LAST-MODIFIED:20230228T181705Z
UID:10010579-1706814000-1706821200@gslcwi.com
SUMMARY:Band Rehearsal
DESCRIPTION:
URL:https://gslcwi.com/event/band-rehearsal/2024-02-01/
LOCATION:Verona Campus\, 7291 County Rd PD\, Verona\, WI\, 53593\, United States
CATEGORIES:Music
END:VEVENT
BEGIN:VEVENT
DTSTART;TZID=America/Chicago:20240208T190000
DTEND;TZID=America/Chicago:20240208T210000
DTSTAMP:20260420T232242
CREATED:20221025T213413Z
LAST-MODIFIED:20230228T181705Z
UID:10010580-1707418800-1707426000@gslcwi.com
SUMMARY:Band Rehearsal
DESCRIPTION:
URL:https://gslcwi.com/event/band-rehearsal/2024-02-08/
LOCATION:Verona Campus\, 7291 County Rd PD\, Verona\, WI\, 53593\, United States
CATEGORIES:Music
END:VEVENT
BEGIN:VEVENT
DTSTART;TZID=America/Chicago:20240215T190000
DTEND;TZID=America/Chicago:20240215T210000
DTSTAMP:20260420T232242
CREATED:20221025T213413Z
LAST-MODIFIED:20230228T181705Z
UID:10010581-1708023600-1708030800@gslcwi.com
SUMMARY:Band Rehearsal
DESCRIPTION:
URL:https://gslcwi.com/event/band-rehearsal/2024-02-15/
LOCATION:Verona Campus\, 7291 County Rd PD\, Verona\, WI\, 53593\, United States
CATEGORIES:Music
END:VEVENT
BEGIN:VEVENT
DTSTART;TZID=America/Chicago:20240216T190000
DTEND;TZID=America/Chicago:20240216T203000
DTSTAMP:20260420T232242
CREATED:20240207T152908Z
LAST-MODIFIED:20240207T153436Z
UID:10018379-1708110000-1708115400@gslcwi.com
SUMMARY:2 x 3 x 4\,440 Organ Concert presented by Luther Memorial
DESCRIPTION:Not just one Pipe Organ but Three!\nMadison organists Jared Stellmacher and Andrew Schaeffer (Luther Memorial) will present a program of organ duets from all time periods. Luther Memorial’s three pipe organs coupled with its incredible acoustic will create a sonic experience found nowhere else in Madison! A festive reception will follow. Free admission.
URL:https://gslcwi.com/event/2-x-3-x-4440-organ-concert-presented-by-luther-memorial/
LOCATION:Luther Memorial Church\, 1021 University Avenue\, Madison\, WI\, 53715\, United States
CATEGORIES:Community Event,Music
ATTACH;FMTTYPE=image/jpeg:https://gslcwi.com/wp-content/uploads/2024/02/LutherMemorialPipeOrganConcert.jpg
ORGANIZER;CN="Jared Stellmacher":MAILTO:jstellmacher@gslcwi.com
END:VEVENT
BEGIN:VEVENT
DTSTART;TZID=America/Chicago:20240222T190000
DTEND;TZID=America/Chicago:20240222T210000
DTSTAMP:20260420T232242
CREATED:20221025T213413Z
LAST-MODIFIED:20230228T181705Z
UID:10010582-1708628400-1708635600@gslcwi.com
SUMMARY:Band Rehearsal
DESCRIPTION:
URL:https://gslcwi.com/event/band-rehearsal/2024-02-22/
LOCATION:Verona Campus\, 7291 County Rd PD\, Verona\, WI\, 53593\, United States
CATEGORIES:Music
END:VEVENT
BEGIN:VEVENT
DTSTART;TZID=America/Chicago:20240229T190000
DTEND;TZID=America/Chicago:20240229T210000
DTSTAMP:20260420T232242
CREATED:20221025T213413Z
LAST-MODIFIED:20230228T181705Z
UID:10010583-1709233200-1709240400@gslcwi.com
SUMMARY:Band Rehearsal
DESCRIPTION:
URL:https://gslcwi.com/event/band-rehearsal/2024-02-29/
LOCATION:Verona Campus\, 7291 County Rd PD\, Verona\, WI\, 53593\, United States
CATEGORIES:Music
END:VEVENT
BEGIN:VEVENT
DTSTART;TZID=America/Chicago:20240307T190000
DTEND;TZID=America/Chicago:20240307T210000
DTSTAMP:20260420T232242
CREATED:20221025T213413Z
LAST-MODIFIED:20230228T181705Z
UID:10010584-1709838000-1709845200@gslcwi.com
SUMMARY:Band Rehearsal
DESCRIPTION:
URL:https://gslcwi.com/event/band-rehearsal/2024-03-07/
LOCATION:Verona Campus\, 7291 County Rd PD\, Verona\, WI\, 53593\, United States
CATEGORIES:Music
END:VEVENT
BEGIN:VEVENT
DTSTART;TZID=America/Chicago:20240314T190000
DTEND;TZID=America/Chicago:20240314T210000
DTSTAMP:20260420T232242
CREATED:20221025T213413Z
LAST-MODIFIED:20230228T181705Z
UID:10010585-1710442800-1710450000@gslcwi.com
SUMMARY:Band Rehearsal
DESCRIPTION:
URL:https://gslcwi.com/event/band-rehearsal/2024-03-14/
LOCATION:Verona Campus\, 7291 County Rd PD\, Verona\, WI\, 53593\, United States
CATEGORIES:Music
END:VEVENT
BEGIN:VEVENT
DTSTART;TZID=America/Chicago:20240321T190000
DTEND;TZID=America/Chicago:20240321T210000
DTSTAMP:20260420T232242
CREATED:20221025T213413Z
LAST-MODIFIED:20230228T181705Z
UID:10010586-1711047600-1711054800@gslcwi.com
SUMMARY:Band Rehearsal
DESCRIPTION:
URL:https://gslcwi.com/event/band-rehearsal/2024-03-21/
LOCATION:Verona Campus\, 7291 County Rd PD\, Verona\, WI\, 53593\, United States
CATEGORIES:Music
END:VEVENT
BEGIN:VEVENT
DTSTART;TZID=America/Chicago:20240328T190000
DTEND;TZID=America/Chicago:20240328T210000
DTSTAMP:20260420T232242
CREATED:20221025T213413Z
LAST-MODIFIED:20230228T181705Z
UID:10010587-1711652400-1711659600@gslcwi.com
SUMMARY:Band Rehearsal
DESCRIPTION:
URL:https://gslcwi.com/event/band-rehearsal/2024-03-28/
LOCATION:Verona Campus\, 7291 County Rd PD\, Verona\, WI\, 53593\, United States
CATEGORIES:Music
END:VEVENT
BEGIN:VEVENT
DTSTART;TZID=America/Chicago:20240404T190000
DTEND;TZID=America/Chicago:20240404T210000
DTSTAMP:20260420T232242
CREATED:20221025T213413Z
LAST-MODIFIED:20230228T181705Z
UID:10010588-1712257200-1712264400@gslcwi.com
SUMMARY:Band Rehearsal
DESCRIPTION:
URL:https://gslcwi.com/event/band-rehearsal/2024-04-04/
LOCATION:Verona Campus\, 7291 County Rd PD\, Verona\, WI\, 53593\, United States
CATEGORIES:Music
END:VEVENT
BEGIN:VEVENT
DTSTART;TZID=America/Chicago:20240411T190000
DTEND;TZID=America/Chicago:20240411T210000
DTSTAMP:20260420T232242
CREATED:20221025T213413Z
LAST-MODIFIED:20230228T181705Z
UID:10010589-1712862000-1712869200@gslcwi.com
SUMMARY:Band Rehearsal
DESCRIPTION:
URL:https://gslcwi.com/event/band-rehearsal/2024-04-11/
LOCATION:Verona Campus\, 7291 County Rd PD\, Verona\, WI\, 53593\, United States
CATEGORIES:Music
END:VEVENT
BEGIN:VEVENT
DTSTART;TZID=America/Chicago:20240418T190000
DTEND;TZID=America/Chicago:20240418T210000
DTSTAMP:20260420T232242
CREATED:20221025T213413Z
LAST-MODIFIED:20230228T181705Z
UID:10010590-1713466800-1713474000@gslcwi.com
SUMMARY:Band Rehearsal
DESCRIPTION:
URL:https://gslcwi.com/event/band-rehearsal/2024-04-18/
LOCATION:Verona Campus\, 7291 County Rd PD\, Verona\, WI\, 53593\, United States
CATEGORIES:Music
END:VEVENT
BEGIN:VEVENT
DTSTART;TZID=America/Chicago:20240425T190000
DTEND;TZID=America/Chicago:20240425T210000
DTSTAMP:20260420T232242
CREATED:20221025T213413Z
LAST-MODIFIED:20230228T181705Z
UID:10010591-1714071600-1714078800@gslcwi.com
SUMMARY:Band Rehearsal
DESCRIPTION:
URL:https://gslcwi.com/event/band-rehearsal/2024-04-25/
LOCATION:Verona Campus\, 7291 County Rd PD\, Verona\, WI\, 53593\, United States
CATEGORIES:Music
END:VEVENT
BEGIN:VEVENT
DTSTART;TZID=America/Chicago:20240502T190000
DTEND;TZID=America/Chicago:20240502T210000
DTSTAMP:20260420T232242
CREATED:20221025T213413Z
LAST-MODIFIED:20230228T181705Z
UID:10010592-1714676400-1714683600@gslcwi.com
SUMMARY:Band Rehearsal
DESCRIPTION:
URL:https://gslcwi.com/event/band-rehearsal/2024-05-02/
LOCATION:Verona Campus\, 7291 County Rd PD\, Verona\, WI\, 53593\, United States
CATEGORIES:Music
END:VEVENT
BEGIN:VEVENT
DTSTART;TZID=America/Chicago:20240509T190000
DTEND;TZID=America/Chicago:20240509T210000
DTSTAMP:20260420T232242
CREATED:20221025T213413Z
LAST-MODIFIED:20230228T181705Z
UID:10010593-1715281200-1715288400@gslcwi.com
SUMMARY:Band Rehearsal
DESCRIPTION:
URL:https://gslcwi.com/event/band-rehearsal/2024-05-09/
LOCATION:Verona Campus\, 7291 County Rd PD\, Verona\, WI\, 53593\, United States
CATEGORIES:Music
END:VEVENT
BEGIN:VEVENT
DTSTART;TZID=America/Chicago:20240516T190000
DTEND;TZID=America/Chicago:20240516T210000
DTSTAMP:20260420T232242
CREATED:20221025T213413Z
LAST-MODIFIED:20230228T181705Z
UID:10010594-1715886000-1715893200@gslcwi.com
SUMMARY:Band Rehearsal
DESCRIPTION:
URL:https://gslcwi.com/event/band-rehearsal/2024-05-16/
LOCATION:Verona Campus\, 7291 County Rd PD\, Verona\, WI\, 53593\, United States
CATEGORIES:Music
END:VEVENT
BEGIN:VEVENT
DTSTART;TZID=America/Chicago:20240523T190000
DTEND;TZID=America/Chicago:20240523T210000
DTSTAMP:20260420T232242
CREATED:20221025T213413Z
LAST-MODIFIED:20230228T181705Z
UID:10010595-1716490800-1716498000@gslcwi.com
SUMMARY:Band Rehearsal
DESCRIPTION:
URL:https://gslcwi.com/event/band-rehearsal/2024-05-23/
LOCATION:Verona Campus\, 7291 County Rd PD\, Verona\, WI\, 53593\, United States
CATEGORIES:Music
END:VEVENT
BEGIN:VEVENT
DTSTART;TZID=America/Chicago:20240530T190000
DTEND;TZID=America/Chicago:20240530T210000
DTSTAMP:20260420T232242
CREATED:20221025T213413Z
LAST-MODIFIED:20230228T181705Z
UID:10010596-1717095600-1717102800@gslcwi.com
SUMMARY:Band Rehearsal
DESCRIPTION:
URL:https://gslcwi.com/event/band-rehearsal/2024-05-30/
LOCATION:Verona Campus\, 7291 County Rd PD\, Verona\, WI\, 53593\, United States
CATEGORIES:Music
END:VEVENT
BEGIN:VEVENT
DTSTART;TZID=America/Chicago:20240606T190000
DTEND;TZID=America/Chicago:20240606T210000
DTSTAMP:20260420T232242
CREATED:20221025T213413Z
LAST-MODIFIED:20230228T181705Z
UID:10010597-1717700400-1717707600@gslcwi.com
SUMMARY:Band Rehearsal
DESCRIPTION:
URL:https://gslcwi.com/event/band-rehearsal/2024-06-06/
LOCATION:Verona Campus\, 7291 County Rd PD\, Verona\, WI\, 53593\, United States
CATEGORIES:Music
END:VEVENT
BEGIN:VEVENT
DTSTART;TZID=America/Chicago:20240613T190000
DTEND;TZID=America/Chicago:20240613T210000
DTSTAMP:20260420T232242
CREATED:20221025T213413Z
LAST-MODIFIED:20230228T181705Z
UID:10010598-1718305200-1718312400@gslcwi.com
SUMMARY:Band Rehearsal
DESCRIPTION:
URL:https://gslcwi.com/event/band-rehearsal/2024-06-13/
LOCATION:Verona Campus\, 7291 County Rd PD\, Verona\, WI\, 53593\, United States
CATEGORIES:Music
END:VEVENT
BEGIN:VEVENT
DTSTART;TZID=America/Chicago:20240620T190000
DTEND;TZID=America/Chicago:20240620T210000
DTSTAMP:20260420T232242
CREATED:20221025T213413Z
LAST-MODIFIED:20230228T181705Z
UID:10010599-1718910000-1718917200@gslcwi.com
SUMMARY:Band Rehearsal
DESCRIPTION:
URL:https://gslcwi.com/event/band-rehearsal/2024-06-20/
LOCATION:Verona Campus\, 7291 County Rd PD\, Verona\, WI\, 53593\, United States
CATEGORIES:Music
END:VEVENT
BEGIN:VEVENT
DTSTART;TZID=America/Chicago:20240627T190000
DTEND;TZID=America/Chicago:20240627T210000
DTSTAMP:20260420T232242
CREATED:20221025T213413Z
LAST-MODIFIED:20230228T181705Z
UID:10010600-1719514800-1719522000@gslcwi.com
SUMMARY:Band Rehearsal
DESCRIPTION:
URL:https://gslcwi.com/event/band-rehearsal/2024-06-27/
LOCATION:Verona Campus\, 7291 County Rd PD\, Verona\, WI\, 53593\, United States
CATEGORIES:Music
END:VEVENT
BEGIN:VEVENT
DTSTART;TZID=America/Chicago:20240704T190000
DTEND;TZID=America/Chicago:20240704T210000
DTSTAMP:20260420T232242
CREATED:20221025T213413Z
LAST-MODIFIED:20230228T181705Z
UID:10010601-1720119600-1720126800@gslcwi.com
SUMMARY:Band Rehearsal
DESCRIPTION:
URL:https://gslcwi.com/event/band-rehearsal/2024-07-04/
LOCATION:Verona Campus\, 7291 County Rd PD\, Verona\, WI\, 53593\, United States
CATEGORIES:Music
END:VEVENT
BEGIN:VEVENT
DTSTART;TZID=America/Chicago:20240711T190000
DTEND;TZID=America/Chicago:20240711T210000
DTSTAMP:20260420T232242
CREATED:20221025T213413Z
LAST-MODIFIED:20230228T181705Z
UID:10010602-1720724400-1720731600@gslcwi.com
SUMMARY:Band Rehearsal
DESCRIPTION:
URL:https://gslcwi.com/event/band-rehearsal/2024-07-11/
LOCATION:Verona Campus\, 7291 County Rd PD\, Verona\, WI\, 53593\, United States
CATEGORIES:Music
END:VEVENT
BEGIN:VEVENT
DTSTART;TZID=America/Chicago:20240718T190000
DTEND;TZID=America/Chicago:20240718T210000
DTSTAMP:20260420T232242
CREATED:20221025T213413Z
LAST-MODIFIED:20230228T181705Z
UID:10010603-1721329200-1721336400@gslcwi.com
SUMMARY:Band Rehearsal
DESCRIPTION:
URL:https://gslcwi.com/event/band-rehearsal/2024-07-18/
LOCATION:Verona Campus\, 7291 County Rd PD\, Verona\, WI\, 53593\, United States
CATEGORIES:Music
END:VEVENT
BEGIN:VEVENT
DTSTART;TZID=America/Chicago:20240725T190000
DTEND;TZID=America/Chicago:20240725T210000
DTSTAMP:20260420T232242
CREATED:20221025T213413Z
LAST-MODIFIED:20230228T181705Z
UID:10010604-1721934000-1721941200@gslcwi.com
SUMMARY:Band Rehearsal
DESCRIPTION:
URL:https://gslcwi.com/event/band-rehearsal/2024-07-25/
LOCATION:Verona Campus\, 7291 County Rd PD\, Verona\, WI\, 53593\, United States
CATEGORIES:Music
END:VEVENT
BEGIN:VEVENT
DTSTART;TZID=America/Chicago:20240801T190000
DTEND;TZID=America/Chicago:20240801T210000
DTSTAMP:20260420T232242
CREATED:20221025T213413Z
LAST-MODIFIED:20230228T181705Z
UID:10010605-1722538800-1722546000@gslcwi.com
SUMMARY:Band Rehearsal
DESCRIPTION:
URL:https://gslcwi.com/event/band-rehearsal/2024-08-01/
LOCATION:Verona Campus\, 7291 County Rd PD\, Verona\, WI\, 53593\, United States
CATEGORIES:Music
END:VEVENT
BEGIN:VEVENT
DTSTART;TZID=America/Chicago:20240808T190000
DTEND;TZID=America/Chicago:20240808T210000
DTSTAMP:20260420T232242
CREATED:20221025T213413Z
LAST-MODIFIED:20230228T181705Z
UID:10010606-1723143600-1723150800@gslcwi.com
SUMMARY:Band Rehearsal
DESCRIPTION:
URL:https://gslcwi.com/event/band-rehearsal/2024-08-08/
LOCATION:Verona Campus\, 7291 County Rd PD\, Verona\, WI\, 53593\, United States
CATEGORIES:Music
END:VEVENT
BEGIN:VEVENT
DTSTART;TZID=America/Chicago:20240815T190000
DTEND;TZID=America/Chicago:20240815T210000
DTSTAMP:20260420T232242
CREATED:20221025T213413Z
LAST-MODIFIED:20230228T181705Z
UID:10010607-1723748400-1723755600@gslcwi.com
SUMMARY:Band Rehearsal
DESCRIPTION:
URL:https://gslcwi.com/event/band-rehearsal/2024-08-15/
LOCATION:Verona Campus\, 7291 County Rd PD\, Verona\, WI\, 53593\, United States
CATEGORIES:Music
END:VEVENT
END:VCALENDAR