BEGIN:VCALENDAR
VERSION:2.0
PRODID:-//Good Shepherd Lutheran Church - ECPv6.15.20//NONSGML v1.0//EN
CALSCALE:GREGORIAN
METHOD:PUBLISH
X-WR-CALNAME:Good Shepherd Lutheran Church
X-ORIGINAL-URL:https://gslcwi.com
X-WR-CALDESC:Events for Good Shepherd Lutheran Church
REFRESH-INTERVAL;VALUE=DURATION:PT1H
X-Robots-Tag:noindex
X-PUBLISHED-TTL:PT1H
BEGIN:VTIMEZONE
TZID:America/Chicago
BEGIN:DAYLIGHT
TZOFFSETFROM:-0600
TZOFFSETTO:-0500
TZNAME:CDT
DTSTART:20220313T080000
END:DAYLIGHT
BEGIN:STANDARD
TZOFFSETFROM:-0500
TZOFFSETTO:-0600
TZNAME:CST
DTSTART:20221106T070000
END:STANDARD
BEGIN:DAYLIGHT
TZOFFSETFROM:-0600
TZOFFSETTO:-0500
TZNAME:CDT
DTSTART:20230312T080000
END:DAYLIGHT
BEGIN:STANDARD
TZOFFSETFROM:-0500
TZOFFSETTO:-0600
TZNAME:CST
DTSTART:20231105T070000
END:STANDARD
BEGIN:DAYLIGHT
TZOFFSETFROM:-0600
TZOFFSETTO:-0500
TZNAME:CDT
DTSTART:20240310T080000
END:DAYLIGHT
BEGIN:STANDARD
TZOFFSETFROM:-0500
TZOFFSETTO:-0600
TZNAME:CST
DTSTART:20241103T070000
END:STANDARD
END:VTIMEZONE
BEGIN:VEVENT
DTSTART;TZID=America/Chicago:20230924T110000
DTEND;TZID=America/Chicago:20230924T120000
DTSTAMP:20260420T194647
CREATED:20230831T032918Z
LAST-MODIFIED:20230921T015021Z
UID:10015461-1695553200-1695556800@gslcwi.com
SUMMARY:Children’s Choir
DESCRIPTION:
URL:https://gslcwi.com/event/childrens-choir-2/
LOCATION:Verona Music Room
CATEGORIES:Music
END:VEVENT
BEGIN:VEVENT
DTSTART;TZID=America/Chicago:20230924T120000
DTEND;TZID=America/Chicago:20230924T140000
DTSTAMP:20260420T194647
CREATED:20230914T050045Z
LAST-MODIFIED:20230921T020759Z
UID:10016293-1695556800-1695564000@gslcwi.com
SUMMARY:String Studio
DESCRIPTION:
URL:https://gslcwi.com/event/string-studio/
LOCATION:Madison Sanctuary
CATEGORIES:Music
END:VEVENT
BEGIN:VEVENT
DTSTART;TZID=America/Chicago:20230927T180000
DTEND;TZID=America/Chicago:20230927T190000
DTSTAMP:20260420T194647
CREATED:20230907T031608Z
LAST-MODIFIED:20230921T032411Z
UID:10015532-1695837600-1695841200@gslcwi.com
SUMMARY:Handbell Rehearsal
DESCRIPTION:
URL:https://gslcwi.com/event/handbell-rehearsal-34/
LOCATION:Madison Sanctuary
CATEGORIES:Music
END:VEVENT
BEGIN:VEVENT
DTSTART;TZID=America/Chicago:20230927T190000
DTEND;TZID=America/Chicago:20230927T203000
DTSTAMP:20260420T194647
CREATED:20230907T032901Z
LAST-MODIFIED:20230928T004043Z
UID:10015533-1695841200-1695846600@gslcwi.com
SUMMARY:Choir Rehearsal
DESCRIPTION:
URL:https://gslcwi.com/event/choir-rehearsal-85/
LOCATION:Madison Sanctuary
CATEGORIES:Music
END:VEVENT
BEGIN:VEVENT
DTSTART;TZID=America/Chicago:20230928T190000
DTEND;TZID=America/Chicago:20230928T210000
DTSTAMP:20260420T194647
CREATED:20221025T213413Z
LAST-MODIFIED:20230228T181705Z
UID:10010561-1695927600-1695934800@gslcwi.com
SUMMARY:Band Rehearsal
DESCRIPTION:
URL:https://gslcwi.com/event/band-rehearsal/2023-09-28/
LOCATION:Verona Campus\, 7291 County Rd PD\, Verona\, WI\, 53593\, United States
CATEGORIES:Music
END:VEVENT
END:VCALENDAR