BEGIN:VCALENDAR
VERSION:2.0
PRODID:-//Good Shepherd Lutheran Church - ECPv6.15.20//NONSGML v1.0//EN
CALSCALE:GREGORIAN
METHOD:PUBLISH
X-ORIGINAL-URL:https://gslcwi.com
X-WR-CALDESC:Events for Good Shepherd Lutheran Church
REFRESH-INTERVAL;VALUE=DURATION:PT1H
X-Robots-Tag:noindex
X-PUBLISHED-TTL:PT1H
BEGIN:VTIMEZONE
TZID:America/Chicago
BEGIN:DAYLIGHT
TZOFFSETFROM:-0600
TZOFFSETTO:-0500
TZNAME:CDT
DTSTART:20220313T080000
END:DAYLIGHT
BEGIN:STANDARD
TZOFFSETFROM:-0500
TZOFFSETTO:-0600
TZNAME:CST
DTSTART:20221106T070000
END:STANDARD
BEGIN:DAYLIGHT
TZOFFSETFROM:-0600
TZOFFSETTO:-0500
TZNAME:CDT
DTSTART:20230312T080000
END:DAYLIGHT
BEGIN:STANDARD
TZOFFSETFROM:-0500
TZOFFSETTO:-0600
TZNAME:CST
DTSTART:20231105T070000
END:STANDARD
BEGIN:DAYLIGHT
TZOFFSETFROM:-0600
TZOFFSETTO:-0500
TZNAME:CDT
DTSTART:20240310T080000
END:DAYLIGHT
BEGIN:STANDARD
TZOFFSETFROM:-0500
TZOFFSETTO:-0600
TZNAME:CST
DTSTART:20241103T070000
END:STANDARD
END:VTIMEZONE
BEGIN:VEVENT
DTSTART;TZID=America/Chicago:20231002T100000
DTEND;TZID=America/Chicago:20231002T110000
DTSTAMP:20260420T132920
CREATED:20230928T012122Z
LAST-MODIFIED:20231026T163742Z
UID:10016901-1696240800-1696244400@gslcwi.com
SUMMARY:Adopt-a-School Committee
DESCRIPTION:
URL:https://gslcwi.com/event/adopt-a-school-committee/
LOCATION:Madison Good Shepherd Room
CATEGORIES:Meetings,Service
END:VEVENT
BEGIN:VEVENT
DTSTART;TZID=America/Chicago:20231003T183000
DTEND;TZID=America/Chicago:20231003T203000
DTSTAMP:20260420T132920
CREATED:20230817T053648Z
LAST-MODIFIED:20230928T013858Z
UID:10015398-1696357800-1696365000@gslcwi.com
SUMMARY:Stephen Ministry
DESCRIPTION:12 circle- coffee bar
URL:https://gslcwi.com/event/stephen-ministry-30/
LOCATION:Verona Coffee Bar; Verona Conference Room
CATEGORIES:Fellowship,Service
ATTACH;FMTTYPE=image/jpeg:https://gslcwi.com/wp-content/uploads/2019/02/stephen.jpg
END:VEVENT
BEGIN:VEVENT
DTSTART;TZID=America/Chicago:20231004T090000
DTEND;TZID=America/Chicago:20231004T120000
DTSTAMP:20260420T132920
CREATED:20230817T054312Z
LAST-MODIFIED:20230928T015208Z
UID:10015402-1696410000-1696420800@gslcwi.com
SUMMARY:Quilters
DESCRIPTION:
URL:https://gslcwi.com/event/quilters-83/
LOCATION:Verona Fellowship Hall
CATEGORIES:Fellowship,Service
ATTACH;FMTTYPE=image/jpeg:https://gslcwi.com/wp-content/uploads/2023/04/quilters.jpg
END:VEVENT
BEGIN:VEVENT
DTSTART;TZID=America/Chicago:20231010T183000
DTEND;TZID=America/Chicago:20231010T203000
DTSTAMP:20260420T132920
CREATED:20230831T060430Z
LAST-MODIFIED:20231005T014302Z
UID:10015495-1696962600-1696969800@gslcwi.com
SUMMARY:Stephen Ministry
DESCRIPTION:
URL:https://gslcwi.com/event/stephen-ministry-31/
LOCATION:Verona Family Lounge
CATEGORIES:Fellowship,Service
ATTACH;FMTTYPE=image/jpeg:https://gslcwi.com/wp-content/uploads/2019/02/stephen.jpg
END:VEVENT
BEGIN:VEVENT
DTSTART;TZID=America/Chicago:20231016T090000
DTEND;TZID=America/Chicago:20231016T120000
DTSTAMP:20260420T132920
CREATED:20230928T041443Z
LAST-MODIFIED:20231012T020245Z
UID:10016921-1697446800-1697457600@gslcwi.com
SUMMARY:Quilters
DESCRIPTION:
URL:https://gslcwi.com/event/quilters-85/
LOCATION:Verona Fellowship Hall
CATEGORIES:Fellowship,Service
ATTACH;FMTTYPE=image/jpeg:https://gslcwi.com/wp-content/uploads/2023/04/quilters.jpg
END:VEVENT
BEGIN:VEVENT
DTSTART;TZID=America/Chicago:20231016T160000
DTEND;TZID=America/Chicago:20231016T200000
DTSTAMP:20260420T132920
CREATED:20231003T165759Z
LAST-MODIFIED:20231003T170155Z
UID:10017018-1697472000-1697486400@gslcwi.com
SUMMARY:National Youth Gathering Fundraiser
DESCRIPTION:Stop by Pizza Ranch in Verona on October 16 and enjoy a meal while raising funds for youth to journey to New Orleans and attend the first national ELCA Youth Gathering since 2018!
URL:https://gslcwi.com/event/national-youth-gathering-fundraiser/
CATEGORIES:Service,Youth Gathering
ATTACH;FMTTYPE=image/jpeg:https://gslcwi.com/wp-content/uploads/2023/10/youth-fundraiser.jpg
END:VEVENT
BEGIN:VEVENT
DTSTART;TZID=America/Chicago:20231017T183000
DTEND;TZID=America/Chicago:20231017T203000
DTSTAMP:20260420T132920
CREATED:20230928T043559Z
LAST-MODIFIED:20231012T022340Z
UID:10016928-1697567400-1697574600@gslcwi.com
SUMMARY:Stephen Ministry
DESCRIPTION:
URL:https://gslcwi.com/event/stephen-ministry-32/
LOCATION:Verona Family Lounge
CATEGORIES:Service
END:VEVENT
BEGIN:VEVENT
DTSTART;TZID=America/Chicago:20231023T123000
DTEND;TZID=America/Chicago:20231023T150000
DTSTAMP:20260420T132920
CREATED:20230928T054644Z
LAST-MODIFIED:20231019T020042Z
UID:10016963-1698064200-1698073200@gslcwi.com
SUMMARY:Card Ministry
DESCRIPTION:
URL:https://gslcwi.com/event/card-ministry-24/
LOCATION:Madison Good Shepherd Room
CATEGORIES:Fellowship,Service
ATTACH;FMTTYPE=image/jpeg:https://gslcwi.com/wp-content/uploads/2023/04/greeting-cards.jpg
END:VEVENT
BEGIN:VEVENT
DTSTART;TZID=America/Chicago:20231024T183000
DTEND;TZID=America/Chicago:20231024T203000
DTSTAMP:20260420T132920
CREATED:20230928T055043Z
LAST-MODIFIED:20231019T022120Z
UID:10016971-1698172200-1698179400@gslcwi.com
SUMMARY:Stephen Ministry
DESCRIPTION:
URL:https://gslcwi.com/event/stephen-ministry-33/
LOCATION:Verona Family Lounge
CATEGORIES:Fellowship,Service
ATTACH;FMTTYPE=image/jpeg:https://gslcwi.com/wp-content/uploads/2019/02/stephen.jpg
END:VEVENT
BEGIN:VEVENT
DTSTART;TZID=America/Chicago:20231026T073000
DTEND;TZID=America/Chicago:20231026T123000
DTSTAMP:20260420T132920
CREATED:20230928T062019Z
LAST-MODIFIED:20231026T011938Z
UID:10016985-1698305400-1698323400@gslcwi.com
SUMMARY:Loaves & Fishes
DESCRIPTION:
URL:https://gslcwi.com/event/loaves-fishes-10/
LOCATION:Madison Lobby
CATEGORIES:Service
END:VEVENT
BEGIN:VEVENT
DTSTART;TZID=America/Chicago:20231031T183000
DTEND;TZID=America/Chicago:20231031T203000
DTSTAMP:20260420T132920
CREATED:20231005T054350Z
LAST-MODIFIED:20231026T020743Z
UID:10017038-1698777000-1698784200@gslcwi.com
SUMMARY:Stephen Ministry
DESCRIPTION:
URL:https://gslcwi.com/event/stephen-ministry-34/
LOCATION:Verona Family Lounge
CATEGORIES:Fellowship,Service
ATTACH;FMTTYPE=image/jpeg:https://gslcwi.com/wp-content/uploads/2019/02/stephen.jpg
END:VEVENT
END:VCALENDAR