BEGIN:VCALENDAR
VERSION:2.0
PRODID:-//Good Shepherd Lutheran Church - ECPv6.15.20//NONSGML v1.0//EN
CALSCALE:GREGORIAN
METHOD:PUBLISH
X-WR-CALNAME:Good Shepherd Lutheran Church
X-ORIGINAL-URL:https://gslcwi.com
X-WR-CALDESC:Events for Good Shepherd Lutheran Church
REFRESH-INTERVAL;VALUE=DURATION:PT1H
X-Robots-Tag:noindex
X-PUBLISHED-TTL:PT1H
BEGIN:VTIMEZONE
TZID:America/Chicago
BEGIN:DAYLIGHT
TZOFFSETFROM:-0600
TZOFFSETTO:-0500
TZNAME:CDT
DTSTART:20220313T080000
END:DAYLIGHT
BEGIN:STANDARD
TZOFFSETFROM:-0500
TZOFFSETTO:-0600
TZNAME:CST
DTSTART:20221106T070000
END:STANDARD
BEGIN:DAYLIGHT
TZOFFSETFROM:-0600
TZOFFSETTO:-0500
TZNAME:CDT
DTSTART:20230312T080000
END:DAYLIGHT
BEGIN:STANDARD
TZOFFSETFROM:-0500
TZOFFSETTO:-0600
TZNAME:CST
DTSTART:20231105T070000
END:STANDARD
BEGIN:DAYLIGHT
TZOFFSETFROM:-0600
TZOFFSETTO:-0500
TZNAME:CDT
DTSTART:20240310T080000
END:DAYLIGHT
BEGIN:STANDARD
TZOFFSETFROM:-0500
TZOFFSETTO:-0600
TZNAME:CST
DTSTART:20241103T070000
END:STANDARD
END:VTIMEZONE
BEGIN:VEVENT
DTSTART;TZID=America/Chicago:20230608T173000
DTEND;TZID=America/Chicago:20230608T190000
DTSTAMP:20260421T010946
CREATED:20230516T200448Z
LAST-MODIFIED:20230606T161841Z
UID:10014257-1686245400-1686250800@gslcwi.com
SUMMARY:Worship in the Park @ Western Hills Park
DESCRIPTION:During the summer months\, we’ll gather at local parks each Thursday night starting at 5:30 p.m. to share in a delicious Holy COW meal and unique worship experience. The COW (Church on Wheels) is a ministry we share as a congregation\, and all present become part of the welcoming\, the forgiveness\, and the service of the evening.
URL:https://gslcwi.com/event/worship-in-the-park-western-hills-park/2023-06-08/
LOCATION:Western Hills Park\, 2499 Whitney Way\, Fitchburg\, 53711\, United States
CATEGORIES:Fellowship,Holy COW,Worship
END:VEVENT
BEGIN:VEVENT
DTSTART;TZID=America/Chicago:20230611T090000
DTEND;TZID=America/Chicago:20230611T100000
DTSTAMP:20260421T010946
CREATED:20230518T165804Z
LAST-MODIFIED:20230609T135245Z
UID:10010962-1686474000-1686477600@gslcwi.com
SUMMARY:9:00 Worship Service & Rick Thomas Celebration
DESCRIPTION:You’re invited to the intersection of Whitney Way and Raymond Road for a morning of worship with traditional Lutheran textures and rhythms.
URL:https://gslcwi.com/event/900-worship-service-24-12/
LOCATION:Madison Sanctuary
CATEGORIES:Worship
END:VEVENT
BEGIN:VEVENT
DTSTART;TZID=America/Chicago:20230611T103000
DTEND;TZID=America/Chicago:20230611T113000
DTSTAMP:20260421T010946
CREATED:20230518T165849Z
LAST-MODIFIED:20230609T135302Z
UID:10011066-1686479400-1686483000@gslcwi.com
SUMMARY:10:30 Worship Service & Rick Thomas Celebration
DESCRIPTION:Join us on County Highway PD in Verona for morning Worship service featuring modern expressions of praise and prayer anchored by foundational traditions.
URL:https://gslcwi.com/event/1030-worship-service-33-10/
LOCATION:Verona Sanctuary
CATEGORIES:Worship
END:VEVENT
BEGIN:VEVENT
DTSTART;TZID=America/Chicago:20230611T180000
DTEND;TZID=America/Chicago:20230611T190000
DTSTAMP:20260421T010946
CREATED:20230609T135316Z
LAST-MODIFIED:20230609T135317Z
UID:10011170-1686506400-1686510000@gslcwi.com
SUMMARY:6:00 Worship Service & Rick Thomas Celebration
DESCRIPTION:A worship service with evening rhythms for song\, prayer\, reflection rooted in ancient practices and present day cares & concerns.
URL:https://gslcwi.com/event/600-service-5-2/
LOCATION:Verona Sanctuary
CATEGORIES:Worship
END:VEVENT
BEGIN:VEVENT
DTSTART;TZID=America/Chicago:20230615T173000
DTEND;TZID=America/Chicago:20230615T190000
DTSTAMP:20260421T010946
CREATED:20230516T200448Z
LAST-MODIFIED:20230606T161841Z
UID:10014258-1686850200-1686855600@gslcwi.com
SUMMARY:Worship in the Park @ Western Hills Park
DESCRIPTION:During the summer months\, we’ll gather at local parks each Thursday night starting at 5:30 p.m. to share in a delicious Holy COW meal and unique worship experience. The COW (Church on Wheels) is a ministry we share as a congregation\, and all present become part of the welcoming\, the forgiveness\, and the service of the evening.
URL:https://gslcwi.com/event/worship-in-the-park-western-hills-park/2023-06-15/
LOCATION:Western Hills Park\, 2499 Whitney Way\, Fitchburg\, 53711\, United States
CATEGORIES:Fellowship,Holy COW,Worship
END:VEVENT
BEGIN:VEVENT
DTSTART;TZID=America/Chicago:20230618T090000
DTEND;TZID=America/Chicago:20230618T100000
DTSTAMP:20260421T010946
CREATED:20230606T203003Z
LAST-MODIFIED:20230606T203004Z
UID:10010963-1687078800-1687082400@gslcwi.com
SUMMARY:9:00 Worship Service
DESCRIPTION:You’re invited to the intersection of Whitney Way and Raymond Road for a morning of worship with traditional Lutheran textures and rhythms.
URL:https://gslcwi.com/event/900-worship-service-24-14/
LOCATION:Madison Sanctuary
CATEGORIES:Worship
END:VEVENT
BEGIN:VEVENT
DTSTART;TZID=America/Chicago:20230618T103000
DTEND;TZID=America/Chicago:20230618T113000
DTSTAMP:20260421T010946
CREATED:20230606T202940Z
LAST-MODIFIED:20230606T202941Z
UID:10011067-1687084200-1687087800@gslcwi.com
SUMMARY:10:30 Worship Service
DESCRIPTION:Join us on County Highway PD in Verona for morning Worship service featuring modern expressions of praise and prayer anchored by foundational traditions.
URL:https://gslcwi.com/event/1030-worship-service-33-12/
LOCATION:Verona Sanctuary
CATEGORIES:Worship
END:VEVENT
BEGIN:VEVENT
DTSTART;TZID=America/Chicago:20230618T180000
DTEND;TZID=America/Chicago:20230618T190000
DTSTAMP:20260421T010946
CREATED:20220927T003855Z
LAST-MODIFIED:20230427T194210Z
UID:10011171-1687111200-1687114800@gslcwi.com
SUMMARY:6:00 Worship Service
DESCRIPTION:A worship service with evening rhythms for song\, prayer\, reflection rooted in ancient practices and present day cares & concerns.
URL:https://gslcwi.com/event/600-service-5/2023-06-18/
LOCATION:Verona Sanctuary
CATEGORIES:Worship
END:VEVENT
BEGIN:VEVENT
DTSTART;TZID=America/Chicago:20230622T173000
DTEND;TZID=America/Chicago:20230622T190000
DTSTAMP:20260421T010946
CREATED:20230516T200448Z
LAST-MODIFIED:20230606T161841Z
UID:10014259-1687455000-1687460400@gslcwi.com
SUMMARY:Worship in the Park @ Western Hills Park
DESCRIPTION:During the summer months\, we’ll gather at local parks each Thursday night starting at 5:30 p.m. to share in a delicious Holy COW meal and unique worship experience. The COW (Church on Wheels) is a ministry we share as a congregation\, and all present become part of the welcoming\, the forgiveness\, and the service of the evening.
URL:https://gslcwi.com/event/worship-in-the-park-western-hills-park/2023-06-22/
LOCATION:Western Hills Park\, 2499 Whitney Way\, Fitchburg\, 53711\, United States
CATEGORIES:Fellowship,Holy COW,Worship
END:VEVENT
BEGIN:VEVENT
DTSTART;TZID=America/Chicago:20230624T110000
DTEND;TZID=America/Chicago:20230624T120000
DTSTAMP:20260421T010946
CREATED:20230418T182413Z
LAST-MODIFIED:20230419T173323Z
UID:10012971-1687604400-1687608000@gslcwi.com
SUMMARY:Graveside Committal for Kay Hocker
DESCRIPTION:A graveside committal for Kay Hocker will take place on Saturday\, June 24\, 2023 at Forest Hill Cemetery (1 Speedway Rd) at 11am. Pastor Sheryl Erickson will be presiding. \nObituary\nKay Frances Hocker\, age 84 of Madison\, Wisconsin passed away on Wednesday\, March 15\, 2023\, at Oakwood Village Memory Care surrounded by her family. Kay was born on May 4\, 1938 in Colchester\, IL to Joseph and Susie (Wayland) Powell. She graduated from Colchester High School and worked at the local IGA store where she met Arland R. Hocker\, Jr. They were married on August 26\, 1956. Kay earned her real estate license. She enjoyed selling houses\, playing bridge and home decor. She was a loving mother to her son\, Brad\, her two grandchildren\, Max and Kelsey\, and two great grand puppies\, Kaia and Blair. She is survived by one son\, Bradley (Patricia) Hocker\, of Murrells Inlet\, SC\, two grandchildren; Max Hocker\, of Stevens Point\, WI and Kelsey Hocker\, of Madison\, WI. Also surviving are four brothers; David Powell of Colorado Springs\, CO\, Gary (Tish) Powell of Colchester\, IL\, Danny Powell of Colchester\, IL\, Lyle (Teresa) Powell of Good Hope\, IL\, one sister\, Louella (Phil) Reno of Bushnell\, IL. She was preceded in death by her husband; her parents; two brothers; Charles Powell and Bruce Powell; and two sisters; Barbara Schoonover and Beverly Roberts.
URL:https://gslcwi.com/event/graveside-committal-for-kay-hocker/
LOCATION:Forest Hill Cemetery\, 1 Speedway Rd.\, Madison\, 53705\, United States
CATEGORIES:Worship
ATTACH;FMTTYPE=image/jpeg:https://gslcwi.com/wp-content/uploads/2023/04/KayHocker.jpg
END:VEVENT
BEGIN:VEVENT
DTSTART;TZID=America/Chicago:20230625T090000
DTEND;TZID=America/Chicago:20230625T100000
DTSTAMP:20260421T010946
CREATED:20230606T201225Z
LAST-MODIFIED:20230606T201227Z
UID:10010964-1687683600-1687687200@gslcwi.com
SUMMARY:9:00 Worship Service
DESCRIPTION:You’re invited to the intersection of Whitney Way and Raymond Road for a morning of worship with traditional Lutheran textures and rhythms.
URL:https://gslcwi.com/event/900-worship-service-24-13/2023-06-25/
LOCATION:Madison Sanctuary
CATEGORIES:Worship
END:VEVENT
BEGIN:VEVENT
DTSTART;TZID=America/Chicago:20230625T103000
DTEND;TZID=America/Chicago:20230625T113000
DTSTAMP:20260421T010946
CREATED:20230606T201216Z
LAST-MODIFIED:20230606T201218Z
UID:10011068-1687689000-1687692600@gslcwi.com
SUMMARY:10:30 Worship Service
DESCRIPTION:Join us on County Highway PD in Verona for morning Worship service featuring modern expressions of praise and prayer anchored by foundational traditions.
URL:https://gslcwi.com/event/1030-worship-service-33-11/2023-06-25/
LOCATION:Verona Sanctuary
CATEGORIES:Worship
END:VEVENT
BEGIN:VEVENT
DTSTART;TZID=America/Chicago:20230625T180000
DTEND;TZID=America/Chicago:20230625T190000
DTSTAMP:20260421T010946
CREATED:20220927T003855Z
LAST-MODIFIED:20230427T194210Z
UID:10011172-1687716000-1687719600@gslcwi.com
SUMMARY:6:00 Worship Service
DESCRIPTION:A worship service with evening rhythms for song\, prayer\, reflection rooted in ancient practices and present day cares & concerns.
URL:https://gslcwi.com/event/600-service-5/2023-06-25/
LOCATION:Verona Sanctuary
CATEGORIES:Worship
END:VEVENT
BEGIN:VEVENT
DTSTART;TZID=America/Chicago:20230702T090000
DTEND;TZID=America/Chicago:20230702T100000
DTSTAMP:20260421T010946
CREATED:20230606T201225Z
LAST-MODIFIED:20230606T201227Z
UID:10010965-1688288400-1688292000@gslcwi.com
SUMMARY:9:00 Worship Service
DESCRIPTION:You’re invited to the intersection of Whitney Way and Raymond Road for a morning of worship with traditional Lutheran textures and rhythms.
URL:https://gslcwi.com/event/900-worship-service-24-13/2023-07-02/
LOCATION:Madison Sanctuary
CATEGORIES:Worship
END:VEVENT
BEGIN:VEVENT
DTSTART;TZID=America/Chicago:20230702T103000
DTEND;TZID=America/Chicago:20230702T113000
DTSTAMP:20260421T010946
CREATED:20230606T201216Z
LAST-MODIFIED:20230606T201218Z
UID:10011069-1688293800-1688297400@gslcwi.com
SUMMARY:10:30 Worship Service
DESCRIPTION:Join us on County Highway PD in Verona for morning Worship service featuring modern expressions of praise and prayer anchored by foundational traditions.
URL:https://gslcwi.com/event/1030-worship-service-33-11/2023-07-02/
LOCATION:Verona Sanctuary
CATEGORIES:Worship
END:VEVENT
BEGIN:VEVENT
DTSTART;TZID=America/Chicago:20230702T180000
DTEND;TZID=America/Chicago:20230702T190000
DTSTAMP:20260421T010946
CREATED:20220927T003855Z
LAST-MODIFIED:20230427T194210Z
UID:10011173-1688320800-1688324400@gslcwi.com
SUMMARY:6:00 Worship Service
DESCRIPTION:A worship service with evening rhythms for song\, prayer\, reflection rooted in ancient practices and present day cares & concerns.
URL:https://gslcwi.com/event/600-service-5/2023-07-02/
LOCATION:Verona Sanctuary
CATEGORIES:Worship
END:VEVENT
BEGIN:VEVENT
DTSTART;TZID=America/Chicago:20230706T173000
DTEND;TZID=America/Chicago:20230706T193000
DTSTAMP:20260421T010946
CREATED:20230627T154058Z
LAST-MODIFIED:20230718T160940Z
UID:10014544-1688664600-1688671800@gslcwi.com
SUMMARY:Worship in the Park @ Tower Park
DESCRIPTION:During the summer months\, we’ll gather at local parks each Thursday night starting at 5:30 p.m. to share in a delicious Holy COW meal and unique worship experience. The COW (Church on Wheels) is a ministry we share as a congregation\, and all present become part of the welcoming\, the forgiveness\, and the service of the evening.
URL:https://gslcwi.com/event/worship-in-the-park-tower-hills-park/2023-07-06/
LOCATION:Tower Park\, 696 Fairview Terrace\, Verona\, WI\, 53593\, United States
CATEGORIES:Community Event,Holy COW,Worship
END:VEVENT
BEGIN:VEVENT
DTSTART;TZID=America/Chicago:20230707T100000
DTEND;TZID=America/Chicago:20230707T123000
DTSTAMP:20260421T010946
CREATED:20230629T004109Z
LAST-MODIFIED:20230705T231539Z
UID:10014556-1688724000-1688733000@gslcwi.com
SUMMARY:Dottie Loehrer Funeral Visitation and Memorial Service
DESCRIPTION:Dorothy Carol Loehrer\, age 94\, of Madison\, WI\, passed away on Wednesday\, June 28\, 2023\, in her Madison home. She was born on March 16\, 1929\, in Green Bay\, WI\, the daughter of Fred and Minnie Holz. She married John (Jack) Loehrer on July 2\, 1955. \nDottie had a long and varied nursing career in patient care and as an instructor. She was a very active volunteer in church\, school tutoring\, and her community. Dottie’s passion was ballroom dancing. \nDottie is survived by daughters: Gail (Brian) and Linda Loehrer; many grandchildren\, great-grandchildren; and special friend\, Charles Murray. She was preceded in death by her parents; siblings; husband\, Jack; son\, Ken; and daughter\, Carol. \nFuneral visitation will be held at CRESS FUNERAL HOME\, 3610 Speedway Road in Madison on Thursday\, July 6\, 2023\, from 5:30 – 8:00 PM. \nAdditional visitation and funeral will be held on Friday\, July 7\, 2023 at GOOD SHEPHERD LUTHERAN CHURCH\, 5701 Raymond Road in Madison. Visitation is at 10:00 AM\, Service at 11:00 AM followed by a luncheon.
URL:https://gslcwi.com/event/memorial-service-loehrer/
LOCATION:Madison Good Shepherd Room; Madison Lobby; Madison Peterson Hall; Madison Sanctuary
CATEGORIES:Worship
ATTACH;FMTTYPE=image/png:https://gslcwi.com/wp-content/uploads/2023/06/Dorothy-Carol-Loerher.png
END:VEVENT
BEGIN:VEVENT
DTSTART;TZID=America/Chicago:20230709T090000
DTEND;TZID=America/Chicago:20230709T100000
DTSTAMP:20260421T010946
CREATED:20230606T201225Z
LAST-MODIFIED:20230606T201227Z
UID:10010966-1688893200-1688896800@gslcwi.com
SUMMARY:9:00 Worship Service
DESCRIPTION:You’re invited to the intersection of Whitney Way and Raymond Road for a morning of worship with traditional Lutheran textures and rhythms.
URL:https://gslcwi.com/event/900-worship-service-24-13/2023-07-09/
LOCATION:Madison Sanctuary
CATEGORIES:Worship
END:VEVENT
BEGIN:VEVENT
DTSTART;TZID=America/Chicago:20230709T103000
DTEND;TZID=America/Chicago:20230709T113000
DTSTAMP:20260421T010946
CREATED:20230606T201216Z
LAST-MODIFIED:20230606T201218Z
UID:10011070-1688898600-1688902200@gslcwi.com
SUMMARY:10:30 Worship Service
DESCRIPTION:Join us on County Highway PD in Verona for morning Worship service featuring modern expressions of praise and prayer anchored by foundational traditions.
URL:https://gslcwi.com/event/1030-worship-service-33-11/2023-07-09/
LOCATION:Verona Sanctuary
CATEGORIES:Worship
END:VEVENT
BEGIN:VEVENT
DTSTART;TZID=America/Chicago:20230709T180000
DTEND;TZID=America/Chicago:20230709T190000
DTSTAMP:20260421T010946
CREATED:20220927T003855Z
LAST-MODIFIED:20230427T194210Z
UID:10011174-1688925600-1688929200@gslcwi.com
SUMMARY:6:00 Worship Service
DESCRIPTION:A worship service with evening rhythms for song\, prayer\, reflection rooted in ancient practices and present day cares & concerns.
URL:https://gslcwi.com/event/600-service-5/2023-07-09/
LOCATION:Verona Sanctuary
CATEGORIES:Worship
END:VEVENT
BEGIN:VEVENT
DTSTART;TZID=America/Chicago:20230713T173000
DTEND;TZID=America/Chicago:20230713T193000
DTSTAMP:20260421T010946
CREATED:20230627T154058Z
LAST-MODIFIED:20230718T160940Z
UID:10014545-1689269400-1689276600@gslcwi.com
SUMMARY:Worship in the Park @ Tower Park
DESCRIPTION:During the summer months\, we’ll gather at local parks each Thursday night starting at 5:30 p.m. to share in a delicious Holy COW meal and unique worship experience. The COW (Church on Wheels) is a ministry we share as a congregation\, and all present become part of the welcoming\, the forgiveness\, and the service of the evening.
URL:https://gslcwi.com/event/worship-in-the-park-tower-hills-park/2023-07-13/
LOCATION:Tower Park\, 696 Fairview Terrace\, Verona\, WI\, 53593\, United States
CATEGORIES:Community Event,Holy COW,Worship
END:VEVENT
BEGIN:VEVENT
DTSTART;TZID=America/Chicago:20230716T090000
DTEND;TZID=America/Chicago:20230716T100000
DTSTAMP:20260421T010946
CREATED:20230606T201225Z
LAST-MODIFIED:20230606T201227Z
UID:10010967-1689498000-1689501600@gslcwi.com
SUMMARY:9:00 Worship Service
DESCRIPTION:You’re invited to the intersection of Whitney Way and Raymond Road for a morning of worship with traditional Lutheran textures and rhythms.
URL:https://gslcwi.com/event/900-worship-service-24-13/2023-07-16/
LOCATION:Madison Sanctuary
CATEGORIES:Worship
END:VEVENT
BEGIN:VEVENT
DTSTART;TZID=America/Chicago:20230716T103000
DTEND;TZID=America/Chicago:20230716T113000
DTSTAMP:20260421T010946
CREATED:20230606T201216Z
LAST-MODIFIED:20230606T201218Z
UID:10011071-1689503400-1689507000@gslcwi.com
SUMMARY:10:30 Worship Service
DESCRIPTION:Join us on County Highway PD in Verona for morning Worship service featuring modern expressions of praise and prayer anchored by foundational traditions.
URL:https://gslcwi.com/event/1030-worship-service-33-11/2023-07-16/
LOCATION:Verona Sanctuary
CATEGORIES:Worship
END:VEVENT
BEGIN:VEVENT
DTSTART;TZID=America/Chicago:20230716T180000
DTEND;TZID=America/Chicago:20230716T190000
DTSTAMP:20260421T010946
CREATED:20220927T003855Z
LAST-MODIFIED:20230427T194210Z
UID:10011175-1689530400-1689534000@gslcwi.com
SUMMARY:6:00 Worship Service
DESCRIPTION:A worship service with evening rhythms for song\, prayer\, reflection rooted in ancient practices and present day cares & concerns.
URL:https://gslcwi.com/event/600-service-5/2023-07-16/
LOCATION:Verona Sanctuary
CATEGORIES:Worship
END:VEVENT
BEGIN:VEVENT
DTSTART;TZID=America/Chicago:20230720T173000
DTEND;TZID=America/Chicago:20230720T193000
DTSTAMP:20260421T010946
CREATED:20230627T154058Z
LAST-MODIFIED:20230718T160940Z
UID:10014546-1689874200-1689881400@gslcwi.com
SUMMARY:Worship in the Park @ Tower Park
DESCRIPTION:During the summer months\, we’ll gather at local parks each Thursday night starting at 5:30 p.m. to share in a delicious Holy COW meal and unique worship experience. The COW (Church on Wheels) is a ministry we share as a congregation\, and all present become part of the welcoming\, the forgiveness\, and the service of the evening.
URL:https://gslcwi.com/event/worship-in-the-park-tower-hills-park/2023-07-20/
LOCATION:Tower Park\, 696 Fairview Terrace\, Verona\, WI\, 53593\, United States
CATEGORIES:Community Event,Holy COW,Worship
END:VEVENT
BEGIN:VEVENT
DTSTART;TZID=America/Chicago:20230723T090000
DTEND;TZID=America/Chicago:20230723T100000
DTSTAMP:20260421T010946
CREATED:20230606T201225Z
LAST-MODIFIED:20230606T201227Z
UID:10010968-1690102800-1690106400@gslcwi.com
SUMMARY:9:00 Worship Service
DESCRIPTION:You’re invited to the intersection of Whitney Way and Raymond Road for a morning of worship with traditional Lutheran textures and rhythms.
URL:https://gslcwi.com/event/900-worship-service-24-13/2023-07-23/
LOCATION:Madison Sanctuary
CATEGORIES:Worship
END:VEVENT
BEGIN:VEVENT
DTSTART;TZID=America/Chicago:20230723T103000
DTEND;TZID=America/Chicago:20230723T113000
DTSTAMP:20260421T010946
CREATED:20230606T201216Z
LAST-MODIFIED:20230606T201218Z
UID:10011072-1690108200-1690111800@gslcwi.com
SUMMARY:10:30 Worship Service
DESCRIPTION:Join us on County Highway PD in Verona for morning Worship service featuring modern expressions of praise and prayer anchored by foundational traditions.
URL:https://gslcwi.com/event/1030-worship-service-33-11/2023-07-23/
LOCATION:Verona Sanctuary
CATEGORIES:Worship
END:VEVENT
BEGIN:VEVENT
DTSTART;TZID=America/Chicago:20230723T180000
DTEND;TZID=America/Chicago:20230723T190000
DTSTAMP:20260421T010946
CREATED:20220927T003855Z
LAST-MODIFIED:20230427T194210Z
UID:10011176-1690135200-1690138800@gslcwi.com
SUMMARY:6:00 Worship Service
DESCRIPTION:A worship service with evening rhythms for song\, prayer\, reflection rooted in ancient practices and present day cares & concerns.
URL:https://gslcwi.com/event/600-service-5/2023-07-23/
LOCATION:Verona Sanctuary
CATEGORIES:Worship
END:VEVENT
BEGIN:VEVENT
DTSTART;TZID=America/Chicago:20230725T110000
DTEND;TZID=America/Chicago:20230725T123000
DTSTAMP:20260421T010946
CREATED:20230705T170247Z
LAST-MODIFIED:20230724T165127Z
UID:10014753-1690282800-1690288200@gslcwi.com
SUMMARY:Inky Nordness Memorial Service
DESCRIPTION:Reverend Oradell “Inky” Nordness\, age 92\, of Madison\, passed away on Tuesday\, June 27\, 2023.  He was born on Jan. 29\, 1931\, to Obert and Esther (nee Hellingson) Nordness. \nInky graduated from Madison East High School\, then St. Olaf College and went on to Luther Seminary\, graduated and served five parishes as minister.  He married Joan Dahl in 1956 and they raised four sons.  Inky loved God\, his family and the Green Bay Packers.  He signed up to be on the season ticket wait list almost the minute he moved to serve in Neenah. He waited 29 years to become a season ticket holder. \nInky was extremely proud of his Norwegian heritage.  He put countless hours in studying the family genealogy and visiting Norway to confirm his research.  His sons endured being served lutefisk each Christmas season while growing up. \nInky faithfully served as minister in five parishes: Lansing and Royal\, Iowa\, Evansville\, Ind.\, and Neenah\, Wis and as visitation pastor before retiring in Rochester\, Minn. \nInky is survived by his four sons\, Stephen (Rita)\, Daniel\, Jon and Philip (Amy); six grandchildren and two great-grandchildren; sister\, Genny Castagna; and former daughters-in-law\, Carla Nordness and Cindy Hendren.  He was preceded in death by his wife\, Joan; sister\, Celoris Hinz; and brothers\, Eugene\, Joe\, Laverne\, Gerald and Russell. \nA memorial service will be held at GOOD SHEPHERD LUTHERAN CHURCH\, 7291 County Road PD\, Verona\, at 11 a.m. on Tuesday\, July 25\, 2023.  Visitation will be at the church from 10 a.m. until the time of the service on Tuesday.
URL:https://gslcwi.com/event/inky-nordness-memorial-service/
LOCATION:Verona Sanctuary
CATEGORIES:Worship
ATTACH;FMTTYPE=image/png:https://gslcwi.com/wp-content/uploads/2023/07/Rev.-Oradell-Inky-Nordness.png
END:VEVENT
END:VCALENDAR