BEGIN:VCALENDAR
VERSION:2.0
PRODID:-//Good Shepherd Lutheran Church - ECPv6.15.20//NONSGML v1.0//EN
CALSCALE:GREGORIAN
METHOD:PUBLISH
X-WR-CALNAME:Good Shepherd Lutheran Church
X-ORIGINAL-URL:https://gslcwi.com
X-WR-CALDESC:Events for Good Shepherd Lutheran Church
REFRESH-INTERVAL;VALUE=DURATION:PT1H
X-Robots-Tag:noindex
X-PUBLISHED-TTL:PT1H
BEGIN:VTIMEZONE
TZID:America/Chicago
BEGIN:DAYLIGHT
TZOFFSETFROM:-0600
TZOFFSETTO:-0500
TZNAME:CDT
DTSTART:20230312T080000
END:DAYLIGHT
BEGIN:STANDARD
TZOFFSETFROM:-0500
TZOFFSETTO:-0600
TZNAME:CST
DTSTART:20231105T070000
END:STANDARD
BEGIN:DAYLIGHT
TZOFFSETFROM:-0600
TZOFFSETTO:-0500
TZNAME:CDT
DTSTART:20240310T080000
END:DAYLIGHT
BEGIN:STANDARD
TZOFFSETFROM:-0500
TZOFFSETTO:-0600
TZNAME:CST
DTSTART:20241103T070000
END:STANDARD
BEGIN:DAYLIGHT
TZOFFSETFROM:-0600
TZOFFSETTO:-0500
TZNAME:CDT
DTSTART:20250309T080000
END:DAYLIGHT
BEGIN:STANDARD
TZOFFSETFROM:-0500
TZOFFSETTO:-0600
TZNAME:CST
DTSTART:20251102T070000
END:STANDARD
BEGIN:DAYLIGHT
TZOFFSETFROM:-0600
TZOFFSETTO:-0500
TZNAME:CDT
DTSTART:20260308T080000
END:DAYLIGHT
BEGIN:STANDARD
TZOFFSETFROM:-0500
TZOFFSETTO:-0600
TZNAME:CST
DTSTART:20261101T070000
END:STANDARD
END:VTIMEZONE
BEGIN:VEVENT
DTSTART;TZID=America/Chicago:20241208T090000
DTEND;TZID=America/Chicago:20241208T100000
DTSTAMP:20260420T230522
CREATED:20240609T130655Z
LAST-MODIFIED:20240926T161612Z
UID:10011874-1733648400-1733652000@gslcwi.com
SUMMARY:9:00 a.m. Worship Service
DESCRIPTION:You’re invited to the intersection of Whitney Way and Raymond Road for a morning of worship with traditional Lutheran textures and rhythms.
URL:https://gslcwi.com/event/900-worship-service-24-13-2-7/2024-12-08/
LOCATION:Madison Sanctuary
CATEGORIES:Worship
ATTACH;FMTTYPE=image/jpeg:https://gslcwi.com/wp-content/uploads/2024/05/9am2.jpg
END:VEVENT
BEGIN:VEVENT
DTSTART;TZID=America/Chicago:20241208T100000
DTEND;TZID=America/Chicago:20241208T110000
DTSTAMP:20260420T230522
CREATED:20240610T203803Z
LAST-MODIFIED:20240610T203803Z
UID:10020149-1733652000-1733655600@gslcwi.com
SUMMARY:10:00 a.m. Worship Service
DESCRIPTION:Join us on County Highway PD in Verona for morning Worship service featuring modern expressions of praise and prayer anchored by foundational traditions.
URL:https://gslcwi.com/event/1000-a-m-worship-service/2024-12-08/
LOCATION:Good Shepherd Verona Campus\, 7291 County Road PD\, Verona\, WI\, 53593\, United States
CATEGORIES:Worship
ATTACH;FMTTYPE=image/jpeg:https://gslcwi.com/wp-content/uploads/2024/06/10_am_worship_verona.jpg
ORGANIZER;CN="Jared Stellmacher":MAILTO:jstellmacher@gslcwi.com
END:VEVENT
BEGIN:VEVENT
DTSTART;TZID=America/Chicago:20241208T180000
DTEND;TZID=America/Chicago:20241208T190000
DTSTAMP:20260420T230522
CREATED:20240925T155628Z
LAST-MODIFIED:20240925T155628Z
UID:10021135-1733680800-1733684400@gslcwi.com
SUMMARY:6:00 p.m. Worship Service
DESCRIPTION:A worship service with evening rhythms for song\, prayer\, and reflection rooted in ancient practices and present day cares & concerns.
URL:https://gslcwi.com/event/600-p-m-worship-service/2024-12-08/
LOCATION:Good Shepherd Verona Campus\, 7291 County Road PD\, Verona\, WI\, 53593\, United States
CATEGORIES:Worship
ATTACH;FMTTYPE=image/jpeg:https://gslcwi.com/wp-content/uploads/2024/09/6pmw2-1.jpg
ORGANIZER;CN="Jared Stellmacher":MAILTO:jstellmacher@gslcwi.com
END:VEVENT
BEGIN:VEVENT
DTSTART;TZID=America/Chicago:20241215T090000
DTEND;TZID=America/Chicago:20241215T100000
DTSTAMP:20260420T230522
CREATED:20240609T130655Z
LAST-MODIFIED:20240926T161612Z
UID:10011875-1734253200-1734256800@gslcwi.com
SUMMARY:9:00 a.m. Worship Service
DESCRIPTION:You’re invited to the intersection of Whitney Way and Raymond Road for a morning of worship with traditional Lutheran textures and rhythms.
URL:https://gslcwi.com/event/900-worship-service-24-13-2-7/2024-12-15/
LOCATION:Madison Sanctuary
CATEGORIES:Worship
ATTACH;FMTTYPE=image/jpeg:https://gslcwi.com/wp-content/uploads/2024/05/9am2.jpg
END:VEVENT
BEGIN:VEVENT
DTSTART;TZID=America/Chicago:20241215T100000
DTEND;TZID=America/Chicago:20241215T110000
DTSTAMP:20260420T230522
CREATED:20240610T203803Z
LAST-MODIFIED:20240610T203803Z
UID:10020150-1734256800-1734260400@gslcwi.com
SUMMARY:10:00 a.m. Worship Service
DESCRIPTION:Join us on County Highway PD in Verona for morning Worship service featuring modern expressions of praise and prayer anchored by foundational traditions.
URL:https://gslcwi.com/event/1000-a-m-worship-service/2024-12-15/
LOCATION:Good Shepherd Verona Campus\, 7291 County Road PD\, Verona\, WI\, 53593\, United States
CATEGORIES:Worship
ATTACH;FMTTYPE=image/jpeg:https://gslcwi.com/wp-content/uploads/2024/06/10_am_worship_verona.jpg
ORGANIZER;CN="Jared Stellmacher":MAILTO:jstellmacher@gslcwi.com
END:VEVENT
BEGIN:VEVENT
DTSTART;TZID=America/Chicago:20241215T180000
DTEND;TZID=America/Chicago:20241215T190000
DTSTAMP:20260420T230522
CREATED:20240925T155628Z
LAST-MODIFIED:20240925T155628Z
UID:10021136-1734285600-1734289200@gslcwi.com
SUMMARY:6:00 p.m. Worship Service
DESCRIPTION:A worship service with evening rhythms for song\, prayer\, and reflection rooted in ancient practices and present day cares & concerns.
URL:https://gslcwi.com/event/600-p-m-worship-service/2024-12-15/
LOCATION:Good Shepherd Verona Campus\, 7291 County Road PD\, Verona\, WI\, 53593\, United States
CATEGORIES:Worship
ATTACH;FMTTYPE=image/jpeg:https://gslcwi.com/wp-content/uploads/2024/09/6pmw2-1.jpg
ORGANIZER;CN="Jared Stellmacher":MAILTO:jstellmacher@gslcwi.com
END:VEVENT
BEGIN:VEVENT
DTSTART;TZID=America/Chicago:20241222T090000
DTEND;TZID=America/Chicago:20241222T100000
DTSTAMP:20260420T230522
CREATED:20240609T130655Z
LAST-MODIFIED:20240926T161612Z
UID:10011876-1734858000-1734861600@gslcwi.com
SUMMARY:9:00 a.m. Worship Service
DESCRIPTION:You’re invited to the intersection of Whitney Way and Raymond Road for a morning of worship with traditional Lutheran textures and rhythms.
URL:https://gslcwi.com/event/900-worship-service-24-13-2-7/2024-12-22/
LOCATION:Madison Sanctuary
CATEGORIES:Worship
ATTACH;FMTTYPE=image/jpeg:https://gslcwi.com/wp-content/uploads/2024/05/9am2.jpg
END:VEVENT
BEGIN:VEVENT
DTSTART;TZID=America/Chicago:20241222T100000
DTEND;TZID=America/Chicago:20241222T110000
DTSTAMP:20260420T230522
CREATED:20240610T203803Z
LAST-MODIFIED:20240610T203803Z
UID:10020151-1734861600-1734865200@gslcwi.com
SUMMARY:10:00 a.m. Worship Service
DESCRIPTION:Join us on County Highway PD in Verona for morning Worship service featuring modern expressions of praise and prayer anchored by foundational traditions.
URL:https://gslcwi.com/event/1000-a-m-worship-service/2024-12-22/
LOCATION:Good Shepherd Verona Campus\, 7291 County Road PD\, Verona\, WI\, 53593\, United States
CATEGORIES:Worship
ATTACH;FMTTYPE=image/jpeg:https://gslcwi.com/wp-content/uploads/2024/06/10_am_worship_verona.jpg
ORGANIZER;CN="Jared Stellmacher":MAILTO:jstellmacher@gslcwi.com
END:VEVENT
BEGIN:VEVENT
DTSTART;TZID=America/Chicago:20241222T180000
DTEND;TZID=America/Chicago:20241222T190000
DTSTAMP:20260420T230522
CREATED:20240925T155628Z
LAST-MODIFIED:20240925T155628Z
UID:10021137-1734890400-1734894000@gslcwi.com
SUMMARY:6:00 p.m. Worship Service
DESCRIPTION:A worship service with evening rhythms for song\, prayer\, and reflection rooted in ancient practices and present day cares & concerns.
URL:https://gslcwi.com/event/600-p-m-worship-service/2024-12-22/
LOCATION:Good Shepherd Verona Campus\, 7291 County Road PD\, Verona\, WI\, 53593\, United States
CATEGORIES:Worship
ATTACH;FMTTYPE=image/jpeg:https://gslcwi.com/wp-content/uploads/2024/09/6pmw2-1.jpg
ORGANIZER;CN="Jared Stellmacher":MAILTO:jstellmacher@gslcwi.com
END:VEVENT
BEGIN:VEVENT
DTSTART;TZID=America/Chicago:20241229T090000
DTEND;TZID=America/Chicago:20241229T100000
DTSTAMP:20260420T230522
CREATED:20241219T233506Z
LAST-MODIFIED:20241219T233508Z
UID:10012130-1735462800-1735466400@gslcwi.com
SUMMARY:9:00 a.m. Worship Service
DESCRIPTION:Join us for a special Combined Worship Service on Sunday\, December 29\, at 9 a.m. at the Madison campus. There will be no services at the Verona campus. This will be a “Worship Together as a Family” service\, as there will be no church school. Let’s come together as one congregation to end the year in worship and fellowship!
URL:https://gslcwi.com/event/900-worship-service-24-13-2-7-2/
LOCATION:Madison Sanctuary
CATEGORIES:Worship
ATTACH;FMTTYPE=image/jpeg:https://gslcwi.com/wp-content/uploads/2024/05/9am2.jpg
END:VEVENT
BEGIN:VEVENT
DTSTART;TZID=America/Chicago:20241229T180000
DTEND;TZID=America/Chicago:20241229T190000
DTSTAMP:20260420T230522
CREATED:20240925T155628Z
LAST-MODIFIED:20240925T155628Z
UID:10022973-1735495200-1735498800@gslcwi.com
SUMMARY:6:00 p.m. Worship Service
DESCRIPTION:A worship service with evening rhythms for song\, prayer\, and reflection rooted in ancient practices and present day cares & concerns.
URL:https://gslcwi.com/event/600-p-m-worship-service/2024-12-29/
LOCATION:Good Shepherd Verona Campus\, 7291 County Road PD\, Verona\, WI\, 53593\, United States
CATEGORIES:Worship
ATTACH;FMTTYPE=image/jpeg:https://gslcwi.com/wp-content/uploads/2024/09/6pmw2-1.jpg
ORGANIZER;CN="Jared Stellmacher":MAILTO:jstellmacher@gslcwi.com
END:VEVENT
BEGIN:VEVENT
DTSTART;TZID=America/Chicago:20250105T090000
DTEND;TZID=America/Chicago:20250105T100000
DTSTAMP:20260420T230522
CREATED:20240609T130655Z
LAST-MODIFIED:20240926T161612Z
UID:10012131-1736067600-1736071200@gslcwi.com
SUMMARY:9:00 a.m. Worship Service
DESCRIPTION:You’re invited to the intersection of Whitney Way and Raymond Road for a morning of worship with traditional Lutheran textures and rhythms.
URL:https://gslcwi.com/event/900-worship-service-24-13-2-7/2025-01-05/
LOCATION:Madison Sanctuary
CATEGORIES:Worship
ATTACH;FMTTYPE=image/jpeg:https://gslcwi.com/wp-content/uploads/2024/05/9am2.jpg
END:VEVENT
BEGIN:VEVENT
DTSTART;TZID=America/Chicago:20250105T100000
DTEND;TZID=America/Chicago:20250105T110000
DTSTAMP:20260420T230522
CREATED:20240610T203803Z
LAST-MODIFIED:20240610T203803Z
UID:10020153-1736071200-1736074800@gslcwi.com
SUMMARY:10:00 a.m. Worship Service
DESCRIPTION:Join us on County Highway PD in Verona for morning Worship service featuring modern expressions of praise and prayer anchored by foundational traditions.
URL:https://gslcwi.com/event/1000-a-m-worship-service/2025-01-05/
LOCATION:Good Shepherd Verona Campus\, 7291 County Road PD\, Verona\, WI\, 53593\, United States
CATEGORIES:Worship
ATTACH;FMTTYPE=image/jpeg:https://gslcwi.com/wp-content/uploads/2024/06/10_am_worship_verona.jpg
ORGANIZER;CN="Jared Stellmacher":MAILTO:jstellmacher@gslcwi.com
END:VEVENT
BEGIN:VEVENT
DTSTART;TZID=America/Chicago:20250105T180000
DTEND;TZID=America/Chicago:20250105T190000
DTSTAMP:20260420T230522
CREATED:20240925T155628Z
LAST-MODIFIED:20240925T155628Z
UID:10021139-1736100000-1736103600@gslcwi.com
SUMMARY:6:00 p.m. Worship Service
DESCRIPTION:A worship service with evening rhythms for song\, prayer\, and reflection rooted in ancient practices and present day cares & concerns.
URL:https://gslcwi.com/event/600-p-m-worship-service/2025-01-05/
LOCATION:Good Shepherd Verona Campus\, 7291 County Road PD\, Verona\, WI\, 53593\, United States
CATEGORIES:Worship
ATTACH;FMTTYPE=image/jpeg:https://gslcwi.com/wp-content/uploads/2024/09/6pmw2-1.jpg
ORGANIZER;CN="Jared Stellmacher":MAILTO:jstellmacher@gslcwi.com
END:VEVENT
BEGIN:VEVENT
DTSTART;TZID=America/Chicago:20250112T090000
DTEND;TZID=America/Chicago:20250112T100000
DTSTAMP:20260420T230522
CREATED:20240609T130655Z
LAST-MODIFIED:20240926T161612Z
UID:10012132-1736672400-1736676000@gslcwi.com
SUMMARY:9:00 a.m. Worship Service
DESCRIPTION:You’re invited to the intersection of Whitney Way and Raymond Road for a morning of worship with traditional Lutheran textures and rhythms.
URL:https://gslcwi.com/event/900-worship-service-24-13-2-7/2025-01-12/
LOCATION:Madison Sanctuary
CATEGORIES:Worship
ATTACH;FMTTYPE=image/jpeg:https://gslcwi.com/wp-content/uploads/2024/05/9am2.jpg
END:VEVENT
BEGIN:VEVENT
DTSTART;TZID=America/Chicago:20250112T100000
DTEND;TZID=America/Chicago:20250112T110000
DTSTAMP:20260420T230522
CREATED:20240610T203803Z
LAST-MODIFIED:20240610T203803Z
UID:10020154-1736676000-1736679600@gslcwi.com
SUMMARY:10:00 a.m. Worship Service
DESCRIPTION:Join us on County Highway PD in Verona for morning Worship service featuring modern expressions of praise and prayer anchored by foundational traditions.
URL:https://gslcwi.com/event/1000-a-m-worship-service/2025-01-12/
LOCATION:Good Shepherd Verona Campus\, 7291 County Road PD\, Verona\, WI\, 53593\, United States
CATEGORIES:Worship
ATTACH;FMTTYPE=image/jpeg:https://gslcwi.com/wp-content/uploads/2024/06/10_am_worship_verona.jpg
ORGANIZER;CN="Jared Stellmacher":MAILTO:jstellmacher@gslcwi.com
END:VEVENT
BEGIN:VEVENT
DTSTART;TZID=America/Chicago:20250112T180000
DTEND;TZID=America/Chicago:20250112T190000
DTSTAMP:20260420T230522
CREATED:20240925T155628Z
LAST-MODIFIED:20240925T155628Z
UID:10021140-1736704800-1736708400@gslcwi.com
SUMMARY:6:00 p.m. Worship Service
DESCRIPTION:A worship service with evening rhythms for song\, prayer\, and reflection rooted in ancient practices and present day cares & concerns.
URL:https://gslcwi.com/event/600-p-m-worship-service/2025-01-12/
LOCATION:Good Shepherd Verona Campus\, 7291 County Road PD\, Verona\, WI\, 53593\, United States
CATEGORIES:Worship
ATTACH;FMTTYPE=image/jpeg:https://gslcwi.com/wp-content/uploads/2024/09/6pmw2-1.jpg
ORGANIZER;CN="Jared Stellmacher":MAILTO:jstellmacher@gslcwi.com
END:VEVENT
BEGIN:VEVENT
DTSTART;TZID=America/Chicago:20250119T090000
DTEND;TZID=America/Chicago:20250119T100000
DTSTAMP:20260420T230522
CREATED:20240609T130655Z
LAST-MODIFIED:20240926T161612Z
UID:10012133-1737277200-1737280800@gslcwi.com
SUMMARY:9:00 a.m. Worship Service
DESCRIPTION:You’re invited to the intersection of Whitney Way and Raymond Road for a morning of worship with traditional Lutheran textures and rhythms.
URL:https://gslcwi.com/event/900-worship-service-24-13-2-7/2025-01-19/
LOCATION:Madison Sanctuary
CATEGORIES:Worship
ATTACH;FMTTYPE=image/jpeg:https://gslcwi.com/wp-content/uploads/2024/05/9am2.jpg
END:VEVENT
BEGIN:VEVENT
DTSTART;TZID=America/Chicago:20250119T100000
DTEND;TZID=America/Chicago:20250119T110000
DTSTAMP:20260420T230522
CREATED:20240610T203803Z
LAST-MODIFIED:20240610T203803Z
UID:10020155-1737280800-1737284400@gslcwi.com
SUMMARY:10:00 a.m. Worship Service
DESCRIPTION:Join us on County Highway PD in Verona for morning Worship service featuring modern expressions of praise and prayer anchored by foundational traditions.
URL:https://gslcwi.com/event/1000-a-m-worship-service/2025-01-19/
LOCATION:Good Shepherd Verona Campus\, 7291 County Road PD\, Verona\, WI\, 53593\, United States
CATEGORIES:Worship
ATTACH;FMTTYPE=image/jpeg:https://gslcwi.com/wp-content/uploads/2024/06/10_am_worship_verona.jpg
ORGANIZER;CN="Jared Stellmacher":MAILTO:jstellmacher@gslcwi.com
END:VEVENT
BEGIN:VEVENT
DTSTART;TZID=America/Chicago:20250119T180000
DTEND;TZID=America/Chicago:20250119T190000
DTSTAMP:20260420T230522
CREATED:20240925T155628Z
LAST-MODIFIED:20240925T155628Z
UID:10021141-1737309600-1737313200@gslcwi.com
SUMMARY:6:00 p.m. Worship Service
DESCRIPTION:A worship service with evening rhythms for song\, prayer\, and reflection rooted in ancient practices and present day cares & concerns.
URL:https://gslcwi.com/event/600-p-m-worship-service/2025-01-19/
LOCATION:Good Shepherd Verona Campus\, 7291 County Road PD\, Verona\, WI\, 53593\, United States
CATEGORIES:Worship
ATTACH;FMTTYPE=image/jpeg:https://gslcwi.com/wp-content/uploads/2024/09/6pmw2-1.jpg
ORGANIZER;CN="Jared Stellmacher":MAILTO:jstellmacher@gslcwi.com
END:VEVENT
BEGIN:VEVENT
DTSTART;TZID=America/Chicago:20250126T090000
DTEND;TZID=America/Chicago:20250126T100000
DTSTAMP:20260420T230522
CREATED:20240609T130655Z
LAST-MODIFIED:20240926T161612Z
UID:10012134-1737882000-1737885600@gslcwi.com
SUMMARY:9:00 a.m. Worship Service
DESCRIPTION:You’re invited to the intersection of Whitney Way and Raymond Road for a morning of worship with traditional Lutheran textures and rhythms.
URL:https://gslcwi.com/event/900-worship-service-24-13-2-7/2025-01-26/
LOCATION:Madison Sanctuary
CATEGORIES:Worship
ATTACH;FMTTYPE=image/jpeg:https://gslcwi.com/wp-content/uploads/2024/05/9am2.jpg
END:VEVENT
BEGIN:VEVENT
DTSTART;TZID=America/Chicago:20250126T180000
DTEND;TZID=America/Chicago:20250126T190000
DTSTAMP:20260420T230522
CREATED:20240925T155628Z
LAST-MODIFIED:20240925T155628Z
UID:10022974-1737914400-1737918000@gslcwi.com
SUMMARY:6:00 p.m. Worship Service
DESCRIPTION:A worship service with evening rhythms for song\, prayer\, and reflection rooted in ancient practices and present day cares & concerns.
URL:https://gslcwi.com/event/600-p-m-worship-service/2025-01-26/
LOCATION:Good Shepherd Verona Campus\, 7291 County Road PD\, Verona\, WI\, 53593\, United States
CATEGORIES:Worship
ATTACH;FMTTYPE=image/jpeg:https://gslcwi.com/wp-content/uploads/2024/09/6pmw2-1.jpg
ORGANIZER;CN="Jared Stellmacher":MAILTO:jstellmacher@gslcwi.com
END:VEVENT
BEGIN:VEVENT
DTSTART;TZID=America/Chicago:20250202T090000
DTEND;TZID=America/Chicago:20250202T100000
DTSTAMP:20260420T230523
CREATED:20240609T130655Z
LAST-MODIFIED:20240926T161612Z
UID:10012135-1738486800-1738490400@gslcwi.com
SUMMARY:9:00 a.m. Worship Service
DESCRIPTION:You’re invited to the intersection of Whitney Way and Raymond Road for a morning of worship with traditional Lutheran textures and rhythms.
URL:https://gslcwi.com/event/900-worship-service-24-13-2-7/2025-02-02/
LOCATION:Madison Sanctuary
CATEGORIES:Worship
ATTACH;FMTTYPE=image/jpeg:https://gslcwi.com/wp-content/uploads/2024/05/9am2.jpg
END:VEVENT
BEGIN:VEVENT
DTSTART;TZID=America/Chicago:20250202T100000
DTEND;TZID=America/Chicago:20250202T110000
DTSTAMP:20260420T230523
CREATED:20240610T203803Z
LAST-MODIFIED:20240610T203803Z
UID:10020157-1738490400-1738494000@gslcwi.com
SUMMARY:10:00 a.m. Worship Service
DESCRIPTION:Join us on County Highway PD in Verona for morning Worship service featuring modern expressions of praise and prayer anchored by foundational traditions.
URL:https://gslcwi.com/event/1000-a-m-worship-service/2025-02-02/
LOCATION:Good Shepherd Verona Campus\, 7291 County Road PD\, Verona\, WI\, 53593\, United States
CATEGORIES:Worship
ATTACH;FMTTYPE=image/jpeg:https://gslcwi.com/wp-content/uploads/2024/06/10_am_worship_verona.jpg
ORGANIZER;CN="Jared Stellmacher":MAILTO:jstellmacher@gslcwi.com
END:VEVENT
BEGIN:VEVENT
DTSTART;TZID=America/Chicago:20250202T180000
DTEND;TZID=America/Chicago:20250202T190000
DTSTAMP:20260420T230523
CREATED:20240925T155628Z
LAST-MODIFIED:20240925T155628Z
UID:10021143-1738519200-1738522800@gslcwi.com
SUMMARY:6:00 p.m. Worship Service
DESCRIPTION:A worship service with evening rhythms for song\, prayer\, and reflection rooted in ancient practices and present day cares & concerns.
URL:https://gslcwi.com/event/600-p-m-worship-service/2025-02-02/
LOCATION:Good Shepherd Verona Campus\, 7291 County Road PD\, Verona\, WI\, 53593\, United States
CATEGORIES:Worship
ATTACH;FMTTYPE=image/jpeg:https://gslcwi.com/wp-content/uploads/2024/09/6pmw2-1.jpg
ORGANIZER;CN="Jared Stellmacher":MAILTO:jstellmacher@gslcwi.com
END:VEVENT
BEGIN:VEVENT
DTSTART;TZID=America/Chicago:20250209T090000
DTEND;TZID=America/Chicago:20250209T100000
DTSTAMP:20260420T230523
CREATED:20240609T130655Z
LAST-MODIFIED:20240926T161612Z
UID:10012625-1739091600-1739095200@gslcwi.com
SUMMARY:9:00 a.m. Worship Service
DESCRIPTION:You’re invited to the intersection of Whitney Way and Raymond Road for a morning of worship with traditional Lutheran textures and rhythms.
URL:https://gslcwi.com/event/900-worship-service-24-13-2-7/2025-02-09/
LOCATION:Madison Sanctuary
CATEGORIES:Worship
ATTACH;FMTTYPE=image/jpeg:https://gslcwi.com/wp-content/uploads/2024/05/9am2.jpg
END:VEVENT
BEGIN:VEVENT
DTSTART;TZID=America/Chicago:20250209T100000
DTEND;TZID=America/Chicago:20250209T110000
DTSTAMP:20260420T230523
CREATED:20240610T203803Z
LAST-MODIFIED:20240610T203803Z
UID:10020158-1739095200-1739098800@gslcwi.com
SUMMARY:10:00 a.m. Worship Service
DESCRIPTION:Join us on County Highway PD in Verona for morning Worship service featuring modern expressions of praise and prayer anchored by foundational traditions.
URL:https://gslcwi.com/event/1000-a-m-worship-service/2025-02-09/
LOCATION:Good Shepherd Verona Campus\, 7291 County Road PD\, Verona\, WI\, 53593\, United States
CATEGORIES:Worship
ATTACH;FMTTYPE=image/jpeg:https://gslcwi.com/wp-content/uploads/2024/06/10_am_worship_verona.jpg
ORGANIZER;CN="Jared Stellmacher":MAILTO:jstellmacher@gslcwi.com
END:VEVENT
BEGIN:VEVENT
DTSTART;TZID=America/Chicago:20250209T180000
DTEND;TZID=America/Chicago:20250209T190000
DTSTAMP:20260420T230523
CREATED:20240925T155628Z
LAST-MODIFIED:20240925T155628Z
UID:10021144-1739124000-1739127600@gslcwi.com
SUMMARY:6:00 p.m. Worship Service
DESCRIPTION:A worship service with evening rhythms for song\, prayer\, and reflection rooted in ancient practices and present day cares & concerns.
URL:https://gslcwi.com/event/600-p-m-worship-service/2025-02-09/
LOCATION:Good Shepherd Verona Campus\, 7291 County Road PD\, Verona\, WI\, 53593\, United States
CATEGORIES:Worship
ATTACH;FMTTYPE=image/jpeg:https://gslcwi.com/wp-content/uploads/2024/09/6pmw2-1.jpg
ORGANIZER;CN="Jared Stellmacher":MAILTO:jstellmacher@gslcwi.com
END:VEVENT
BEGIN:VEVENT
DTSTART;TZID=America/Chicago:20250216T090000
DTEND;TZID=America/Chicago:20250216T100000
DTSTAMP:20260420T230523
CREATED:20240609T130655Z
LAST-MODIFIED:20240926T161612Z
UID:10012626-1739696400-1739700000@gslcwi.com
SUMMARY:9:00 a.m. Worship Service
DESCRIPTION:You’re invited to the intersection of Whitney Way and Raymond Road for a morning of worship with traditional Lutheran textures and rhythms.
URL:https://gslcwi.com/event/900-worship-service-24-13-2-7/2025-02-16/
LOCATION:Madison Sanctuary
CATEGORIES:Worship
ATTACH;FMTTYPE=image/jpeg:https://gslcwi.com/wp-content/uploads/2024/05/9am2.jpg
END:VEVENT
BEGIN:VEVENT
DTSTART;TZID=America/Chicago:20250216T100000
DTEND;TZID=America/Chicago:20250216T110000
DTSTAMP:20260420T230523
CREATED:20240610T203803Z
LAST-MODIFIED:20240610T203803Z
UID:10020159-1739700000-1739703600@gslcwi.com
SUMMARY:10:00 a.m. Worship Service
DESCRIPTION:Join us on County Highway PD in Verona for morning Worship service featuring modern expressions of praise and prayer anchored by foundational traditions.
URL:https://gslcwi.com/event/1000-a-m-worship-service/2025-02-16/
LOCATION:Good Shepherd Verona Campus\, 7291 County Road PD\, Verona\, WI\, 53593\, United States
CATEGORIES:Worship
ATTACH;FMTTYPE=image/jpeg:https://gslcwi.com/wp-content/uploads/2024/06/10_am_worship_verona.jpg
ORGANIZER;CN="Jared Stellmacher":MAILTO:jstellmacher@gslcwi.com
END:VEVENT
END:VCALENDAR