BEGIN:VCALENDAR
VERSION:2.0
PRODID:-//Good Shepherd Lutheran Church - ECPv6.15.20//NONSGML v1.0//EN
CALSCALE:GREGORIAN
METHOD:PUBLISH
X-WR-CALNAME:Good Shepherd Lutheran Church
X-ORIGINAL-URL:https://gslcwi.com
X-WR-CALDESC:Events for Good Shepherd Lutheran Church
REFRESH-INTERVAL;VALUE=DURATION:PT1H
X-Robots-Tag:noindex
X-PUBLISHED-TTL:PT1H
BEGIN:VTIMEZONE
TZID:America/Chicago
BEGIN:DAYLIGHT
TZOFFSETFROM:-0600
TZOFFSETTO:-0500
TZNAME:CDT
DTSTART:20210314T080000
END:DAYLIGHT
BEGIN:STANDARD
TZOFFSETFROM:-0500
TZOFFSETTO:-0600
TZNAME:CST
DTSTART:20211107T070000
END:STANDARD
BEGIN:DAYLIGHT
TZOFFSETFROM:-0600
TZOFFSETTO:-0500
TZNAME:CDT
DTSTART:20220313T080000
END:DAYLIGHT
BEGIN:STANDARD
TZOFFSETFROM:-0500
TZOFFSETTO:-0600
TZNAME:CST
DTSTART:20221106T070000
END:STANDARD
BEGIN:DAYLIGHT
TZOFFSETFROM:-0600
TZOFFSETTO:-0500
TZNAME:CDT
DTSTART:20230312T080000
END:DAYLIGHT
BEGIN:STANDARD
TZOFFSETFROM:-0500
TZOFFSETTO:-0600
TZNAME:CST
DTSTART:20231105T070000
END:STANDARD
END:VTIMEZONE
BEGIN:VEVENT
DTSTART;TZID=America/Chicago:20220711T183000
DTEND;TZID=America/Chicago:20220711T200000
DTSTAMP:20260421T043745
CREATED:20220709T193652Z
LAST-MODIFIED:20220711T225557Z
UID:10009468-1657564200-1657569600@gslcwi.com
SUMMARY:KY Travelers Meeting
DESCRIPTION:
URL:https://gslcwi.com/event/ky-travelers-meeting/
LOCATION:Madison Peterson Hall
END:VEVENT
BEGIN:VEVENT
DTSTART;TZID=America/Chicago:20220711T180000
DTEND;TZID=America/Chicago:20220711T200000
DTSTAMP:20260421T043745
CREATED:20220709T193645Z
LAST-MODIFIED:20220711T225550Z
UID:10009467-1657562400-1657569600@gslcwi.com
SUMMARY:Ignite Volleyball
DESCRIPTION:
URL:https://gslcwi.com/event/ignite-volleyball-5/
LOCATION:Verona Gym
END:VEVENT
BEGIN:VEVENT
DTSTART;TZID=America/Chicago:20220711T170000
DTEND;TZID=America/Chicago:20220711T190000
DTSTAMP:20260421T043745
CREATED:20220709T193639Z
LAST-MODIFIED:20220711T225544Z
UID:10009466-1657558800-1657566000@gslcwi.com
SUMMARY:Music Monday with the COW
DESCRIPTION:
URL:https://gslcwi.com/event/music-monday-with-the-cow-2/
LOCATION:Madison Campus Lawn
END:VEVENT
BEGIN:VEVENT
DTSTART;TZID=America/Chicago:20220711T170000
DTEND;TZID=America/Chicago:20220711T190000
DTSTAMP:20260421T043745
CREATED:20220705T145522Z
LAST-MODIFIED:20220705T190622Z
UID:10009453-1657558800-1657566000@gslcwi.com
SUMMARY:Music Monday │ All That Jazz Big Band
DESCRIPTION:July 11 – All That Jazz Big Band \nStarted in a Middleton basement in 1985\, All that Jazz Big Band is now a 20-piece big band laying down classic charts from Glenn Miller\, Count Basie and Sammy Nestico but has a 400-song library also featuring jazz classics to Polka to Rock and Roll.
URL:https://gslcwi.com/event/music-monday-2/
ATTACH;FMTTYPE=image/jpeg:https://gslcwi.com/wp-content/uploads/2022/07/MusicMonday2022-all-that-jazz.jpg
END:VEVENT
BEGIN:VEVENT
DTSTART;TZID=America/Chicago:20220711T160000
DTEND;TZID=America/Chicago:20220711T173000
DTSTAMP:20260421T043745
CREATED:20220709T193734Z
LAST-MODIFIED:20220710T213802Z
UID:10009474-1657555200-1657560600@gslcwi.com
SUMMARY:Literacy Network
DESCRIPTION:
URL:https://gslcwi.com/event/literacy-network-8/
LOCATION:Madison Room 11/The Sheep Fold
END:VEVENT
BEGIN:VEVENT
DTSTART;TZID=America/Chicago:20220711T120000
DTEND;TZID=America/Chicago:20220711T140000
DTSTAMP:20260421T043745
CREATED:20220709T193728Z
LAST-MODIFIED:20220710T213756Z
UID:10009473-1657540800-1657548000@gslcwi.com
SUMMARY:Association of Church Musicians
DESCRIPTION:
URL:https://gslcwi.com/event/association-of-church-musicians-14/
LOCATION:Madison Good Shepherd Room
END:VEVENT
BEGIN:VEVENT
DTSTART;TZID=America/Chicago:20220711T070000
DTEND;TZID=America/Chicago:20220711T220000
DTSTAMP:20260421T043745
CREATED:20220419T141513Z
LAST-MODIFIED:20220711T225603Z
UID:10009163-1657522800-1657576800@gslcwi.com
SUMMARY:Intern Room
DESCRIPTION:
URL:https://gslcwi.com/event/intern-room-35/
LOCATION:Verona Room 7
END:VEVENT
BEGIN:VEVENT
DTSTART;TZID=America/Chicago:20220710T190000
DTEND;TZID=America/Chicago:20220710T203000
DTSTAMP:20260421T043745
CREATED:20220709T193704Z
LAST-MODIFIED:20220710T213737Z
UID:10009470-1657479600-1657485000@gslcwi.com
SUMMARY:Youth Group
DESCRIPTION:
URL:https://gslcwi.com/event/youth-group-28/
LOCATION:Verona Gym; Verona Fire Pit; Verona Youth Room
END:VEVENT
BEGIN:VEVENT
DTSTART;TZID=America/Chicago:20220710T190000
DTEND;TZID=America/Chicago:20220710T203000
DTSTAMP:20260421T043745
CREATED:20220519T214556Z
LAST-MODIFIED:20220519T214556Z
UID:10009365-1657479600-1657485000@gslcwi.com
SUMMARY:HS Youth Group
DESCRIPTION:Hang out with us at high school youth group after evening worship! Friends are always welcome!
URL:https://gslcwi.com/event/hs-youth-group-23/2022-07-10/
LOCATION:Verona Tent; Verona Fire Pit
CATEGORIES:High School
ORGANIZER;CN="Becca Feldhacker":MAILTO:bmortensen@gslcwi.com
END:VEVENT
BEGIN:VEVENT
DTSTART;TZID=America/Chicago:20220710T180000
DTEND;TZID=America/Chicago:20220710T190000
DTSTAMP:20260421T043745
CREATED:20220419T141512Z
LAST-MODIFIED:20220710T213750Z
UID:10009161-1657476000-1657479600@gslcwi.com
SUMMARY:Verona 6:00 Worship
DESCRIPTION:
URL:https://gslcwi.com/event/verona-600-worship-38/
LOCATION:Verona Sanctuary
END:VEVENT
BEGIN:VEVENT
DTSTART;TZID=America/Chicago:20220710T130000
DTEND;TZID=America/Chicago:20220710T150000
DTSTAMP:20260421T043745
CREATED:20220709T193657Z
LAST-MODIFIED:20220709T193657Z
UID:10009469-1657458000-1657465200@gslcwi.com
SUMMARY:Iglesia evangelica el remanente
DESCRIPTION:
URL:https://gslcwi.com/event/iglesia-evangelica-el-remanente-47/
LOCATION:Madison Peterson Hall
END:VEVENT
BEGIN:VEVENT
DTSTART;TZID=America/Chicago:20220710T120000
DTEND;TZID=America/Chicago:20220710T140000
DTSTAMP:20260421T043745
CREATED:20220708T161416Z
LAST-MODIFIED:20220709T193651Z
UID:10009464-1657454400-1657461600@gslcwi.com
SUMMARY:Pickleball
DESCRIPTION:
URL:https://gslcwi.com/event/pickleball-56/
LOCATION:Verona Gym
END:VEVENT
BEGIN:VEVENT
DTSTART;TZID=America/Chicago:20220710T103000
DTEND;TZID=America/Chicago:20220710T113000
DTSTAMP:20260421T043745
CREATED:20220419T141511Z
LAST-MODIFIED:20220709T193716Z
UID:10009160-1657449000-1657452600@gslcwi.com
SUMMARY:10:30 Worship Service
DESCRIPTION:
URL:https://gslcwi.com/event/1030-worship-service-15/
LOCATION:Verona Sanctuary
END:VEVENT
BEGIN:VEVENT
DTSTART;TZID=America/Chicago:20220710T090000
DTEND;TZID=America/Chicago:20220710T100000
DTSTAMP:20260421T043745
CREATED:20220708T161429Z
LAST-MODIFIED:20220709T193645Z
UID:10009465-1657443600-1657447200@gslcwi.com
SUMMARY:9:00 Worship Service
DESCRIPTION:
URL:https://gslcwi.com/event/900-worship-service-5/
LOCATION:Madison Sanctuary
END:VEVENT
BEGIN:VEVENT
DTSTART;TZID=America/Chicago:20220710T070000
DTEND;TZID=America/Chicago:20220710T220000
DTSTAMP:20260421T043745
CREATED:20220419T141512Z
LAST-MODIFIED:20220710T213743Z
UID:10009162-1657436400-1657490400@gslcwi.com
SUMMARY:Intern Room
DESCRIPTION:
URL:https://gslcwi.com/event/intern-room-34/
LOCATION:Verona Room 7
END:VEVENT
BEGIN:VEVENT
DTSTART;TZID=America/Chicago:20220709T113000
DTEND;TZID=America/Chicago:20220709T133000
DTSTAMP:20260421T043745
CREATED:20220419T141510Z
LAST-MODIFIED:20220708T161410Z
UID:10009159-1657366200-1657373400@gslcwi.com
SUMMARY:Leadership Training
DESCRIPTION:
URL:https://gslcwi.com/event/leadership-training/
LOCATION:Madison Peterson Hall
END:VEVENT
BEGIN:VEVENT
DTSTART;TZID=America/Chicago:20220709T080000
DTEND;TZID=America/Chicago:20220709T090000
DTSTAMP:20260421T043745
CREATED:20220419T141453Z
LAST-MODIFIED:20220708T161404Z
UID:10009158-1657353600-1657357200@gslcwi.com
SUMMARY:Men's Bible Study Zoom
DESCRIPTION:
URL:https://gslcwi.com/event/mens-bible-study-zoom-57/
LOCATION:Zoom Meeting
END:VEVENT
BEGIN:VEVENT
DTSTART;TZID=America/Chicago:20220709T070000
DTEND;TZID=America/Chicago:20220709T220000
DTSTAMP:20260421T043745
CREATED:20220419T141452Z
LAST-MODIFIED:20220709T193638Z
UID:10009157-1657350000-1657404000@gslcwi.com
SUMMARY:Intern Room
DESCRIPTION:
URL:https://gslcwi.com/event/intern-room-33/
LOCATION:Verona Room 7
END:VEVENT
BEGIN:VEVENT
DTSTART;TZID=America/Chicago:20220708T190000
DTEND;TZID=America/Chicago:20220708T203000
DTSTAMP:20260421T043745
CREATED:20220708T161346Z
LAST-MODIFIED:20220708T161346Z
UID:10009463-1657306800-1657312200@gslcwi.com
SUMMARY:Ignite Volleyball
DESCRIPTION:
URL:https://gslcwi.com/event/ignite-volleyball-4/
LOCATION:Microsoft Teams Meeting; Verona Gym
END:VEVENT
BEGIN:VEVENT
DTSTART;TZID=America/Chicago:20220708T093000
DTEND;TZID=America/Chicago:20220708T130000
DTSTAMP:20260421T043745
CREATED:20220708T161340Z
LAST-MODIFIED:20220708T161340Z
UID:10009462-1657272600-1657285200@gslcwi.com
SUMMARY:New Bridge Meals
DESCRIPTION:
URL:https://gslcwi.com/event/new-bridge-meals-59/
LOCATION:Madison Kitchen; Madison Peterson Hall
END:VEVENT
BEGIN:VEVENT
DTSTART;TZID=America/Chicago:20220708T074500
DTEND;TZID=America/Chicago:20220708T090000
DTSTAMP:20260421T043745
CREATED:20211205T215943Z
LAST-MODIFIED:20211212T222717Z
UID:10025955-1657266300-1657270800@gslcwi.com
SUMMARY:Live at 7:45
DESCRIPTION:Join us every other Friday morning at 7:45 a.m. via Zoom! This way\, your kitchen table and favorite mug are nearby! This group reads an array of books on scripture\, spirituality and religious culture. Email Sarah McCormack for information and the Zoom link.
URL:https://gslcwi.com/event/live-at-745/2022-07-08/
CATEGORIES:Adult Education,Fellowship
ATTACH;FMTTYPE=image/jpeg:https://gslcwi.com/wp-content/uploads/2021/12/360_F_281619240_RQEKhn42utSujfr3pZPxGVk9gtEaGtUX.jpg
END:VEVENT
BEGIN:VEVENT
DTSTART;TZID=America/Chicago:20220708T070000
DTEND;TZID=America/Chicago:20220708T220000
DTSTAMP:20260421T043745
CREATED:20220419T141452Z
LAST-MODIFIED:20220708T161352Z
UID:10009156-1657263600-1657317600@gslcwi.com
SUMMARY:Intern Room
DESCRIPTION:
URL:https://gslcwi.com/event/intern-room-32/
LOCATION:Verona Room 7
END:VEVENT
BEGIN:VEVENT
DTSTART;TZID=America/Chicago:20220708T063000
DTEND;TZID=America/Chicago:20220708T073000
DTSTAMP:20260421T043745
CREATED:20220419T141451Z
LAST-MODIFIED:20220419T141451Z
UID:10009155-1657261800-1657265400@gslcwi.com
SUMMARY:Friday Morning Men's Group
DESCRIPTION:
URL:https://gslcwi.com/event/friday-morning-mens-group-57/
LOCATION:Verona Coffee Bar
END:VEVENT
BEGIN:VEVENT
DTSTART;TZID=America/Chicago:20220707T200000
DTEND;TZID=America/Chicago:20220707T213000
DTSTAMP:20260421T043745
CREATED:20220707T161308Z
LAST-MODIFIED:20220707T161308Z
UID:10009460-1657224000-1657229400@gslcwi.com
SUMMARY:Ignite Volleyball
DESCRIPTION:
URL:https://gslcwi.com/event/ignite-volleyball-3/
LOCATION:Microsoft Teams Meeting; Verona Gym
END:VEVENT
BEGIN:VEVENT
DTSTART;TZID=America/Chicago:20220707T180000
DTEND;TZID=America/Chicago:20220707T200000
DTSTAMP:20260421T043745
CREATED:20220707T161259Z
LAST-MODIFIED:20220707T161259Z
UID:10009459-1657216800-1657224000@gslcwi.com
SUMMARY:Adams Volleyball
DESCRIPTION:
URL:https://gslcwi.com/event/adams-volleyball-15/
LOCATION:Verona Gym
END:VEVENT
BEGIN:VEVENT
DTSTART;TZID=America/Chicago:20220707T173000
DTEND;TZID=America/Chicago:20220707T190000
DTSTAMP:20260421T043745
CREATED:20220419T141450Z
LAST-MODIFIED:20220707T161252Z
UID:10009153-1657215000-1657220400@gslcwi.com
SUMMARY:GSLC Food Pantrty
DESCRIPTION:
URL:https://gslcwi.com/event/gslc-food-pantrty-57/
LOCATION:Madison Lobby
END:VEVENT
BEGIN:VEVENT
DTSTART;TZID=America/Chicago:20220707T173000
DTEND;TZID=America/Chicago:20220707T190000
DTSTAMP:20260421T043745
CREATED:20220419T141449Z
LAST-MODIFIED:20220707T161222Z
UID:10009152-1657215000-1657220400@gslcwi.com
SUMMARY:Clothes Closet
DESCRIPTION:
URL:https://gslcwi.com/event/clothes-closet-114/
LOCATION:Madison Room 6
END:VEVENT
BEGIN:VEVENT
DTSTART;TZID=America/Chicago:20220707T173000
DTEND;TZID=America/Chicago:20220707T183000
DTSTAMP:20260421T043746
CREATED:20220705T144546Z
LAST-MODIFIED:20220714T144024Z
UID:10009449-1657215000-1657218600@gslcwi.com
SUMMARY:Worship with the COW at Tower Park
DESCRIPTION:Follow the COW this summer as we spend Thursday evenings in local parks\, eating and worshipping.  We’ll be at Tower Park in Verona\, sharing a delicious meal followed by a short worship experience. Worship will include Faith Footprints as well as prayer\, reflection and conversation. Accessible for all ages! Bring a chair\, a blanket and a friend.
URL:https://gslcwi.com/event/worship-with-the-cow-at-tower-park/2022-07-07/
CATEGORIES:Holy COW
ATTACH;FMTTYPE=image/jpeg:https://gslcwi.com/wp-content/uploads/2022/07/TowerParkFacebook-scaled.jpg
END:VEVENT
BEGIN:VEVENT
DTSTART;TZID=America/Chicago:20220707T170000
DTEND;TZID=America/Chicago:20220707T190000
DTSTAMP:20260421T043746
CREATED:20220707T161246Z
LAST-MODIFIED:20220707T161246Z
UID:10009458-1657213200-1657220400@gslcwi.com
SUMMARY:Worship with the COW
DESCRIPTION:
URL:https://gslcwi.com/event/worship-with-the-cow-4/
LOCATION:Offsite
END:VEVENT
BEGIN:VEVENT
DTSTART;TZID=America/Chicago:20220707T100000
DTEND;TZID=America/Chicago:20220707T130000
DTSTAMP:20260421T043746
CREATED:20220706T124116Z
LAST-MODIFIED:20220707T161216Z
UID:10009457-1657188000-1657198800@gslcwi.com
SUMMARY:Senior Lunches
DESCRIPTION:
URL:https://gslcwi.com/event/senior-lunches-8/
LOCATION:Madison Kitchen; Madison Peterson Hall
END:VEVENT
END:VCALENDAR