BEGIN:VCALENDAR
VERSION:2.0
PRODID:-//Good Shepherd Lutheran Church - ECPv6.15.20//NONSGML v1.0//EN
CALSCALE:GREGORIAN
METHOD:PUBLISH
X-WR-CALNAME:Good Shepherd Lutheran Church
X-ORIGINAL-URL:https://gslcwi.com
X-WR-CALDESC:Events for Good Shepherd Lutheran Church
REFRESH-INTERVAL;VALUE=DURATION:PT1H
X-Robots-Tag:noindex
X-PUBLISHED-TTL:PT1H
BEGIN:VTIMEZONE
TZID:America/Chicago
BEGIN:DAYLIGHT
TZOFFSETFROM:-0600
TZOFFSETTO:-0500
TZNAME:CDT
DTSTART:20210314T080000
END:DAYLIGHT
BEGIN:STANDARD
TZOFFSETFROM:-0500
TZOFFSETTO:-0600
TZNAME:CST
DTSTART:20211107T070000
END:STANDARD
BEGIN:DAYLIGHT
TZOFFSETFROM:-0600
TZOFFSETTO:-0500
TZNAME:CDT
DTSTART:20220313T080000
END:DAYLIGHT
BEGIN:STANDARD
TZOFFSETFROM:-0500
TZOFFSETTO:-0600
TZNAME:CST
DTSTART:20221106T070000
END:STANDARD
BEGIN:DAYLIGHT
TZOFFSETFROM:-0600
TZOFFSETTO:-0500
TZNAME:CDT
DTSTART:20230312T080000
END:DAYLIGHT
BEGIN:STANDARD
TZOFFSETFROM:-0500
TZOFFSETTO:-0600
TZNAME:CST
DTSTART:20231105T070000
END:STANDARD
END:VTIMEZONE
BEGIN:VEVENT
DTSTART;TZID=America/Chicago:20220930T153000
DTEND;TZID=America/Chicago:20220930T170000
DTSTAMP:20260421T030342
CREATED:20221028T142643Z
LAST-MODIFIED:20221028T142643Z
UID:10010505-1664551800-1664557200@gslcwi.com
SUMMARY:Adams Volleyball
DESCRIPTION:
URL:https://gslcwi.com/event/adams-volleyball-56/
LOCATION:Verona Gym
END:VEVENT
BEGIN:VEVENT
DTSTART;TZID=America/Chicago:20220930T153000
DTEND;TZID=America/Chicago:20220930T170000
DTSTAMP:20260421T030342
CREATED:20220830T175105Z
LAST-MODIFIED:20220925T214104Z
UID:10009814-1664551800-1664557200@gslcwi.com
SUMMARY:Adams Volleyball
DESCRIPTION:
URL:https://gslcwi.com/event/adams-volleyball-32/
LOCATION:Verona Gym
END:VEVENT
BEGIN:VEVENT
DTSTART;TZID=America/Chicago:20220930T093000
DTEND;TZID=America/Chicago:20220930T130000
DTSTAMP:20260421T030342
CREATED:20220928T105909Z
LAST-MODIFIED:20220928T105909Z
UID:10010182-1664530200-1664542800@gslcwi.com
SUMMARY:New Bridge Meals
DESCRIPTION:
URL:https://gslcwi.com/event/new-bridge-meals-80/
LOCATION:Madison Kitchen; Madison Peterson Hall
END:VEVENT
BEGIN:VEVENT
DTSTART;TZID=America/Chicago:20220930T093000
DTEND;TZID=America/Chicago:20220930T130000
DTSTAMP:20260421T030342
CREATED:20220810T005830Z
LAST-MODIFIED:20220925T214103Z
UID:10009691-1664530200-1664542800@gslcwi.com
SUMMARY:New Bridge Meals
DESCRIPTION:
URL:https://gslcwi.com/event/new-bridge-meals-70/
LOCATION:Madison Kitchen; Madison Peterson Hall
END:VEVENT
BEGIN:VEVENT
DTSTART;TZID=America/Chicago:20220930T074500
DTEND;TZID=America/Chicago:20220930T090000
DTSTAMP:20260421T030342
CREATED:20211205T215943Z
LAST-MODIFIED:20211212T222717Z
UID:10025961-1664523900-1664528400@gslcwi.com
SUMMARY:Live at 7:45
DESCRIPTION:Join us every other Friday morning at 7:45 a.m. via Zoom! This way\, your kitchen table and favorite mug are nearby! This group reads an array of books on scripture\, spirituality and religious culture. Email Sarah McCormack for information and the Zoom link.
URL:https://gslcwi.com/event/live-at-745/2022-09-30/
CATEGORIES:Adult Education,Fellowship
ATTACH;FMTTYPE=image/jpeg:https://gslcwi.com/wp-content/uploads/2021/12/360_F_281619240_RQEKhn42utSujfr3pZPxGVk9gtEaGtUX.jpg
END:VEVENT
BEGIN:VEVENT
DTSTART;TZID=America/Chicago:20220930T063000
DTEND;TZID=America/Chicago:20220930T073000
DTSTAMP:20260421T030342
CREATED:20220419T142136Z
LAST-MODIFIED:20220925T214103Z
UID:10009334-1664519400-1664523000@gslcwi.com
SUMMARY:Friday Morning Men's Group
DESCRIPTION:
URL:https://gslcwi.com/event/friday-morning-mens-group-69/
LOCATION:Verona Coffee Bar
END:VEVENT
BEGIN:VEVENT
DTSTART;TZID=America/Chicago:20220929T180000
DTEND;TZID=America/Chicago:20220929T200000
DTSTAMP:20260421T030342
CREATED:20220928T105832Z
LAST-MODIFIED:20220928T105832Z
UID:10010176-1664474400-1664481600@gslcwi.com
SUMMARY:Cub Scouts
DESCRIPTION:
URL:https://gslcwi.com/event/cub-scouts-36/
LOCATION:Verona Fire Pit
END:VEVENT
BEGIN:VEVENT
DTSTART;TZID=America/Chicago:20220929T180000
DTEND;TZID=America/Chicago:20220929T200000
DTSTAMP:20260421T030342
CREATED:20220927T002127Z
LAST-MODIFIED:20220927T002127Z
UID:10009968-1664474400-1664481600@gslcwi.com
SUMMARY:Cub Scouts
DESCRIPTION:
URL:https://gslcwi.com/event/cub-scouts-27/
LOCATION:Verona Fire Pit
END:VEVENT
BEGIN:VEVENT
DTSTART;TZID=America/Chicago:20220929T180000
DTEND;TZID=America/Chicago:20220929T200000
DTSTAMP:20260421T030342
CREATED:20220917T201422Z
LAST-MODIFIED:20220925T214101Z
UID:10009905-1664474400-1664481600@gslcwi.com
SUMMARY:Cub Scouts
DESCRIPTION:
URL:https://gslcwi.com/event/cub-scouts-21/
LOCATION:Verona Fire Pit
END:VEVENT
BEGIN:VEVENT
DTSTART;TZID=America/Chicago:20220929T180000
DTEND;TZID=America/Chicago:20220929T193000
DTSTAMP:20260421T030342
CREATED:20220928T105856Z
LAST-MODIFIED:20220928T105856Z
UID:10010180-1664474400-1664479800@gslcwi.com
SUMMARY:Cub Scouts
DESCRIPTION:
URL:https://gslcwi.com/event/cub-scouts-37/
LOCATION:Verona Room 6; Verona Room 7
END:VEVENT
BEGIN:VEVENT
DTSTART;TZID=America/Chicago:20220929T180000
DTEND;TZID=America/Chicago:20220929T193000
DTSTAMP:20260421T030342
CREATED:20220927T002133Z
LAST-MODIFIED:20220927T002133Z
UID:10009969-1664474400-1664479800@gslcwi.com
SUMMARY:Cub Scouts
DESCRIPTION:
URL:https://gslcwi.com/event/cub-scouts-28/
LOCATION:Verona Room 6; Verona Room 7
END:VEVENT
BEGIN:VEVENT
DTSTART;TZID=America/Chicago:20220929T180000
DTEND;TZID=America/Chicago:20220929T190000
DTSTAMP:20260421T030342
CREATED:20220928T105850Z
LAST-MODIFIED:20220928T105850Z
UID:10010179-1664474400-1664478000@gslcwi.com
SUMMARY:Fibromyalgia Awareness Support Group
DESCRIPTION:
URL:https://gslcwi.com/event/fibromyalgia-awareness-support-group-6/
LOCATION:Madison Room 6
END:VEVENT
BEGIN:VEVENT
DTSTART;TZID=America/Chicago:20220929T180000
DTEND;TZID=America/Chicago:20220929T190000
DTSTAMP:20260421T030342
CREATED:20220927T002121Z
LAST-MODIFIED:20220927T002121Z
UID:10009967-1664474400-1664478000@gslcwi.com
SUMMARY:Fibromyalgia Awareness Support Group
DESCRIPTION:
URL:https://gslcwi.com/event/fibromyalgia-awareness-support-group-4/
LOCATION:Madison Room 6
END:VEVENT
BEGIN:VEVENT
DTSTART;TZID=America/Chicago:20220929T173000
DTEND;TZID=America/Chicago:20220929T190000
DTSTAMP:20260421T030342
CREATED:20221028T142720Z
LAST-MODIFIED:20221028T142720Z
UID:10010506-1664472600-1664478000@gslcwi.com
SUMMARY:GSLC Food Pantrty
DESCRIPTION:
URL:https://gslcwi.com/event/gslc-food-pantrty-88/
LOCATION:Madison Lobby
END:VEVENT
BEGIN:VEVENT
DTSTART;TZID=America/Chicago:20220929T173000
DTEND;TZID=America/Chicago:20220929T190000
DTSTAMP:20260421T030342
CREATED:20220928T105844Z
LAST-MODIFIED:20220928T105844Z
UID:10010178-1664472600-1664478000@gslcwi.com
SUMMARY:GSLC Food Pantrty
DESCRIPTION:
URL:https://gslcwi.com/event/gslc-food-pantrty-81/
LOCATION:Madison Lobby
END:VEVENT
BEGIN:VEVENT
DTSTART;TZID=America/Chicago:20220929T173000
DTEND;TZID=America/Chicago:20220929T190000
DTSTAMP:20260421T030342
CREATED:20220928T105838Z
LAST-MODIFIED:20220928T105838Z
UID:10010177-1664472600-1664478000@gslcwi.com
SUMMARY:Clothes Closet
DESCRIPTION:
URL:https://gslcwi.com/event/clothes-closet-163/
LOCATION:Madison Room 6
END:VEVENT
BEGIN:VEVENT
DTSTART;TZID=America/Chicago:20220929T173000
DTEND;TZID=America/Chicago:20220929T190000
DTSTAMP:20260421T030342
CREATED:20220928T023439Z
LAST-MODIFIED:20220928T023439Z
UID:10010166-1664472600-1664478000@gslcwi.com
SUMMARY:Clothes Closet
DESCRIPTION:
URL:https://gslcwi.com/event/clothes-closet-161/
LOCATION:Madison Room 6
END:VEVENT
BEGIN:VEVENT
DTSTART;TZID=America/Chicago:20220929T173000
DTEND;TZID=America/Chicago:20220929T190000
DTSTAMP:20260421T030342
CREATED:20220419T142134Z
LAST-MODIFIED:20220925T214102Z
UID:10009332-1664472600-1664478000@gslcwi.com
SUMMARY:Clothes Closet
DESCRIPTION:
URL:https://gslcwi.com/event/clothes-closet-138/
LOCATION:Madison Room 6
END:VEVENT
BEGIN:VEVENT
DTSTART;TZID=America/Chicago:20220929T170000
DTEND;TZID=America/Chicago:20220929T190000
DTSTAMP:20260421T030342
CREATED:20220810T005828Z
LAST-MODIFIED:20220829T134422Z
UID:10009690-1664470800-1664478000@gslcwi.com
SUMMARY:Worship with the COW
DESCRIPTION:
URL:https://gslcwi.com/event/worship-with-the-cow-15/
LOCATION:Offsite
END:VEVENT
BEGIN:VEVENT
DTSTART;TZID=America/Chicago:20220929T100000
DTEND;TZID=America/Chicago:20220929T120000
DTSTAMP:20260421T030342
CREATED:20220928T105825Z
LAST-MODIFIED:20220928T105825Z
UID:10010175-1664445600-1664452800@gslcwi.com
SUMMARY:GSLC Food Pantry
DESCRIPTION:
URL:https://gslcwi.com/event/gslc-food-pantry-82/
LOCATION:Madison Lobby
END:VEVENT
BEGIN:VEVENT
DTSTART;TZID=America/Chicago:20220929T100000
DTEND;TZID=America/Chicago:20220929T120000
DTSTAMP:20260421T030342
CREATED:20220928T105819Z
LAST-MODIFIED:20220928T105819Z
UID:10010174-1664445600-1664452800@gslcwi.com
SUMMARY:Clothes Closet
DESCRIPTION:
URL:https://gslcwi.com/event/clothes-closet-162/
LOCATION:Madison Room 6
END:VEVENT
BEGIN:VEVENT
DTSTART;TZID=America/Chicago:20220929T100000
DTEND;TZID=America/Chicago:20220929T120000
DTSTAMP:20260421T030342
CREATED:20220928T023433Z
LAST-MODIFIED:20220928T023433Z
UID:10010165-1664445600-1664452800@gslcwi.com
SUMMARY:GSLC Food Pantry
DESCRIPTION:
URL:https://gslcwi.com/event/gslc-food-pantry-81/
LOCATION:Madison Lobby
END:VEVENT
BEGIN:VEVENT
DTSTART;TZID=America/Chicago:20220929T100000
DTEND;TZID=America/Chicago:20220929T120000
DTSTAMP:20260421T030342
CREATED:20220928T023427Z
LAST-MODIFIED:20220928T023427Z
UID:10010164-1664445600-1664452800@gslcwi.com
SUMMARY:Clothes Closet
DESCRIPTION:
URL:https://gslcwi.com/event/clothes-closet-160/
LOCATION:Madison Room 6
END:VEVENT
BEGIN:VEVENT
DTSTART;TZID=America/Chicago:20220929T100000
DTEND;TZID=America/Chicago:20220929T120000
DTSTAMP:20260421T030342
CREATED:20220927T002114Z
LAST-MODIFIED:20220927T002114Z
UID:10009966-1664445600-1664452800@gslcwi.com
SUMMARY:Clothes Closet
DESCRIPTION:
URL:https://gslcwi.com/event/clothes-closet-149/
LOCATION:Madison Room 6
END:VEVENT
BEGIN:VEVENT
DTSTART;TZID=America/Chicago:20220929T100000
DTEND;TZID=America/Chicago:20220929T120000
DTSTAMP:20260421T030342
CREATED:20220927T002108Z
LAST-MODIFIED:20220927T002108Z
UID:10009965-1664445600-1664452800@gslcwi.com
SUMMARY:GSLC Food Pantry
DESCRIPTION:
URL:https://gslcwi.com/event/gslc-food-pantry-75/
LOCATION:Madison Lobby
END:VEVENT
BEGIN:VEVENT
DTSTART;TZID=America/Chicago:20220929T100000
DTEND;TZID=America/Chicago:20220929T120000
DTSTAMP:20260421T030342
CREATED:20220419T142134Z
LAST-MODIFIED:20220925T214100Z
UID:10009331-1664445600-1664452800@gslcwi.com
SUMMARY:GSLC Food Pantry
DESCRIPTION:
URL:https://gslcwi.com/event/gslc-food-pantry-69/
LOCATION:Madison Lobby
END:VEVENT
BEGIN:VEVENT
DTSTART;TZID=America/Chicago:20220929T100000
DTEND;TZID=America/Chicago:20220929T120000
DTSTAMP:20260421T030342
CREATED:20220419T142133Z
LAST-MODIFIED:20220925T214100Z
UID:10009330-1664445600-1664452800@gslcwi.com
SUMMARY:Clothes Closet
DESCRIPTION:
URL:https://gslcwi.com/event/clothes-closet-137/
LOCATION:Madison Room 6
END:VEVENT
BEGIN:VEVENT
DTSTART;TZID=America/Chicago:20220928T190000
DTEND;TZID=America/Chicago:20220928T203000
DTSTAMP:20260421T030342
CREATED:20220928T105800Z
LAST-MODIFIED:20220928T105800Z
UID:10010171-1664391600-1664397000@gslcwi.com
SUMMARY:Choir Rehearsal
DESCRIPTION:
URL:https://gslcwi.com/event/choir-rehearsal-48/
LOCATION:Madison Sanctuary
END:VEVENT
BEGIN:VEVENT
DTSTART;TZID=America/Chicago:20220928T190000
DTEND;TZID=America/Chicago:20220928T203000
DTSTAMP:20260421T030342
CREATED:20220928T023421Z
LAST-MODIFIED:20220928T023421Z
UID:10010163-1664391600-1664397000@gslcwi.com
SUMMARY:Choir Rehearsal
DESCRIPTION:
URL:https://gslcwi.com/event/choir-rehearsal-47/
LOCATION:Madison Sanctuary
END:VEVENT
BEGIN:VEVENT
DTSTART;TZID=America/Chicago:20220928T181500
DTEND;TZID=America/Chicago:20220928T200000
DTSTAMP:20260421T030342
CREATED:20220809T005112Z
LAST-MODIFIED:20220925T214059Z
UID:10009689-1664388900-1664395200@gslcwi.com
SUMMARY:Amped
DESCRIPTION:
URL:https://gslcwi.com/event/amped-62/
LOCATION:Verona Coffee Bar; Verona Fellowship Hall; Verona Gym; Verona Kitchen; Verona Sanctuary; Verona Youth Room
CATEGORIES:AMPED Confirmation
END:VEVENT
END:VCALENDAR