BEGIN:VCALENDAR
VERSION:2.0
PRODID:-//Good Shepherd Lutheran Church - ECPv6.15.20//NONSGML v1.0//EN
CALSCALE:GREGORIAN
METHOD:PUBLISH
X-WR-CALNAME:Good Shepherd Lutheran Church
X-ORIGINAL-URL:https://gslcwi.com
X-WR-CALDESC:Events for Good Shepherd Lutheran Church
REFRESH-INTERVAL;VALUE=DURATION:PT1H
X-Robots-Tag:noindex
X-PUBLISHED-TTL:PT1H
BEGIN:VTIMEZONE
TZID:America/Chicago
BEGIN:DAYLIGHT
TZOFFSETFROM:-0600
TZOFFSETTO:-0500
TZNAME:CDT
DTSTART:20240310T080000
END:DAYLIGHT
BEGIN:STANDARD
TZOFFSETFROM:-0500
TZOFFSETTO:-0600
TZNAME:CST
DTSTART:20241103T070000
END:STANDARD
BEGIN:DAYLIGHT
TZOFFSETFROM:-0600
TZOFFSETTO:-0500
TZNAME:CDT
DTSTART:20250309T080000
END:DAYLIGHT
BEGIN:STANDARD
TZOFFSETFROM:-0500
TZOFFSETTO:-0600
TZNAME:CST
DTSTART:20251102T070000
END:STANDARD
BEGIN:DAYLIGHT
TZOFFSETFROM:-0600
TZOFFSETTO:-0500
TZNAME:CDT
DTSTART:20260308T080000
END:DAYLIGHT
BEGIN:STANDARD
TZOFFSETFROM:-0500
TZOFFSETTO:-0600
TZNAME:CST
DTSTART:20261101T070000
END:STANDARD
END:VTIMEZONE
BEGIN:VEVENT
DTSTART;TZID=America/Chicago:20250218T193000
DTEND;TZID=America/Chicago:20250218T210000
DTSTAMP:20260421T194924
CREATED:20250124T015956Z
LAST-MODIFIED:20250213T224748Z
UID:10022145-1739907000-1739912400@gslcwi.com
SUMMARY:AA Meeting
DESCRIPTION:Jenni Nowak jenninowak25@gmail.com\nAlexander: 585.305.3414\nJennifer: 608.515.0697
URL:https://gslcwi.com/event/aa-meeting-152/
LOCATION:Verona Room 6
END:VEVENT
BEGIN:VEVENT
DTSTART;TZID=America/Chicago:20250218T190000
DTEND;TZID=America/Chicago:20250218T200000
DTSTAMP:20260421T194924
CREATED:20230921T142540Z
LAST-MODIFIED:20230921T152532Z
UID:10016709-1739905200-1739908800@gslcwi.com
SUMMARY:Wine and Word Women's Study
DESCRIPTION:
URL:https://gslcwi.com/event/wine-and-word-womens-study/2025-02-18/
LOCATION:RP Adler’s\, 8202 Watts Rd\, Madison\, WI\, 53711\, United States
CATEGORIES:Bible Study,Women's Ministry
ORGANIZER;CN="Liz Deterding":MAILTO:elizabeth.deterding@gmail.com
END:VEVENT
BEGIN:VEVENT
DTSTART;TZID=America/Chicago:20250218T183000
DTEND;TZID=America/Chicago:20250218T203000
DTSTAMP:20260421T194924
CREATED:20250124T021337Z
LAST-MODIFIED:20250213T224748Z
UID:10022146-1739903400-1739910600@gslcwi.com
SUMMARY:Boy Scouts
DESCRIPTION:Amy Byrnes – Scout Master ajmbyrnes@yahoo.com\nMatt Watrud – Scout Master watrud@uwalumni.com
URL:https://gslcwi.com/event/boy-scouts-214/
LOCATION:Verona Fellowship Hall
END:VEVENT
BEGIN:VEVENT
DTSTART;TZID=America/Chicago:20250218T183000
DTEND;TZID=America/Chicago:20250218T200000
DTSTAMP:20260421T194924
CREATED:20250213T223338Z
LAST-MODIFIED:20250213T223338Z
UID:10022276-1739903400-1739908800@gslcwi.com
SUMMARY:Verona Worship Committee
DESCRIPTION:Mike Harper\, madharper50@att.net
URL:https://gslcwi.com/event/verona-worship-committee/
LOCATION:Verona Chapel
END:VEVENT
BEGIN:VEVENT
DTSTART;TZID=America/Chicago:20250218T180000
DTEND;TZID=America/Chicago:20250218T190000
DTSTAMP:20260421T194924
CREATED:20250117T030058Z
LAST-MODIFIED:20250213T223338Z
UID:10022134-1739901600-1739905200@gslcwi.com
SUMMARY:McCarty Den Meeting
DESCRIPTION:Derek McCarty djcarty@gmail.com
URL:https://gslcwi.com/event/mccarty-den-meeting-11/
LOCATION:Verona Room 6
END:VEVENT
BEGIN:VEVENT
DTSTART;TZID=America/Chicago:20250218T180000
DTEND;TZID=America/Chicago:20250218T190000
DTSTAMP:20260421T194924
CREATED:20250117T030057Z
LAST-MODIFIED:20250213T224747Z
UID:10022133-1739901600-1739905200@gslcwi.com
SUMMARY:Den Meeting
DESCRIPTION:4650 County Rd D M\, Morrisonville\, WI
URL:https://gslcwi.com/event/den-meeting-77/
LOCATION:Verona Room 11; Verona Room 7
END:VEVENT
BEGIN:VEVENT
DTSTART;TZID=America/Chicago:20250218T173000
DTEND;TZID=America/Chicago:20250218T190000
DTSTAMP:20260421T194924
CREATED:20250206T235256Z
LAST-MODIFIED:20250213T224746Z
UID:10022229-1739899800-1739905200@gslcwi.com
SUMMARY:Church Meeting
DESCRIPTION:Pr. Craig
URL:https://gslcwi.com/event/church-meeting/
LOCATION:Verona Room 6
END:VEVENT
BEGIN:VEVENT
DTSTART;TZID=America/Chicago:20250218T110000
DTEND;TZID=America/Chicago:20250218T120000
DTSTAMP:20260421T194924
CREATED:20250117T030057Z
LAST-MODIFIED:20250213T223337Z
UID:10022132-1739876400-1739880000@gslcwi.com
SUMMARY:Staff Meeting
DESCRIPTION:Pr. Craig
URL:https://gslcwi.com/event/staff-meeting-30/
LOCATION:Madison Good Shepherd Room
END:VEVENT
BEGIN:VEVENT
DTSTART;TZID=America/Chicago:20250218T090000
DTEND;TZID=America/Chicago:20250218T110000
DTSTAMP:20260421T194924
CREATED:20230320T152255Z
LAST-MODIFIED:20230921T134352Z
UID:10013404-1739869200-1739876400@gslcwi.com
SUMMARY:Tuesday Trekkers
DESCRIPTION:Join other GS folks for an hour-long hike\, Tuesdays at 9am.  Meets at different locations around the area\, enjoying fresh air and fellowship.
URL:https://gslcwi.com/event/tuesday-trekkers-8/2025-02-18/
LOCATION:Offsite
CATEGORIES:Adult Education,Fellowship,Sports
ATTACH;FMTTYPE=image/jpeg:https://gslcwi.com/wp-content/uploads/2023/03/trekers720.jpg
ORGANIZER;CN="Diane Hughes":MAILTO:dhhands@sbcglobal.net
END:VEVENT
BEGIN:VEVENT
DTSTART;TZID=America/Chicago:20250218T083000
DTEND;TZID=America/Chicago:20250218T093000
DTSTAMP:20260421T194924
CREATED:20250117T030056Z
LAST-MODIFIED:20250213T223337Z
UID:10022131-1739867400-1739871000@gslcwi.com
SUMMARY:Playgroup - Emily
DESCRIPTION:Brent / Emily G\n-Having the  table in front of window\n-table and 4 chairs set up on that perpendicular wall\n-the 2 playgroup rugs set up similar to last year on the opposite wall\n________________________________________________________________________________\nMicrosoft Teams Need help?\nJoin the meeting now\nMeeting ID: 220 897 479 041\nPasscode: c6TL2D\n________________________________\nFor organizers: Meeting options\n________________________________________________________________________________
URL:https://gslcwi.com/event/playgroup-emily-35/
LOCATION:Verona Gym
END:VEVENT
BEGIN:VEVENT
DTSTART;TZID=America/Chicago:20250218T070000
DTEND;TZID=America/Chicago:20250218T183000
DTSTAMP:20260421T194924
CREATED:20250124T015954Z
LAST-MODIFIED:20250213T224746Z
UID:10022144-1739862000-1739903400@gslcwi.com
SUMMARY:Primary Election
DESCRIPTION:
URL:https://gslcwi.com/event/primary-election/
LOCATION:Madison Peterson Hall
END:VEVENT
BEGIN:VEVENT
DTSTART;TZID=America/Chicago:20250217T190000
DTEND;TZID=America/Chicago:20250217T200000
DTSTAMP:20260421T194924
CREATED:20250117T030055Z
LAST-MODIFIED:20250213T223159Z
UID:10022130-1739818800-1739822400@gslcwi.com
SUMMARY:McCarty Gym Time
DESCRIPTION:Phillip Mattsson-Boze pmattsso@gmail.com
URL:https://gslcwi.com/event/mccarty-gym-time-7/
LOCATION:Verona Gym
END:VEVENT
BEGIN:VEVENT
DTSTART;TZID=America/Chicago:20250217T180000
DTEND;TZID=America/Chicago:20250217T200000
DTSTAMP:20260421T194924
CREATED:20250117T025913Z
LAST-MODIFIED:20250213T223336Z
UID:10022129-1739815200-1739822400@gslcwi.com
SUMMARY:Webelos Meeting
DESCRIPTION:Nicole Dederich ndederich83@gmail.com
URL:https://gslcwi.com/event/webelos-meeting-11/
LOCATION:Verona Fellowship Hall
END:VEVENT
BEGIN:VEVENT
DTSTART;TZID=America/Chicago:20250217T160000
DTEND;TZID=America/Chicago:20250217T173000
DTSTAMP:20260421T194924
CREATED:20250117T025912Z
LAST-MODIFIED:20250213T223158Z
UID:10022128-1739808000-1739813400@gslcwi.com
SUMMARY:Literacy Network
DESCRIPTION:Bex Fabrizio Bex@litnetwork.org
URL:https://gslcwi.com/event/literacy-network-227/
LOCATION:Madison Good Shepherd Room
END:VEVENT
BEGIN:VEVENT
DTSTART;TZID=America/Chicago:20250217T160000
DTEND;TZID=America/Chicago:20250217T173000
DTSTAMP:20260421T194924
CREATED:20220923T135855Z
LAST-MODIFIED:20230913T194729Z
UID:10012724-1739808000-1739813400@gslcwi.com
SUMMARY:Literacy Network
DESCRIPTION:
URL:https://gslcwi.com/event/literacy-network-40/2025-02-17/
LOCATION:Madison Room 11/The Sheep Fold; Madison Room 9
CATEGORIES:Community Event
END:VEVENT
BEGIN:VEVENT
DTSTART;TZID=America/Chicago:20250217T160000
DTEND;TZID=America/Chicago:20250217T170000
DTSTAMP:20260421T194924
CREATED:20250117T025911Z
LAST-MODIFIED:20250213T223158Z
UID:10022127-1739808000-1739811600@gslcwi.com
SUMMARY:Wissen Gym Time
DESCRIPTION:Stephanie Wissen wissen@uwalumni.com
URL:https://gslcwi.com/event/wissen-gym-time-10/
LOCATION:Verona Gym
END:VEVENT
BEGIN:VEVENT
DTSTART;TZID=America/Chicago:20250217T100000
DTEND;TZID=America/Chicago:20250217T120000
DTSTAMP:20260421T194924
CREATED:20250117T025910Z
LAST-MODIFIED:20250213T223157Z
UID:10022125-1739786400-1739793600@gslcwi.com
SUMMARY:Quilters
DESCRIPTION:Brent / Donna Hintze<teddyb55@icloud.com\n________________________________________________________________________________\nMicrosoft Teams Need help?\nJoin the meeting now\nMeeting ID: 297 573 519 588\nPasscode: 255jpX\n________________________________\nFor organizers: Meeting options\n________________________________________________________________________________
URL:https://gslcwi.com/event/quilters-124/
LOCATION:Verona Fellowship Hall
END:VEVENT
BEGIN:VEVENT
DTSTART;TZID=America/Chicago:20250217T083000
DTEND;TZID=America/Chicago:20250217T103000
DTSTAMP:20260421T194924
CREATED:20250117T025911Z
LAST-MODIFIED:20250213T223156Z
UID:10022126-1739781000-1739788200@gslcwi.com
SUMMARY:Clothes Closet Sorters
DESCRIPTION:
URL:https://gslcwi.com/event/clothes-closet-sorters-5/
LOCATION:Madison Peterson Hall
END:VEVENT
BEGIN:VEVENT
DTSTART;TZID=America/Chicago:20250216T190000
DTEND;TZID=America/Chicago:20250216T203000
DTSTAMP:20260421T194924
CREATED:20250117T024521Z
LAST-MODIFIED:20250213T221738Z
UID:10022124-1739732400-1739737800@gslcwi.com
SUMMARY:Youth Group
DESCRIPTION:Brent / Sarah\n________________________________________________________________________________\nMicrosoft Teams Need help?\nJoin the meeting now\nMeeting ID: 212 377 247 449\nPasscode: K85dVF\n________________________________\nFor organizers: Meeting options\n________________________________________________________________________________
URL:https://gslcwi.com/event/youth-group-78/
LOCATION:Verona Fellowship Hall; Verona Youth Room
END:VEVENT
BEGIN:VEVENT
DTSTART;TZID=America/Chicago:20250216T190000
DTEND;TZID=America/Chicago:20250216T200000
DTSTAMP:20260421T194924
CREATED:20250117T024520Z
LAST-MODIFIED:20250213T221739Z
UID:10022123-1739732400-1739736000@gslcwi.com
SUMMARY:Youth Group
DESCRIPTION:Sarah Iverson
URL:https://gslcwi.com/event/youth-group-77/
LOCATION:Verona Lobby; Verona Coffee Bar; Verona Youth Room
END:VEVENT
BEGIN:VEVENT
DTSTART;TZID=America/Chicago:20250216T180000
DTEND;TZID=America/Chicago:20250216T190000
DTSTAMP:20260421T194924
CREATED:20250117T024519Z
LAST-MODIFIED:20250213T221740Z
UID:10022122-1739728800-1739732400@gslcwi.com
SUMMARY:6:00 Worship Service
DESCRIPTION:Pr. Craig
URL:https://gslcwi.com/event/600-worship-service-8/
LOCATION:Verona Lobby; Verona Sanctuary
END:VEVENT
BEGIN:VEVENT
DTSTART;TZID=America/Chicago:20250216T180000
DTEND;TZID=America/Chicago:20250216T190000
DTSTAMP:20260421T194924
CREATED:20240925T155628Z
LAST-MODIFIED:20240925T155628Z
UID:10021145-1739728800-1739732400@gslcwi.com
SUMMARY:6:00 p.m. Worship Service
DESCRIPTION:A worship service with evening rhythms for song\, prayer\, and reflection rooted in ancient practices and present day cares & concerns.
URL:https://gslcwi.com/event/600-p-m-worship-service/2025-02-16/
LOCATION:Good Shepherd Verona Campus\, 7291 County Road PD\, Verona\, WI\, 53593\, United States
CATEGORIES:Worship
ATTACH;FMTTYPE=image/jpeg:https://gslcwi.com/wp-content/uploads/2024/09/6pmw2-1.jpg
ORGANIZER;CN="Jared Stellmacher":MAILTO:jstellmacher@gslcwi.com
END:VEVENT
BEGIN:VEVENT
DTSTART;TZID=America/Chicago:20250216T160000
DTEND;TZID=America/Chicago:20250216T170000
DTSTAMP:20260421T194924
CREATED:20250110T022155Z
LAST-MODIFIED:20250213T221738Z
UID:10022063-1739721600-1739725200@gslcwi.com
SUMMARY:4-H
DESCRIPTION:Laura Smith <lsmith@oak.bank>\nRobyn Voss button0@aol.com\nLaura 608-225-5433
URL:https://gslcwi.com/event/4-h-25/
LOCATION:Verona Fellowship Hall
END:VEVENT
BEGIN:VEVENT
DTSTART;TZID=America/Chicago:20250216T130000
DTEND;TZID=America/Chicago:20250216T160000
DTSTAMP:20260421T194924
CREATED:20250117T024236Z
LAST-MODIFIED:20250213T221541Z
UID:10022119-1739710800-1739721600@gslcwi.com
SUMMARY:Iglesia evangelica el remanente
DESCRIPTION:
URL:https://gslcwi.com/event/iglesia-evangelica-el-remanente-229/
LOCATION:Madison Peterson Hall
END:VEVENT
BEGIN:VEVENT
DTSTART;TZID=America/Chicago:20250216T120000
DTEND;TZID=America/Chicago:20250216T170000
DTSTAMP:20260421T194924
CREATED:20220925T214225Z
LAST-MODIFIED:20230307T202102Z
UID:10012688-1739707200-1739725200@gslcwi.com
SUMMARY:Pickleball
DESCRIPTION:
URL:https://gslcwi.com/event/pickleball-81/2025-02-16/
LOCATION:Verona Gym
CATEGORIES:Sports,Verona Gym
ATTACH;FMTTYPE=image/jpeg:https://gslcwi.com/wp-content/uploads/2023/02/pickleball2-1.jpg
END:VEVENT
BEGIN:VEVENT
DTSTART;TZID=America/Chicago:20250216T110000
DTEND;TZID=America/Chicago:20250216T130000
DTSTAMP:20260421T194924
CREATED:20250117T024519Z
LAST-MODIFIED:20250213T221737Z
UID:10022121-1739703600-1739710800@gslcwi.com
SUMMARY:Knitting Group
DESCRIPTION:Kimberly King we5kings36@gmail.com
URL:https://gslcwi.com/event/knitting-group-14/
LOCATION:Madison Lobby; Madison Good Shepherd Room
END:VEVENT
BEGIN:VEVENT
DTSTART;TZID=America/Chicago:20250216T103000
DTEND;TZID=America/Chicago:20250216T160000
DTSTAMP:20260421T194924
CREATED:20250117T024518Z
LAST-MODIFIED:20250213T221539Z
UID:10022120-1739701800-1739721600@gslcwi.com
SUMMARY:Pickleball
DESCRIPTION:Phyllis Wiederhoeft pwiederhoeft@gmail.com
URL:https://gslcwi.com/event/pickleball-277/
LOCATION:Verona Gym
END:VEVENT
BEGIN:VEVENT
DTSTART;TZID=America/Chicago:20250216T100000
DTEND;TZID=America/Chicago:20250216T113000
DTSTAMP:20260421T194924
CREATED:20250213T221540Z
LAST-MODIFIED:20250213T221540Z
UID:10022275-1739700000-1739705400@gslcwi.com
SUMMARY:Congregational Life Conversation
DESCRIPTION:Pr. Craig
URL:https://gslcwi.com/event/congregational-life-conversation/
LOCATION:Madison Peterson Hall
END:VEVENT
BEGIN:VEVENT
DTSTART;TZID=America/Chicago:20250216T100000
DTEND;TZID=America/Chicago:20250216T110000
DTSTAMP:20260421T194924
CREATED:20250117T024236Z
LAST-MODIFIED:20250213T221539Z
UID:10022118-1739700000-1739703600@gslcwi.com
SUMMARY:Verona Worship Service
DESCRIPTION:Pr. Craig
URL:https://gslcwi.com/event/verona-worship-service-9/
LOCATION:Verona Sanctuary; Verona Lobby
END:VEVENT
BEGIN:VEVENT
DTSTART;TZID=America/Chicago:20250216T100000
DTEND;TZID=America/Chicago:20250216T110000
DTSTAMP:20260421T194924
CREATED:20240610T203803Z
LAST-MODIFIED:20240610T203803Z
UID:10020159-1739700000-1739703600@gslcwi.com
SUMMARY:10:00 a.m. Worship Service
DESCRIPTION:Join us on County Highway PD in Verona for morning Worship service featuring modern expressions of praise and prayer anchored by foundational traditions.
URL:https://gslcwi.com/event/1000-a-m-worship-service/2025-02-16/
LOCATION:Good Shepherd Verona Campus\, 7291 County Road PD\, Verona\, WI\, 53593\, United States
CATEGORIES:Worship
ATTACH;FMTTYPE=image/jpeg:https://gslcwi.com/wp-content/uploads/2024/06/10_am_worship_verona.jpg
ORGANIZER;CN="Jared Stellmacher":MAILTO:jstellmacher@gslcwi.com
END:VEVENT
END:VCALENDAR