BEGIN:VCALENDAR
VERSION:2.0
PRODID:-//Good Shepherd Lutheran Church - ECPv6.15.20//NONSGML v1.0//EN
CALSCALE:GREGORIAN
METHOD:PUBLISH
X-WR-CALNAME:Good Shepherd Lutheran Church
X-ORIGINAL-URL:https://gslcwi.com
X-WR-CALDESC:Events for Good Shepherd Lutheran Church
REFRESH-INTERVAL;VALUE=DURATION:PT1H
X-Robots-Tag:noindex
X-PUBLISHED-TTL:PT1H
BEGIN:VTIMEZONE
TZID:America/Chicago
BEGIN:DAYLIGHT
TZOFFSETFROM:-0600
TZOFFSETTO:-0500
TZNAME:CDT
DTSTART:20240310T080000
END:DAYLIGHT
BEGIN:STANDARD
TZOFFSETFROM:-0500
TZOFFSETTO:-0600
TZNAME:CST
DTSTART:20241103T070000
END:STANDARD
BEGIN:DAYLIGHT
TZOFFSETFROM:-0600
TZOFFSETTO:-0500
TZNAME:CDT
DTSTART:20250309T080000
END:DAYLIGHT
BEGIN:STANDARD
TZOFFSETFROM:-0500
TZOFFSETTO:-0600
TZNAME:CST
DTSTART:20251102T070000
END:STANDARD
BEGIN:DAYLIGHT
TZOFFSETFROM:-0600
TZOFFSETTO:-0500
TZNAME:CDT
DTSTART:20260308T080000
END:DAYLIGHT
BEGIN:STANDARD
TZOFFSETFROM:-0500
TZOFFSETTO:-0600
TZNAME:CST
DTSTART:20261101T070000
END:STANDARD
END:VTIMEZONE
BEGIN:VEVENT
DTSTART;TZID=America/Chicago:20250829T170000
DTEND;TZID=America/Chicago:20250829T190000
DTSTAMP:20260420T213001
CREATED:20250710T200501Z
LAST-MODIFIED:20250823T105759Z
UID:10023349-1756486800-1756494000@gslcwi.com
SUMMARY:Iglesia evangelica el remanente
DESCRIPTION:Juan\nRT
URL:https://gslcwi.com/event/iglesia-evangelica-el-remanente-259/
LOCATION:Madison Peterson Hall
END:VEVENT
BEGIN:VEVENT
DTSTART;TZID=America/Chicago:20250829T063000
DTEND;TZID=America/Chicago:20250829T073000
DTSTAMP:20260420T213001
CREATED:20220924T190555Z
LAST-MODIFIED:20260121T194640Z
UID:10016130-1756449000-1756452600@gslcwi.com
SUMMARY:Friday Morning Men's Group
DESCRIPTION:A men’s gathering for support\, study\, and fellowship.
URL:https://gslcwi.com/event/friday-morning-mens-group-74/2025-08-29/
LOCATION:Verona Coffee Bar
CATEGORIES:Adult Education,Men's Ministry
ORGANIZER;CN="Rick Thomas":MAILTO:rthomas@gslcwi.com
END:VEVENT
BEGIN:VEVENT
DTSTART;TZID=America/Chicago:20250828T190000
DTEND;TZID=America/Chicago:20250828T210000
DTSTAMP:20260420T213001
CREATED:20250710T195125Z
LAST-MODIFIED:20250823T105528Z
UID:10023348-1756407600-1756414800@gslcwi.com
SUMMARY:10:00 Worship Band Rehearsal
DESCRIPTION:Tracy Dahl
URL:https://gslcwi.com/event/1000-worship-band-rehearsal-43/
LOCATION:Verona Sanctuary
END:VEVENT
BEGIN:VEVENT
DTSTART;TZID=America/Chicago:20250828T183000
DTEND;TZID=America/Chicago:20250828T200000
DTSTAMP:20260420T213001
CREATED:20250822T104314Z
LAST-MODIFIED:20250823T105759Z
UID:10023540-1756405800-1756411200@gslcwi.com
SUMMARY:RIC Task Force
DESCRIPTION:Sarah Simon\, sdsimon.wi@gmail.com
URL:https://gslcwi.com/event/ric-task-force-4/
LOCATION:Madison Room 6
END:VEVENT
BEGIN:VEVENT
DTSTART;TZID=America/Chicago:20250828T173000
DTEND;TZID=America/Chicago:20250828T190000
DTSTAMP:20260420T213001
CREATED:20250710T195124Z
LAST-MODIFIED:20250823T105529Z
UID:10023346-1756402200-1756407600@gslcwi.com
SUMMARY:FIBROMYALGIA WARRIOR WELLNESS SUPPORT GROUP
DESCRIPTION:Alecia Armstrong\nFibromyalgia Advocate\n608-692-7771\naleciababe@yahoo.com
URL:https://gslcwi.com/event/fibromyalgia-warrior-wellness-support-group-25/
LOCATION:Madison Good Shepherd Room
END:VEVENT
BEGIN:VEVENT
DTSTART;TZID=America/Chicago:20250828T173000
DTEND;TZID=America/Chicago:20250828T190000
DTSTAMP:20260420T213001
CREATED:20250710T195124Z
LAST-MODIFIED:20250823T105529Z
UID:10023347-1756402200-1756407600@gslcwi.com
SUMMARY:GSLC Food Pantrty
DESCRIPTION:
URL:https://gslcwi.com/event/gslc-food-pantrty-224/
LOCATION:Madison Peterson Hall
END:VEVENT
BEGIN:VEVENT
DTSTART;TZID=America/Chicago:20250828T103000
DTEND;TZID=America/Chicago:20250828T140000
DTSTAMP:20260420T213001
CREATED:20250710T195124Z
LAST-MODIFIED:20250823T105528Z
UID:10023345-1756377000-1756389600@gslcwi.com
SUMMARY:NewBridge Senior Meals
DESCRIPTION:Deenah Givens deenahg@newbridgemadison.org\nJim Krueger jimk@newbridgemadison.org
URL:https://gslcwi.com/event/newbridge-senior-meals-26/
LOCATION:Madison Peterson Hall; Madison Lobby
END:VEVENT
BEGIN:VEVENT
DTSTART;TZID=America/Chicago:20250828T100000
DTEND;TZID=America/Chicago:20250828T120000
DTSTAMP:20260420T213001
CREATED:20250710T195123Z
LAST-MODIFIED:20250823T105528Z
UID:10023344-1756375200-1756382400@gslcwi.com
SUMMARY:Clothes Closet
DESCRIPTION:
URL:https://gslcwi.com/event/clothes-closet-318/
LOCATION:Madison Room 6
END:VEVENT
BEGIN:VEVENT
DTSTART;TZID=America/Chicago:20250828T100000
DTEND;TZID=America/Chicago:20250828T120000
DTSTAMP:20260420T213001
CREATED:20250710T194843Z
LAST-MODIFIED:20250823T104155Z
UID:10023343-1756375200-1756382400@gslcwi.com
SUMMARY:GSLC Food Pantry
DESCRIPTION:
URL:https://gslcwi.com/event/gslc-food-pantry-225/
LOCATION:Madison Lobby
END:VEVENT
BEGIN:VEVENT
DTSTART;TZID=America/Chicago:20250827T170000
DTEND;TZID=America/Chicago:20250827T190000
DTSTAMP:20260420T213001
CREATED:20250710T194843Z
LAST-MODIFIED:20250823T104155Z
UID:10023342-1756314000-1756321200@gslcwi.com
SUMMARY:COW at Oregon Fireman's Park
DESCRIPTION:
URL:https://gslcwi.com/event/cow-at-oregon-firemans-park/
LOCATION:Offsite
END:VEVENT
BEGIN:VEVENT
DTSTART;TZID=America/Chicago:20250827T080000
DTEND;TZID=America/Chicago:20250827T153000
DTSTAMP:20260420T213001
CREATED:20250717T190513Z
LAST-MODIFIED:20250823T104154Z
UID:10023370-1756281600-1756308600@gslcwi.com
SUMMARY:ORE Inservice
DESCRIPTION:Gabrielle A Phillips gaphillips@madison.k12.wi.us
URL:https://gslcwi.com/event/ore-inservice/
LOCATION:Madison Peterson Hall
END:VEVENT
BEGIN:VEVENT
DTSTART;TZID=America/Chicago:20250827T070000
DTEND;TZID=America/Chicago:20250827T080000
DTSTAMP:20260420T213001
CREATED:20230228T160601Z
LAST-MODIFIED:20230921T134643Z
UID:10015760-1756278000-1756281600@gslcwi.com
SUMMARY:Wednesday Morning Men's Bible Study
DESCRIPTION:A Weekly Men’s Bible Study that gathers on Zoom.
URL:https://gslcwi.com/event/wednesday-morning-mens-bible-study/2025-08-27/
CATEGORIES:Adult Education,Bible Study,Men's Ministry
ATTACH;FMTTYPE=image/jpeg:https://gslcwi.com/wp-content/uploads/2023/02/fa-barboza-NWoaoMgMiVY-unsplash.jpg
ORGANIZER;CN="Dean Nelson":MAILTO:deanwnelson@gmail.com
END:VEVENT
BEGIN:VEVENT
DTSTART;TZID=America/Chicago:20250826T190000
DTEND;TZID=America/Chicago:20250826T200000
DTSTAMP:20260420T213001
CREATED:20230921T142540Z
LAST-MODIFIED:20230921T152532Z
UID:10016736-1756234800-1756238400@gslcwi.com
SUMMARY:Wine and Word Women's Study
DESCRIPTION:
URL:https://gslcwi.com/event/wine-and-word-womens-study/2025-08-26/
LOCATION:RP Adler’s\, 8202 Watts Rd\, Madison\, WI\, 53711\, United States
CATEGORIES:Bible Study,Women's Ministry
ORGANIZER;CN="Liz Deterding":MAILTO:elizabeth.deterding@gmail.com
END:VEVENT
BEGIN:VEVENT
DTSTART;TZID=America/Chicago:20250826T183000
DTEND;TZID=America/Chicago:20250826T203000
DTSTAMP:20260420T213001
CREATED:20250710T194842Z
LAST-MODIFIED:20250823T104154Z
UID:10023341-1756233000-1756240200@gslcwi.com
SUMMARY:Boy Scouts
DESCRIPTION:Amy Byrnes – Scout Master ajmbyrnes@yahoo.com\nMatt Watrud – Scout Master watrud@uwalumni.com
URL:https://gslcwi.com/event/boy-scouts-247/
LOCATION:Verona Fellowship Hall
END:VEVENT
BEGIN:VEVENT
DTSTART;TZID=America/Chicago:20250826T163000
DTEND;TZID=America/Chicago:20250826T180000
DTSTAMP:20260420T213001
CREATED:20250710T194842Z
LAST-MODIFIED:20250823T104154Z
UID:10023340-1756225800-1756231200@gslcwi.com
SUMMARY:Little Blessings Kickoff Dinner
DESCRIPTION:Heidi
URL:https://gslcwi.com/event/little-blessings-kickoff-dinner/
LOCATION:Madison Parking Lot
END:VEVENT
BEGIN:VEVENT
DTSTART;TZID=America/Chicago:20250826T150000
DTEND;TZID=America/Chicago:20250827T090000
DTSTAMP:20260420T213001
CREATED:20250710T194842Z
LAST-MODIFIED:20250823T104015Z
UID:10023339-1756220400-1756285200@gslcwi.com
SUMMARY:Messenger
DESCRIPTION:Judy Hoard
URL:https://gslcwi.com/event/messenger-30/
LOCATION:Madison Good Shepherd Room
END:VEVENT
BEGIN:VEVENT
DTSTART;TZID=America/Chicago:20250826T103000
DTEND;TZID=America/Chicago:20250826T140000
DTSTAMP:20260420T213001
CREATED:20250710T193522Z
LAST-MODIFIED:20250823T104014Z
UID:10023337-1756204200-1756216800@gslcwi.com
SUMMARY:NewBridge Senior Meals
DESCRIPTION:Deenah Givens deenahg@newbridgemadison.org\nJim Krueger jimk@newbridgemadison.org
URL:https://gslcwi.com/event/newbridge-senior-meals-25/
LOCATION:Madison Peterson Hall; Madison Lobby
END:VEVENT
BEGIN:VEVENT
DTSTART;TZID=America/Chicago:20250826T090000
DTEND;TZID=America/Chicago:20250826T130000
DTSTAMP:20260420T213001
CREATED:20250710T193522Z
LAST-MODIFIED:20250823T104014Z
UID:10023338-1756198800-1756213200@gslcwi.com
SUMMARY:Foot Clinic
DESCRIPTION:Brent / Cheryl Franz 608-598-0494
URL:https://gslcwi.com/event/foot-clinic-54/
LOCATION:Madison Room 6; outreach@gslcwi.com
END:VEVENT
BEGIN:VEVENT
DTSTART;TZID=America/Chicago:20250826T090000
DTEND;TZID=America/Chicago:20250826T110000
DTSTAMP:20260420T213001
CREATED:20230320T152255Z
LAST-MODIFIED:20230921T134352Z
UID:10014604-1756198800-1756206000@gslcwi.com
SUMMARY:Tuesday Trekkers
DESCRIPTION:Join other GS folks for an hour-long hike\, Tuesdays at 9am.  Meets at different locations around the area\, enjoying fresh air and fellowship.
URL:https://gslcwi.com/event/tuesday-trekkers-8/2025-08-26/
LOCATION:Offsite
CATEGORIES:Adult Education,Fellowship,Sports
ATTACH;FMTTYPE=image/jpeg:https://gslcwi.com/wp-content/uploads/2023/03/trekers720.jpg
ORGANIZER;CN="Diane Hughes":MAILTO:dhhands@sbcglobal.net
END:VEVENT
BEGIN:VEVENT
DTSTART;TZID=America/Chicago:20250825T183000
DTEND;TZID=America/Chicago:20250825T193000
DTSTAMP:20260420T213001
CREATED:20250822T102808Z
LAST-MODIFIED:20250823T104014Z
UID:10023539-1756146600-1756150200@gslcwi.com
SUMMARY:LBPS committee meeting
DESCRIPTION:________________________________________________________________________________\nMicrosoft Teams Need help?\nJoin the meeting now\nMeeting ID: 210 387 209 715 7\nPasscode: T6SZ7LA9\n________________________________\nFor organizers: Meeting options\n________________________________________________________________________________
URL:https://gslcwi.com/event/lbps-committee-meeting/
LOCATION:Madison Good Shepherd Room
END:VEVENT
BEGIN:VEVENT
DTSTART;TZID=America/Chicago:20250825T173000
DTEND;TZID=America/Chicago:20250825T183000
DTSTAMP:20260420T213001
CREATED:20250822T102808Z
LAST-MODIFIED:20250823T102509Z
UID:10023538-1756143000-1756146600@gslcwi.com
SUMMARY:Facilities Task Force Meeting
DESCRIPTION:________________________________________________________________________________\nMicrosoft Teams Need help?\nJoin the meeting now\nMeeting ID: 257 389 532 742 5\nPasscode: EV9tK38h\n________________________________\nFor organizers: Meeting options\n________________________________________________________________________________
URL:https://gslcwi.com/event/facilities-task-force-meeting/
LOCATION:Madison Good Shepherd Room
END:VEVENT
BEGIN:VEVENT
DTSTART;TZID=America/Chicago:20250825T170000
DTEND;TZID=America/Chicago:20250825T190000
DTSTAMP:20260420T213001
CREATED:20250710T193522Z
LAST-MODIFIED:20250823T104014Z
UID:10023336-1756141200-1756148400@gslcwi.com
SUMMARY:Music Monday
DESCRIPTION:Jared Stellmacher/Rick Thomas
URL:https://gslcwi.com/event/music-monday-17/
LOCATION:Food Cart Event
END:VEVENT
BEGIN:VEVENT
DTSTART;TZID=America/Chicago:20250825T170000
DTEND;TZID=America/Chicago:20250825T190000
DTSTAMP:20260420T213001
CREATED:20250417T185114Z
LAST-MODIFIED:20250602T181238Z
UID:10022766-1756141200-1756148400@gslcwi.com
SUMMARY:Music Monday
DESCRIPTION:August 25 – SunDance\nSunDance is a local band featuring Jeff Addison\, Casey Day & Greg Matysik that does a variety of music from groups including Crosby Stills Nash and Young\, America\, The Beatles\, The Eagles\, The Byrds\, Simon and Garfunkel\, Cat Stevens\, Tom Petty\, Johnny Cash and many others.\nJoin us this summer as we bring the joy of music\, good food\, and community beyond our walls and into the streets! Each Music Monday will feature a different band\, food and a local not-for-profit partner. Proceeds will support that week’s featured organization. All are welcome—bring a lawn chair and a friend!
URL:https://gslcwi.com/event/music-monday-11-8/
LOCATION:Madison Campus\, 5701 Raymond Rd\, Madison\, WI\, 53711\, United States
CATEGORIES:Holy COW,Music Monday
ATTACH;FMTTYPE=image/jpeg:https://gslcwi.com/wp-content/uploads/2025/04/SunDance-2025.jpg
END:VEVENT
BEGIN:VEVENT
DTSTART;TZID=America/Chicago:20250825T160000
DTEND;TZID=America/Chicago:20250825T173000
DTSTAMP:20260420T213001
CREATED:20220923T135855Z
LAST-MODIFIED:20230913T194729Z
UID:10015575-1756137600-1756143000@gslcwi.com
SUMMARY:Literacy Network
DESCRIPTION:
URL:https://gslcwi.com/event/literacy-network-40/2025-08-25/
LOCATION:Madison Room 11/The Sheep Fold; Madison Room 9
CATEGORIES:Community Event
END:VEVENT
BEGIN:VEVENT
DTSTART;TZID=America/Chicago:20250825T140000
DTEND;TZID=America/Chicago:20250825T153000
DTSTAMP:20260420T213001
CREATED:20250710T193521Z
LAST-MODIFIED:20250822T101603Z
UID:10023334-1756130400-1756135800@gslcwi.com
SUMMARY:Columbarium Committee Meeting
DESCRIPTION:
URL:https://gslcwi.com/event/columbarium-committee-meeting/
END:VEVENT
BEGIN:VEVENT
DTSTART;TZID=America/Chicago:20250825T140000
DTEND;TZID=America/Chicago:20250825T150000
DTSTAMP:20260420T213001
CREATED:20250807T164638Z
LAST-MODIFIED:20250823T102509Z
UID:10023466-1756130400-1756134000@gslcwi.com
SUMMARY:Columbarium Board Meeting
DESCRIPTION:________________________________________________________________________________\nMicrosoft Teams Need help?\nJoin the meeting now\nMeeting ID: 223 471 891 427 3\nPasscode: uM9yY7Nv\n________________________________\nFor organizers: Meeting options\n________________________________________________________________________________
URL:https://gslcwi.com/event/columbarium-board-meeting/
LOCATION:Verona Library
END:VEVENT
BEGIN:VEVENT
DTSTART;TZID=America/Chicago:20250825T123000
DTEND;TZID=America/Chicago:20250825T153000
DTSTAMP:20260420T213001
CREATED:20250710T193521Z
LAST-MODIFIED:20250823T102509Z
UID:10023335-1756125000-1756135800@gslcwi.com
SUMMARY:Card Ministry
DESCRIPTION:Ruth P <ruthepaulson@gmail.com>
URL:https://gslcwi.com/event/card-ministry-39/
LOCATION:Madison Good Shepherd Room
END:VEVENT
BEGIN:VEVENT
DTSTART;TZID=America/Chicago:20250825T100000
DTEND;TZID=America/Chicago:20250825T120000
DTSTAMP:20260420T213001
CREATED:20250724T181213Z
LAST-MODIFIED:20250823T102508Z
UID:10023399-1756116000-1756123200@gslcwi.com
SUMMARY:Quilters
DESCRIPTION:Brent / Donna Hintze<teddyb55@icloud.com
URL:https://gslcwi.com/event/quilters-143/
LOCATION:Verona Fellowship Hall
END:VEVENT
BEGIN:VEVENT
DTSTART;TZID=America/Chicago:20250824T180000
DTEND;TZID=America/Chicago:20250824T190000
DTSTAMP:20260420T213001
CREATED:20250717T184920Z
LAST-MODIFIED:20250823T102508Z
UID:10023369-1756058400-1756062000@gslcwi.com
SUMMARY:6:00 Worship Service
DESCRIPTION:________________________________________________________________________________\nMicrosoft Teams Need help?\nJoin the meeting now\nMeeting ID: 242 838 998 615 7\nPasscode: 9VG9JP66\n________________________________\nFor organizers: Meeting options\n________________________________________________________________________________
URL:https://gslcwi.com/event/600-worship-service-32/
LOCATION:Verona Lobby; Verona Sanctuary
END:VEVENT
BEGIN:VEVENT
DTSTART;TZID=America/Chicago:20250824T180000
DTEND;TZID=America/Chicago:20250824T190000
DTSTAMP:20260420T213001
CREATED:20240925T155628Z
LAST-MODIFIED:20240925T155628Z
UID:10021172-1756058400-1756062000@gslcwi.com
SUMMARY:6:00 p.m. Worship Service
DESCRIPTION:A worship service with evening rhythms for song\, prayer\, and reflection rooted in ancient practices and present day cares & concerns.
URL:https://gslcwi.com/event/600-p-m-worship-service/2025-08-24/
LOCATION:Good Shepherd Verona Campus\, 7291 County Road PD\, Verona\, WI\, 53593\, United States
CATEGORIES:Worship
ATTACH;FMTTYPE=image/jpeg:https://gslcwi.com/wp-content/uploads/2024/09/6pmw2-1.jpg
ORGANIZER;CN="Jared Stellmacher":MAILTO:jstellmacher@gslcwi.com
END:VEVENT
END:VCALENDAR