BEGIN:VCALENDAR
VERSION:2.0
PRODID:-//Good Shepherd Lutheran Church - ECPv6.15.20//NONSGML v1.0//EN
CALSCALE:GREGORIAN
METHOD:PUBLISH
X-WR-CALNAME:Good Shepherd Lutheran Church
X-ORIGINAL-URL:https://gslcwi.com
X-WR-CALDESC:Events for Good Shepherd Lutheran Church
REFRESH-INTERVAL;VALUE=DURATION:PT1H
X-Robots-Tag:noindex
X-PUBLISHED-TTL:PT1H
BEGIN:VTIMEZONE
TZID:America/Chicago
BEGIN:DAYLIGHT
TZOFFSETFROM:-0600
TZOFFSETTO:-0500
TZNAME:CDT
DTSTART:20210314T080000
END:DAYLIGHT
BEGIN:STANDARD
TZOFFSETFROM:-0500
TZOFFSETTO:-0600
TZNAME:CST
DTSTART:20211107T070000
END:STANDARD
BEGIN:DAYLIGHT
TZOFFSETFROM:-0600
TZOFFSETTO:-0500
TZNAME:CDT
DTSTART:20220313T080000
END:DAYLIGHT
BEGIN:STANDARD
TZOFFSETFROM:-0500
TZOFFSETTO:-0600
TZNAME:CST
DTSTART:20221106T070000
END:STANDARD
BEGIN:DAYLIGHT
TZOFFSETFROM:-0600
TZOFFSETTO:-0500
TZNAME:CDT
DTSTART:20230312T080000
END:DAYLIGHT
BEGIN:STANDARD
TZOFFSETFROM:-0500
TZOFFSETTO:-0600
TZNAME:CST
DTSTART:20231105T070000
END:STANDARD
END:VTIMEZONE
BEGIN:VEVENT
DTSTART;TZID=America/Chicago:20220413T180000
DTEND;TZID=America/Chicago:20220413T200000
DTSTAMP:20260421T150144
CREATED:20211213T140942Z
LAST-MODIFIED:20211213T140942Z
UID:10008271-1649872800-1649880000@gslcwi.com
SUMMARY:Bell and Vocal Choir
DESCRIPTION:Making music is a great way to connect with others\, and there’s plenty of fellowship before and after! Bell choir rehearses at 6 p.m. at Madison and vocal Choir at 7 p.m. All are welcome anytime. Contact Jared Stellmacher for more info!
URL:https://gslcwi.com/event/bell-and-vocal-choir/2022-04-13/
LOCATION:Madison Campus\, 5701 Raymond Rd\, Madison\, WI\, 53711\, United States
CATEGORIES:Adult Education,Community Event,Music
ATTACH;FMTTYPE=image/jpeg:https://gslcwi.com/wp-content/uploads/2021/12/IMG_0101.jpg
ORGANIZER;CN="Jared Stellmacher":MAILTO:jstellmacher@gslcwi.com
END:VEVENT
BEGIN:VEVENT
DTSTART;TZID=America/Chicago:20220413T181500
DTEND;TZID=America/Chicago:20220413T200000
DTSTAMP:20260421T150144
CREATED:20220322T172631Z
LAST-MODIFIED:20220322T172631Z
UID:10008804-1649873700-1649880000@gslcwi.com
SUMMARY:Amped
DESCRIPTION:
URL:https://gslcwi.com/event/amped-54/2022-04-13/
LOCATION:Verona Coffee Bar; Verona Conference Room; Verona Fellowship Hall; Verona Gym; Verona Kitchen; Verona Library; Verona Lobby; Verona Room 5; Verona Room 6; Verona Room 7; Verona Sanctuary; Verona Youth Room
CATEGORIES:AMPED Confirmation,Middle School
ORGANIZER;CN="Becca Feldhacker":MAILTO:bmortensen@gslcwi.com
END:VEVENT
BEGIN:VEVENT
DTSTART;TZID=America/Chicago:20220413T201500
DTEND;TZID=America/Chicago:20220413T213000
DTSTAMP:20260421T150144
CREATED:20220406T181627Z
LAST-MODIFIED:20220406T181627Z
UID:10008794-1649880900-1649885400@gslcwi.com
SUMMARY:Youth Group
DESCRIPTION:For any and all high schoolers to come be together with a positive and supportive community\, have some fun\, and remember who we areas loved children of the Almighty.
URL:https://gslcwi.com/event/youth-group-24/
LOCATION:Verona Youth Room; Verona Sanctuary; Verona Gym
CATEGORIES:High School
ORGANIZER;CN="Becca Feldhacker":MAILTO:bmortensen@gslcwi.com
END:VEVENT
BEGIN:VEVENT
DTSTART;TZID=America/Chicago:20220414T120000
DTEND;TZID=America/Chicago:20220414T130000
DTSTAMP:20260421T150144
CREATED:20220414T185952Z
LAST-MODIFIED:20220414T190218Z
UID:10008817-1649937600-1649941200@gslcwi.com
SUMMARY:Maundy Thursday Worship
DESCRIPTION:
URL:https://gslcwi.com/event/maundy-thursday-worship/
LOCATION:Good Shepherd Verona Campus\, 7291 County Road PD\, Verona\, WI\, 53593\, United States
CATEGORIES:Worship
END:VEVENT
BEGIN:VEVENT
DTSTART;TZID=America/Chicago:20220414T190000
DTEND;TZID=America/Chicago:20220414T200000
DTSTAMP:20260421T150144
CREATED:20220414T190500Z
LAST-MODIFIED:20220414T191010Z
UID:10008813-1649962800-1649966400@gslcwi.com
SUMMARY:Maundy Thursday Worship- Verona
DESCRIPTION:
URL:https://gslcwi.com/event/verona-maundy-thursday-worship/
LOCATION:Verona Campus\, 7291 County Rd PD\, Verona\, WI\, 53593\, United States
CATEGORIES:Worship
END:VEVENT
BEGIN:VEVENT
DTSTART;TZID=America/Chicago:20220414T190000
DTEND;TZID=America/Chicago:20220414T200000
DTSTAMP:20260421T150144
CREATED:20220414T190853Z
LAST-MODIFIED:20220414T190925Z
UID:10008820-1649962800-1649966400@gslcwi.com
SUMMARY:Maundy Thursday Worship-Madison
DESCRIPTION:
URL:https://gslcwi.com/event/maundy-thursday-worship-madison/
LOCATION:Good Shepherd Verona Campus\, 7291 County Road PD\, Verona\, WI\, 53593\, United States
CATEGORIES:Worship
END:VEVENT
BEGIN:VEVENT
DTSTART;TZID=America/Chicago:20220415T120000
DTEND;TZID=America/Chicago:20220415T130000
DTSTAMP:20260421T150144
CREATED:20220414T190626Z
LAST-MODIFIED:20220414T191313Z
UID:10008818-1650024000-1650027600@gslcwi.com
SUMMARY:Good Friday Worship
DESCRIPTION:On Good Friday\, we remember the sacrifice Jesus made for us in a worship of prayer and reflection on the cross.
URL:https://gslcwi.com/event/good-friday-worship/
LOCATION:Good Shepherd Verona Campus\, 7291 County Road PD\, Verona\, WI\, 53593\, United States
CATEGORIES:Worship
END:VEVENT
BEGIN:VEVENT
DTSTART;TZID=America/Chicago:20220415T190000
DTEND;TZID=America/Chicago:20220415T200000
DTSTAMP:20260421T150144
CREATED:20220414T190718Z
LAST-MODIFIED:20220414T190804Z
UID:10008819-1650049200-1650052800@gslcwi.com
SUMMARY:Good Friday Worship- Verona
DESCRIPTION:
URL:https://gslcwi.com/event/verona-good-friday-worship/
CATEGORIES:Worship
END:VEVENT
BEGIN:VEVENT
DTSTART;TZID=America/Chicago:20220415T190000
DTEND;TZID=America/Chicago:20220415T200000
DTSTAMP:20260421T150144
CREATED:20220414T191153Z
LAST-MODIFIED:20220414T191153Z
UID:10008823-1650049200-1650052800@gslcwi.com
SUMMARY:Good Friday Worship- Madison
DESCRIPTION:
URL:https://gslcwi.com/event/good-friday-worship-madison/
LOCATION:Good Shepherd Verona Campus\, 7291 County Road PD\, Verona\, WI\, 53593\, United States
CATEGORIES:Worship
END:VEVENT
BEGIN:VEVENT
DTSTART;TZID=America/Chicago:20220416T090000
DTEND;TZID=America/Chicago:20220416T120000
DTSTAMP:20260421T150144
CREATED:20220414T191637Z
LAST-MODIFIED:20220414T191652Z
UID:10008824-1650099600-1650110400@gslcwi.com
SUMMARY:Church Outdoor Clean-up
DESCRIPTION:Volunteers can help clean-up our outdoor spaces around our Verona and Madison church buildings\, as we get ready for Easter and warmer temperatures to come.
URL:https://gslcwi.com/event/church-outdoor-clean-up-workday/
LOCATION:Good Shepherd Verona Campus\, 7291 County Road PD\, Verona\, WI\, 53593\, United States
CATEGORIES:Service
END:VEVENT
BEGIN:VEVENT
DTSTART;TZID=America/Chicago:20220417T070000
DTEND;TZID=America/Chicago:20220417T080000
DTSTAMP:20260421T150144
CREATED:20220414T191908Z
LAST-MODIFIED:20220414T193326Z
UID:10008825-1650178800-1650182400@gslcwi.com
SUMMARY:Sunrise Easter Worship
DESCRIPTION:Christ is risen\, alleluia!  Join us for 7:00am Sunrise Easter service outdoors under our Verona Campus tent (weather permitting)
URL:https://gslcwi.com/event/sunrise-easter-worship/
LOCATION:Verona Campus\, 7291 County Rd PD\, Verona\, WI\, 53593\, United States
CATEGORIES:Worship
END:VEVENT
BEGIN:VEVENT
DTSTART;TZID=America/Chicago:20220417T090000
DTEND;TZID=America/Chicago:20220417T100000
DTSTAMP:20260421T150145
CREATED:20220414T192100Z
LAST-MODIFIED:20220414T192100Z
UID:10008822-1650186000-1650189600@gslcwi.com
SUMMARY:Easter Worship- Verona
DESCRIPTION:Join us as we celebrate Christ’s resurrection on Easter!
URL:https://gslcwi.com/event/easter-worship-verona/
LOCATION:Verona Campus\, 7291 County Rd PD\, Verona\, WI\, 53593\, United States
CATEGORIES:Worship
END:VEVENT
BEGIN:VEVENT
DTSTART;TZID=America/Chicago:20220417T090000
DTEND;TZID=America/Chicago:20220417T100000
DTSTAMP:20260421T150145
CREATED:20220414T192448Z
LAST-MODIFIED:20220414T192448Z
UID:10008821-1650186000-1650189600@gslcwi.com
SUMMARY:Easter Worship- Madison
DESCRIPTION:Come celebrate Christ’s resurrection with us on Easter Sunday!
URL:https://gslcwi.com/event/easter-worship-madison/
LOCATION:Good Shepherd Verona Campus\, 7291 County Road PD\, Verona\, WI\, 53593\, United States
CATEGORIES:Worship
END:VEVENT
BEGIN:VEVENT
DTSTART;TZID=America/Chicago:20220417T090000
DTEND;TZID=America/Chicago:20220417T100000
DTSTAMP:20260421T150145
CREATED:20220419T140240Z
LAST-MODIFIED:20220419T140240Z
UID:10008838-1650186000-1650189600@gslcwi.com
SUMMARY:9:00 A.M. Worship Service
DESCRIPTION:
URL:https://gslcwi.com/event/900-a-m-worship-service-3/
LOCATION:Madison Sanctuary
END:VEVENT
BEGIN:VEVENT
DTSTART;TZID=America/Chicago:20220417T103000
DTEND;TZID=America/Chicago:20220417T113000
DTSTAMP:20260421T150145
CREATED:20220414T192255Z
LAST-MODIFIED:20220414T192255Z
UID:10008826-1650191400-1650195000@gslcwi.com
SUMMARY:Easter Worship- Verona
DESCRIPTION:Come join us as we celebrate Christ’s resurrection on Easter!
URL:https://gslcwi.com/event/easter-worship-verona-2/
LOCATION:Verona Campus\, 7291 County Rd PD\, Verona\, WI\, 53593\, United States
CATEGORIES:Worship
END:VEVENT
BEGIN:VEVENT
DTSTART;TZID=America/Chicago:20220417T103000
DTEND;TZID=America/Chicago:20220417T113000
DTSTAMP:20260421T150145
CREATED:20220414T193246Z
LAST-MODIFIED:20220414T193246Z
UID:10008827-1650191400-1650195000@gslcwi.com
SUMMARY:Easter Worship- Madison
DESCRIPTION:Come celebrate Christ’s resurrection with us on Easter Sunday!
URL:https://gslcwi.com/event/easter-worship-madison-2/
LOCATION:Verona Campus\, 7291 County Rd PD\, Verona\, WI\, 53593\, United States
CATEGORIES:Worship
END:VEVENT
BEGIN:VEVENT
DTSTART;TZID=America/Chicago:20220417T103000
DTEND;TZID=America/Chicago:20220417T113000
DTSTAMP:20260421T150145
CREATED:20220419T140241Z
LAST-MODIFIED:20220419T140241Z
UID:10008839-1650191400-1650195000@gslcwi.com
SUMMARY:10:30 Worship Service
DESCRIPTION:
URL:https://gslcwi.com/event/1030-worship-service-3/
LOCATION:Verona Sanctuary
END:VEVENT
BEGIN:VEVENT
DTSTART;TZID=America/Chicago:20220417T130000
DTEND;TZID=America/Chicago:20220417T150000
DTSTAMP:20260421T150145
CREATED:20220419T140242Z
LAST-MODIFIED:20220419T140242Z
UID:10008840-1650200400-1650207600@gslcwi.com
SUMMARY:Iglesia evangelica el remanente
DESCRIPTION:
URL:https://gslcwi.com/event/iglesia-evangelica-el-remanente-38/
LOCATION:Madison Peterson Hall
END:VEVENT
BEGIN:VEVENT
DTSTART;TZID=America/Chicago:20220417T130000
DTEND;TZID=America/Chicago:20220417T170000
DTSTAMP:20260421T150145
CREATED:20220419T140242Z
LAST-MODIFIED:20220419T140242Z
UID:10008841-1650200400-1650214800@gslcwi.com
SUMMARY:Pickleball
DESCRIPTION:
URL:https://gslcwi.com/event/pickleball-48/
LOCATION:Verona Gym
END:VEVENT
BEGIN:VEVENT
DTSTART;TZID=America/Chicago:20220417T180000
DTEND;TZID=America/Chicago:20220417T190000
DTSTAMP:20260421T150145
CREATED:20220419T140243Z
LAST-MODIFIED:20220419T140243Z
UID:10008843-1650218400-1650222000@gslcwi.com
SUMMARY:Verona 6:00 Worship
DESCRIPTION:
URL:https://gslcwi.com/event/verona-600-worship-26/
LOCATION:Verona Sanctuary
END:VEVENT
BEGIN:VEVENT
DTSTART;TZID=America/Chicago:20220418T090000
DTEND;TZID=America/Chicago:20220418T120000
DTSTAMP:20260421T150145
CREATED:20220419T140244Z
LAST-MODIFIED:20220419T140244Z
UID:10008846-1650272400-1650283200@gslcwi.com
SUMMARY:Quitlers
DESCRIPTION:
URL:https://gslcwi.com/event/quitlers-3/
LOCATION:Verona Fellowship Hall
END:VEVENT
BEGIN:VEVENT
DTSTART;TZID=America/Chicago:20220418T123000
DTEND;TZID=America/Chicago:20220418T150000
DTSTAMP:20260421T150145
CREATED:20220419T140244Z
LAST-MODIFIED:20220419T140244Z
UID:10008844-1650285000-1650294000@gslcwi.com
SUMMARY:Card Ministry
DESCRIPTION:
URL:https://gslcwi.com/event/card-ministry-8/
LOCATION:Madison Good Shepherd Room
END:VEVENT
BEGIN:VEVENT
DTSTART;TZID=America/Chicago:20220418T170000
DTEND;TZID=America/Chicago:20220418T180000
DTSTAMP:20260421T150145
CREATED:20220419T140246Z
LAST-MODIFIED:20220419T140246Z
UID:10008852-1650301200-1650304800@gslcwi.com
SUMMARY:Christianson Gym
DESCRIPTION:
URL:https://gslcwi.com/event/christianson-gym-5/
LOCATION:Verona Gym
END:VEVENT
BEGIN:VEVENT
DTSTART;TZID=America/Chicago:20220418T170000
DTEND;TZID=America/Chicago:20220418T200000
DTSTAMP:20260421T150145
CREATED:20220419T140245Z
LAST-MODIFIED:20220419T140245Z
UID:10008849-1650301200-1650312000@gslcwi.com
SUMMARY:Bd. Meeting and Dinner
DESCRIPTION:
URL:https://gslcwi.com/event/bd-meeting-and-dinner/
LOCATION:Verona Fellowship Hall
END:VEVENT
BEGIN:VEVENT
DTSTART;TZID=America/Chicago:20220418T190000
DTEND;TZID=America/Chicago:20220418T203000
DTSTAMP:20260421T150145
CREATED:20220419T140246Z
LAST-MODIFIED:20220419T140246Z
UID:10008854-1650308400-1650313800@gslcwi.com
SUMMARY:Adams Volleyball
DESCRIPTION:
URL:https://gslcwi.com/event/adams-volleyball-5/
LOCATION:Verona Gym
END:VEVENT
BEGIN:VEVENT
DTSTART;TZID=America/Chicago:20220419T093000
DTEND;TZID=America/Chicago:20220419T103000
DTSTAMP:20260421T150145
CREATED:20220419T140219Z
LAST-MODIFIED:20220419T141624Z
UID:10008828-1650360600-1650364200@gslcwi.com
SUMMARY:4K Music
DESCRIPTION:
URL:https://gslcwi.com/event/4k-music-7/
LOCATION:Verona Music Room
END:VEVENT
BEGIN:VEVENT
DTSTART;TZID=America/Chicago:20220419T163000
DTEND;TZID=America/Chicago:20220419T213000
DTSTAMP:20260421T150145
CREATED:20220419T140223Z
LAST-MODIFIED:20220419T141628Z
UID:10008834-1650385800-1650403800@gslcwi.com
SUMMARY:Beaton Volleyball
DESCRIPTION:
URL:https://gslcwi.com/event/beaton-volleyball-80/
LOCATION:Verona Gym
END:VEVENT
BEGIN:VEVENT
DTSTART;TZID=America/Chicago:20220419T180000
DTEND;TZID=America/Chicago:20220419T200000
DTSTAMP:20260421T150145
CREATED:20220419T140222Z
LAST-MODIFIED:20220419T141627Z
UID:10008833-1650391200-1650398400@gslcwi.com
SUMMARY:Amped
DESCRIPTION:
URL:https://gslcwi.com/event/amped-55/
LOCATION:Madison Kitchen; Madison Lobby; Madison Peterson Hall; Madison Room 7; Madison Room 8; Madison Room 9; Madison Room 11/The Sheep Fold; Madison Good Shepherd Room
END:VEVENT
BEGIN:VEVENT
DTSTART;TZID=America/Chicago:20220419T183000
DTEND;TZID=America/Chicago:20220419T200000
DTSTAMP:20260421T150145
CREATED:20220419T140221Z
LAST-MODIFIED:20220419T141626Z
UID:10008832-1650393000-1650398400@gslcwi.com
SUMMARY:Worship and Music Arts CMTE
DESCRIPTION:
URL:https://gslcwi.com/event/worship-and-music-arts-cmte-4/
LOCATION:Madison Sanctuary
END:VEVENT
BEGIN:VEVENT
DTSTART;TZID=America/Chicago:20220419T190000
DTEND;TZID=America/Chicago:20220419T193000
DTSTAMP:20260421T150145
CREATED:20211205T222926Z
LAST-MODIFIED:20211205T222926Z
UID:10008081-1650394800-1650396600@gslcwi.com
SUMMARY:Zooming in Prayer
DESCRIPTION:Join Donna and others at 7 p.m. on Tuesdays for 30 minutes on Zoom of praying for the world\, our community\, our congregation and each other. Contact Donna Maysack for more information.
URL:https://gslcwi.com/event/zooming-in-prayer/2022-04-19/
CATEGORIES:Adult Education,Fellowship,Worship
END:VEVENT
END:VCALENDAR