BEGIN:VCALENDAR
VERSION:2.0
PRODID:-//Good Shepherd Lutheran Church - ECPv6.15.20//NONSGML v1.0//EN
CALSCALE:GREGORIAN
METHOD:PUBLISH
X-WR-CALNAME:Good Shepherd Lutheran Church
X-ORIGINAL-URL:https://gslcwi.com
X-WR-CALDESC:Events for Good Shepherd Lutheran Church
REFRESH-INTERVAL;VALUE=DURATION:PT1H
X-Robots-Tag:noindex
X-PUBLISHED-TTL:PT1H
BEGIN:VTIMEZONE
TZID:America/Chicago
BEGIN:DAYLIGHT
TZOFFSETFROM:-0600
TZOFFSETTO:-0500
TZNAME:CDT
DTSTART:20220313T080000
END:DAYLIGHT
BEGIN:STANDARD
TZOFFSETFROM:-0500
TZOFFSETTO:-0600
TZNAME:CST
DTSTART:20221106T070000
END:STANDARD
BEGIN:DAYLIGHT
TZOFFSETFROM:-0600
TZOFFSETTO:-0500
TZNAME:CDT
DTSTART:20230312T080000
END:DAYLIGHT
BEGIN:STANDARD
TZOFFSETFROM:-0500
TZOFFSETTO:-0600
TZNAME:CST
DTSTART:20231105T070000
END:STANDARD
BEGIN:DAYLIGHT
TZOFFSETFROM:-0600
TZOFFSETTO:-0500
TZNAME:CDT
DTSTART:20240310T080000
END:DAYLIGHT
BEGIN:STANDARD
TZOFFSETFROM:-0500
TZOFFSETTO:-0600
TZNAME:CST
DTSTART:20241103T070000
END:STANDARD
END:VTIMEZONE
BEGIN:VEVENT
DTSTART;TZID=America/Chicago:20231031T083000
DTEND;TZID=America/Chicago:20231031T093000
DTSTAMP:20260420T030403
CREATED:20230823T184631Z
LAST-MODIFIED:20230913T200714Z
UID:10015420-1698741000-1698744600@gslcwi.com
SUMMARY:Birth through 3 Playgroup
DESCRIPTION:Connect at Playgroup starting Tuesday\, September 5\, from 8:30-9:30 a.m. at the Verona Campus gym. Caregivers with children ages 0-3 are invited to join us for playgroup on Tuesday mornings from 8:30-9:30 am. Enjoy group story time\, rhymes\, songs and time for caregivers and babies to socialize! We will meet weekly from September through May. Contact Emily Gold with any questions.
URL:https://gslcwi.com/event/birth-through-3-playgroup/2023-10-31/
LOCATION:Verona Gym
CATEGORIES:Children's Ministry,Fellowship,Verona Gym
ATTACH;FMTTYPE=image/png:https://gslcwi.com/wp-content/uploads/2023/08/playgroup.png
ORGANIZER;CN="Emily Gold":MAILTO:egold@gslcwi.com
END:VEVENT
BEGIN:VEVENT
DTSTART;TZID=America/Chicago:20231031T090000
DTEND;TZID=America/Chicago:20231031T110000
DTSTAMP:20260420T030403
CREATED:20230320T152255Z
LAST-MODIFIED:20230921T134352Z
UID:10013336-1698742800-1698750000@gslcwi.com
SUMMARY:Tuesday Trekkers
DESCRIPTION:Join other GS folks for an hour-long hike\, Tuesdays at 9am.  Meets at different locations around the area\, enjoying fresh air and fellowship.
URL:https://gslcwi.com/event/tuesday-trekkers-8/2023-10-31/
LOCATION:Offsite
CATEGORIES:Adult Education,Fellowship,Sports
ATTACH;FMTTYPE=image/jpeg:https://gslcwi.com/wp-content/uploads/2023/03/trekers720.jpg
ORGANIZER;CN="Diane Hughes":MAILTO:dhhands@sbcglobal.net
END:VEVENT
BEGIN:VEVENT
DTSTART;TZID=America/Chicago:20231031T150000
DTEND;TZID=America/Chicago:20231031T170000
DTSTAMP:20260420T030403
CREATED:20231005T054034Z
LAST-MODIFIED:20231019T034747Z
UID:10017035-1698764400-1698771600@gslcwi.com
SUMMARY:Pickleball
DESCRIPTION:
URL:https://gslcwi.com/event/pickleball-212/
LOCATION:Verona Gym
CATEGORIES:Sports,Verona Gym
END:VEVENT
BEGIN:VEVENT
DTSTART;TZID=America/Chicago:20231031T150000
DTEND;TZID=America/Chicago:20231031T180000
DTSTAMP:20260420T030403
CREATED:20231026T020742Z
LAST-MODIFIED:20231026T020742Z
UID:10017168-1698764400-1698775200@gslcwi.com
SUMMARY:Pickleball
DESCRIPTION:Brent / Phyllis pwiederhoeft@gmail.com
URL:https://gslcwi.com/event/pickleball-218/
LOCATION:Verona Gym
END:VEVENT
BEGIN:VEVENT
DTSTART;TZID=America/Chicago:20231031T183000
DTEND;TZID=America/Chicago:20231031T203000
DTSTAMP:20260420T030403
CREATED:20231005T054350Z
LAST-MODIFIED:20231026T020743Z
UID:10017038-1698777000-1698784200@gslcwi.com
SUMMARY:Stephen Ministry
DESCRIPTION:
URL:https://gslcwi.com/event/stephen-ministry-34/
LOCATION:Verona Family Lounge
CATEGORIES:Fellowship,Service
ATTACH;FMTTYPE=image/jpeg:https://gslcwi.com/wp-content/uploads/2019/02/stephen.jpg
END:VEVENT
BEGIN:VEVENT
DTSTART;TZID=America/Chicago:20231031T183000
DTEND;TZID=America/Chicago:20231031T210000
DTSTAMP:20260420T030403
CREATED:20231005T054034Z
LAST-MODIFIED:20231026T021100Z
UID:10017036-1698777000-1698786000@gslcwi.com
SUMMARY:Boy Scouts
DESCRIPTION:
URL:https://gslcwi.com/event/boy-scouts-136/
LOCATION:Verona Fellowship Hall
CATEGORIES:External Group
END:VEVENT
BEGIN:VEVENT
DTSTART;TZID=America/Chicago:20231031T190000
DTEND;TZID=America/Chicago:20231031T200000
DTSTAMP:20260420T030403
CREATED:20230921T142540Z
LAST-MODIFIED:20230921T152532Z
UID:10016641-1698778800-1698782400@gslcwi.com
SUMMARY:Wine and Word Women's Study
DESCRIPTION:
URL:https://gslcwi.com/event/wine-and-word-womens-study/2023-10-31/
LOCATION:RP Adler’s\, 8202 Watts Rd\, Madison\, WI\, 53711\, United States
CATEGORIES:Bible Study,Women's Ministry
ORGANIZER;CN="Liz Deterding":MAILTO:elizabeth.deterding@gmail.com
END:VEVENT
BEGIN:VEVENT
DTSTART;TZID=America/Chicago:20231031T190000
DTEND;TZID=America/Chicago:20231031T210000
DTSTAMP:20260420T030403
CREATED:20231005T054349Z
LAST-MODIFIED:20231026T021059Z
UID:10017037-1698778800-1698786000@gslcwi.com
SUMMARY:AA Meeting
DESCRIPTION:
URL:https://gslcwi.com/event/aa-meeting-86/
LOCATION:Verona Room 6
CATEGORIES:External Group
END:VEVENT
BEGIN:VEVENT
DTSTART;TZID=America/Chicago:20231101T070000
DTEND;TZID=America/Chicago:20231101T080000
DTSTAMP:20260420T030403
CREATED:20230228T160601Z
LAST-MODIFIED:20230921T134643Z
UID:10012547-1698822000-1698825600@gslcwi.com
SUMMARY:Wednesday Morning Men's Bible Study
DESCRIPTION:A Weekly Men’s Bible Study that gathers on Zoom.
URL:https://gslcwi.com/event/wednesday-morning-mens-bible-study/2023-11-01/
CATEGORIES:Adult Education,Bible Study,Men's Ministry
ATTACH;FMTTYPE=image/jpeg:https://gslcwi.com/wp-content/uploads/2023/02/fa-barboza-NWoaoMgMiVY-unsplash.jpg
ORGANIZER;CN="Dean Nelson":MAILTO:deanwnelson@gmail.com
END:VEVENT
BEGIN:VEVENT
DTSTART;TZID=America/Chicago:20231101T083000
DTEND;TZID=America/Chicago:20231101T100000
DTSTAMP:20260420T030403
CREATED:20230320T152258Z
LAST-MODIFIED:20230419T205304Z
UID:10013128-1698827400-1698832800@gslcwi.com
SUMMARY:Pickleball
DESCRIPTION:
URL:https://gslcwi.com/event/pickleball-166/2023-11-01/
LOCATION:Verona Gym
CATEGORIES:Sports,Verona Gym
ATTACH;FMTTYPE=image/jpeg:https://gslcwi.com/wp-content/uploads/2023/02/pickleball2-1.jpg
END:VEVENT
BEGIN:VEVENT
DTSTART;TZID=America/Chicago:20231101T090000
DTEND;TZID=America/Chicago:20231101T100000
DTSTAMP:20260420T030403
CREATED:20231005T055808Z
LAST-MODIFIED:20231026T022255Z
UID:10017042-1698829200-1698832800@gslcwi.com
SUMMARY:Holy Yoga
DESCRIPTION:
URL:https://gslcwi.com/event/holy-yoga-86/
LOCATION:Verona Sanctuary
CATEGORIES:Fellowship,Sports
END:VEVENT
BEGIN:VEVENT
DTSTART;TZID=America/Chicago:20231101T090000
DTEND;TZID=America/Chicago:20231101T120000
DTSTAMP:20260420T030403
CREATED:20231012T045707Z
LAST-MODIFIED:20231026T022256Z
UID:10017076-1698829200-1698840000@gslcwi.com
SUMMARY:Quilters
DESCRIPTION:
URL:https://gslcwi.com/event/quilters-86/
LOCATION:Verona Fellowship Hall
CATEGORIES:Fellowship,Service
ATTACH;FMTTYPE=image/jpeg:https://gslcwi.com/wp-content/uploads/2023/04/quilters.jpg
END:VEVENT
BEGIN:VEVENT
DTSTART;TZID=America/Chicago:20231101T100000
DTEND;TZID=America/Chicago:20231101T113000
DTSTAMP:20260420T030403
CREATED:20231005T054351Z
LAST-MODIFIED:20231026T021101Z
UID:10017041-1698832800-1698838200@gslcwi.com
SUMMARY:All Staff
DESCRIPTION:
URL:https://gslcwi.com/event/all-staff-12/
LOCATION:Madison Good Shepherd Room
CATEGORIES:Meetings
END:VEVENT
BEGIN:VEVENT
DTSTART;TZID=America/Chicago:20231101T100000
DTEND;TZID=America/Chicago:20231101T120000
DTSTAMP:20260420T030403
CREATED:20231005T054350Z
LAST-MODIFIED:20231026T021100Z
UID:10017039-1698832800-1698840000@gslcwi.com
SUMMARY:Mom's Club
DESCRIPTION:
URL:https://gslcwi.com/event/moms-club-19/
LOCATION:Madison Peterson Hall
CATEGORIES:Fellowship
END:VEVENT
BEGIN:VEVENT
DTSTART;TZID=America/Chicago:20231101T120000
DTEND;TZID=America/Chicago:20231101T130000
DTSTAMP:20260420T030403
CREATED:20231005T055808Z
LAST-MODIFIED:20231026T022255Z
UID:10017043-1698840000-1698843600@gslcwi.com
SUMMARY:Bible Study Group
DESCRIPTION:
URL:https://gslcwi.com/event/bible-study-group-7/
LOCATION:Madison Good Shepherd Room
CATEGORIES:Bible Study
END:VEVENT
BEGIN:VEVENT
DTSTART;TZID=America/Chicago:20231101T160000
DTEND;TZID=America/Chicago:20231101T180000
DTSTAMP:20260420T030403
CREATED:20231005T055809Z
LAST-MODIFIED:20231026T022256Z
UID:10017045-1698854400-1698861600@gslcwi.com
SUMMARY:Literacy Network
DESCRIPTION:
URL:https://gslcwi.com/event/literacy-network-150/
LOCATION:Madison Good Shepherd Room
CATEGORIES:Adult Education
END:VEVENT
BEGIN:VEVENT
DTSTART;TZID=America/Chicago:20231101T180000
DTEND;TZID=America/Chicago:20231101T190000
DTSTAMP:20260420T030403
CREATED:20231005T055809Z
LAST-MODIFIED:20231026T022605Z
UID:10017044-1698861600-1698865200@gslcwi.com
SUMMARY:Handbell Rehearsal
DESCRIPTION:
URL:https://gslcwi.com/event/handbell-rehearsal-39/
LOCATION:Madison Sanctuary
CATEGORIES:Music
END:VEVENT
BEGIN:VEVENT
DTSTART;TZID=America/Chicago:20231101T181500
DTEND;TZID=America/Chicago:20231101T203000
DTSTAMP:20260420T030403
CREATED:20231005T060515Z
LAST-MODIFIED:20231102T012626Z
UID:10017048-1698862500-1698870600@gslcwi.com
SUMMARY:AMPED Confirmation
DESCRIPTION:
URL:https://gslcwi.com/event/amped-confirmation-8/
LOCATION:Verona Youth Room; Verona Family Lounge; Verona Lobby; Verona Sanctuary; Verona Fellowship Hall
CATEGORIES:AMPED Confirmation
END:VEVENT
BEGIN:VEVENT
DTSTART;TZID=America/Chicago:20231101T183000
DTEND;TZID=America/Chicago:20231101T200000
DTSTAMP:20260420T030403
CREATED:20231005T060515Z
LAST-MODIFIED:20231026T022257Z
UID:10017047-1698863400-1698868800@gslcwi.com
SUMMARY:Madison Achiever's Toastmaster Club
DESCRIPTION:
URL:https://gslcwi.com/event/madison-achievers-toastmaster-club-31/
LOCATION:Madison Room 11/The Sheep Fold
CATEGORIES:External Group
END:VEVENT
BEGIN:VEVENT
DTSTART;TZID=America/Chicago:20231101T190000
DTEND;TZID=America/Chicago:20231101T203000
DTSTAMP:20260420T030403
CREATED:20231005T060516Z
LAST-MODIFIED:20231102T012625Z
UID:10017049-1698865200-1698870600@gslcwi.com
SUMMARY:Choir Rehearsal
DESCRIPTION:
URL:https://gslcwi.com/event/choir-rehearsal-90/
LOCATION:Madison Sanctuary
CATEGORIES:Music
END:VEVENT
BEGIN:VEVENT
DTSTART;TZID=America/Chicago:20231101T190000
DTEND;TZID=America/Chicago:20231101T210000
DTSTAMP:20260420T030403
CREATED:20231005T055810Z
LAST-MODIFIED:20231102T012625Z
UID:10017046-1698865200-1698872400@gslcwi.com
SUMMARY:Faith of Christ Church
DESCRIPTION:
URL:https://gslcwi.com/event/faith-of-christ-church-71/
LOCATION:Madison Music Room
CATEGORIES:External Group
END:VEVENT
BEGIN:VEVENT
DTSTART;TZID=America/Chicago:20231102T100000
DTEND;TZID=America/Chicago:20231102T120000
DTSTAMP:20260420T030403
CREATED:20220923T135902Z
LAST-MODIFIED:20230228T181021Z
UID:10010670-1698919200-1698926400@gslcwi.com
SUMMARY:GSLC Food Pantry
DESCRIPTION:Weekly community food distribution – because Jesus said so! \nMore information on the Good Shepherd Food Pantry can be found here.
URL:https://gslcwi.com/event/gslc-food-pantry-74/2023-11-02/
LOCATION:Madison Lobby
CATEGORIES:Community Event
END:VEVENT
BEGIN:VEVENT
DTSTART;TZID=America/Chicago:20231102T100000
DTEND;TZID=America/Chicago:20231102T120000
DTSTAMP:20260420T030403
CREATED:20220923T135903Z
LAST-MODIFIED:20230228T181458Z
UID:10010774-1698919200-1698926400@gslcwi.com
SUMMARY:Clothes Closet
DESCRIPTION:More information on the Good Shepherd Clothes Closet can be found here.
URL:https://gslcwi.com/event/clothes-closet-147/2023-11-02/
LOCATION:Madison Room 6
CATEGORIES:Community Event
END:VEVENT
BEGIN:VEVENT
DTSTART;TZID=America/Chicago:20231102T170000
DTEND;TZID=America/Chicago:20231102T180000
DTSTAMP:20260420T030403
CREATED:20231005T061558Z
LAST-MODIFIED:20231102T012740Z
UID:10017053-1698944400-1698948000@gslcwi.com
SUMMARY:Basketball
DESCRIPTION:
URL:https://gslcwi.com/event/basketball-stefanie-c-9/
LOCATION:Verona Gym
CATEGORIES:Sports,Verona Gym
END:VEVENT
BEGIN:VEVENT
DTSTART;TZID=America/Chicago:20231102T173000
DTEND;TZID=America/Chicago:20231102T190000
DTSTAMP:20260420T030403
CREATED:20220928T111753Z
LAST-MODIFIED:20230302T174342Z
UID:10010878-1698946200-1698951600@gslcwi.com
SUMMARY:GSLC Food Pantry
DESCRIPTION:Weekly community food distribution – because Jesus said so! \nMore information on the Good Shepherd Food Pantry can be found here.
URL:https://gslcwi.com/event/gslc-food-pantrty-86/2023-11-02/
LOCATION:Madison Lobby
CATEGORIES:Community Event
END:VEVENT
BEGIN:VEVENT
DTSTART;TZID=America/Chicago:20231102T183000
DTEND;TZID=America/Chicago:20231102T193000
DTSTAMP:20260420T030403
CREATED:20231005T061558Z
LAST-MODIFIED:20231024T162326Z
UID:10017054-1698949800-1698953400@gslcwi.com
SUMMARY:Cub Scouts Den Meeting
DESCRIPTION:
URL:https://gslcwi.com/event/cub-scouts-den-meeting-11/
LOCATION:Verona Room 11
CATEGORIES:External Group
END:VEVENT
BEGIN:VEVENT
DTSTART;TZID=America/Chicago:20231102T190000
DTEND;TZID=America/Chicago:20231102T203000
DTSTAMP:20260420T030403
CREATED:20231017T205206Z
LAST-MODIFIED:20231017T205207Z
UID:10017120-1698951600-1698957000@gslcwi.com
SUMMARY:Healing Prayer Service
DESCRIPTION:Our Healing Prayer Service provides comfort\, support and healing for many difficult life situations. Leave the busyness of the day behind and take time to humbly come before our God. \nThe candle-lit sanctuary brings a feeling of peace. Special music and scripture readings remind us that God is always ready to receive our worries\, concerns\, illnesses and heartaches. We receive comfort in the support and prayers of others and know the Holy Spirit will be with us wherever we go. \n“Come to me\, all you who are weary and burdened\, and I will give you rest.” Matthew 11:28 (NIV)
URL:https://gslcwi.com/event/healing-prayer-service/
LOCATION:Good Shepherd Verona Campus\, 7291 County Road PD\, Verona\, WI\, 53593\, United States
CATEGORIES:Worship
ATTACH;FMTTYPE=image/png:https://gslcwi.com/wp-content/uploads/2023/10/HealingPrayerSlide.png
ORGANIZER;CN="Jared Stellmacher":MAILTO:jstellmacher@gslcwi.com
END:VEVENT
BEGIN:VEVENT
DTSTART;TZID=America/Chicago:20231102T190000
DTEND;TZID=America/Chicago:20231102T210000
DTSTAMP:20260420T030403
CREATED:20221025T213413Z
LAST-MODIFIED:20230228T181705Z
UID:10010566-1698951600-1698958800@gslcwi.com
SUMMARY:Band Rehearsal
DESCRIPTION:
URL:https://gslcwi.com/event/band-rehearsal/2023-11-02/
LOCATION:Verona Campus\, 7291 County Rd PD\, Verona\, WI\, 53593\, United States
CATEGORIES:Music
END:VEVENT
BEGIN:VEVENT
DTSTART;TZID=America/Chicago:20231103T063000
DTEND;TZID=America/Chicago:20231103T073000
DTSTAMP:20260420T030403
CREATED:20220924T190555Z
LAST-MODIFIED:20260121T194640Z
UID:10011294-1698993000-1698996600@gslcwi.com
SUMMARY:Friday Morning Men's Group
DESCRIPTION:A men’s gathering for support\, study\, and fellowship.
URL:https://gslcwi.com/event/friday-morning-mens-group-74/2023-11-03/
LOCATION:Verona Coffee Bar
CATEGORIES:Adult Education,Men's Ministry
ORGANIZER;CN="Rick Thomas":MAILTO:rthomas@gslcwi.com
END:VEVENT
BEGIN:VEVENT
DTSTART;TZID=America/Chicago:20231103T100000
DTEND;TZID=America/Chicago:20231103T130000
DTSTAMP:20260420T030403
CREATED:20231005T061924Z
LAST-MODIFIED:20231102T014253Z
UID:10017058-1699005600-1699016400@gslcwi.com
SUMMARY:New Bridge Meals
DESCRIPTION:
URL:https://gslcwi.com/event/new-bridge-meals-162/
LOCATION:Madison Kitchen; Madison Peterson Hall
CATEGORIES:External Group
END:VEVENT
END:VCALENDAR