BEGIN:VCALENDAR
VERSION:2.0
PRODID:-//Good Shepherd Lutheran Church - ECPv6.15.20//NONSGML v1.0//EN
CALSCALE:GREGORIAN
METHOD:PUBLISH
X-ORIGINAL-URL:https://gslcwi.com
X-WR-CALDESC:Events for Good Shepherd Lutheran Church
REFRESH-INTERVAL;VALUE=DURATION:PT1H
X-Robots-Tag:noindex
X-PUBLISHED-TTL:PT1H
BEGIN:VTIMEZONE
TZID:America/Chicago
BEGIN:DAYLIGHT
TZOFFSETFROM:-0600
TZOFFSETTO:-0500
TZNAME:CDT
DTSTART:20230312T080000
END:DAYLIGHT
BEGIN:STANDARD
TZOFFSETFROM:-0500
TZOFFSETTO:-0600
TZNAME:CST
DTSTART:20231105T070000
END:STANDARD
BEGIN:DAYLIGHT
TZOFFSETFROM:-0600
TZOFFSETTO:-0500
TZNAME:CDT
DTSTART:20240310T080000
END:DAYLIGHT
BEGIN:STANDARD
TZOFFSETFROM:-0500
TZOFFSETTO:-0600
TZNAME:CST
DTSTART:20241103T070000
END:STANDARD
BEGIN:DAYLIGHT
TZOFFSETFROM:-0600
TZOFFSETTO:-0500
TZNAME:CDT
DTSTART:20250309T080000
END:DAYLIGHT
BEGIN:STANDARD
TZOFFSETFROM:-0500
TZOFFSETTO:-0600
TZNAME:CST
DTSTART:20251102T070000
END:STANDARD
END:VTIMEZONE
BEGIN:VEVENT
DTSTART;TZID=America/Chicago:20241205T100000
DTEND;TZID=America/Chicago:20241205T120000
DTSTAMP:20260421T120038
CREATED:20220923T135902Z
LAST-MODIFIED:20230228T181021Z
UID:10012106-1733392800-1733400000@gslcwi.com
SUMMARY:GSLC Food Pantry
DESCRIPTION:Weekly community food distribution – because Jesus said so! \nMore information on the Good Shepherd Food Pantry can be found here.
URL:https://gslcwi.com/event/gslc-food-pantry-74/2024-12-05/
LOCATION:Madison Lobby
CATEGORIES:Community Event
END:VEVENT
BEGIN:VEVENT
DTSTART;TZID=America/Chicago:20241205T100000
DTEND;TZID=America/Chicago:20241205T120000
DTSTAMP:20260421T120038
CREATED:20220923T135903Z
LAST-MODIFIED:20230228T181458Z
UID:10012120-1733392800-1733400000@gslcwi.com
SUMMARY:Clothes Closet
DESCRIPTION:More information on the Good Shepherd Clothes Closet can be found here.
URL:https://gslcwi.com/event/clothes-closet-147/2024-12-05/
LOCATION:Madison Room 6
CATEGORIES:Community Event
END:VEVENT
BEGIN:VEVENT
DTSTART;TZID=America/Chicago:20241205T100000
DTEND;TZID=America/Chicago:20241205T120000
DTSTAMP:20260421T120038
CREATED:20241101T021348Z
LAST-MODIFIED:20241128T222949Z
UID:10021574-1733392800-1733400000@gslcwi.com
SUMMARY:GSLC Food Pantry
DESCRIPTION:
URL:https://gslcwi.com/event/gslc-food-pantry-188/
LOCATION:Madison Lobby
END:VEVENT
BEGIN:VEVENT
DTSTART;TZID=America/Chicago:20241205T100000
DTEND;TZID=America/Chicago:20241205T120000
DTSTAMP:20260421T120038
CREATED:20241108T012437Z
LAST-MODIFIED:20241128T222948Z
UID:10021584-1733392800-1733400000@gslcwi.com
SUMMARY:Clothes Closet
DESCRIPTION:
URL:https://gslcwi.com/event/clothes-closet-281/
LOCATION:Madison Room 6
END:VEVENT
BEGIN:VEVENT
DTSTART;TZID=America/Chicago:20241205T100000
DTEND;TZID=America/Chicago:20241205T150000
DTSTAMP:20260421T120038
CREATED:20241108T012438Z
LAST-MODIFIED:20241128T222948Z
UID:10021585-1733392800-1733410800@gslcwi.com
SUMMARY:New Bridge Classes
DESCRIPTION:Alirio and Edwin
URL:https://gslcwi.com/event/new-bridge-classes-19/
LOCATION:Madison Good Shepherd Room
END:VEVENT
BEGIN:VEVENT
DTSTART;TZID=America/Chicago:20241205T170000
DTEND;TZID=America/Chicago:20241205T180000
DTSTAMP:20260421T120038
CREATED:20241205T212434Z
LAST-MODIFIED:20241205T212434Z
UID:10021771-1733418000-1733421600@gslcwi.com
SUMMARY:Christensen Gym
DESCRIPTION:Scott smchristensen@gmail.com
URL:https://gslcwi.com/event/christensen-gym-3/
LOCATION:Verona Gym
END:VEVENT
BEGIN:VEVENT
DTSTART;TZID=America/Chicago:20241205T173000
DTEND;TZID=America/Chicago:20241205T190000
DTSTAMP:20260421T120038
CREATED:20220928T111753Z
LAST-MODIFIED:20230302T174342Z
UID:10012640-1733419800-1733425200@gslcwi.com
SUMMARY:GSLC Food Pantry
DESCRIPTION:Weekly community food distribution – because Jesus said so! \nMore information on the Good Shepherd Food Pantry can be found here.
URL:https://gslcwi.com/event/gslc-food-pantrty-86/2024-12-05/
LOCATION:Madison Lobby
CATEGORIES:Community Event
END:VEVENT
BEGIN:VEVENT
DTSTART;TZID=America/Chicago:20241205T173000
DTEND;TZID=America/Chicago:20241205T190000
DTSTAMP:20260421T120038
CREATED:20241108T012439Z
LAST-MODIFIED:20241205T212435Z
UID:10021587-1733419800-1733425200@gslcwi.com
SUMMARY:GSLC Food Pantrty
DESCRIPTION:
URL:https://gslcwi.com/event/gslc-food-pantrty-187/
LOCATION:Madison Peterson Hall
END:VEVENT
BEGIN:VEVENT
DTSTART;TZID=America/Chicago:20241205T183000
DTEND;TZID=America/Chicago:20241205T200000
DTSTAMP:20260421T120038
CREATED:20241108T012439Z
LAST-MODIFIED:20241205T212434Z
UID:10021588-1733423400-1733428800@gslcwi.com
SUMMARY:Palecek Basketball
DESCRIPTION:Cheryl Palecek clf1070@tds.net
URL:https://gslcwi.com/event/palecek-basketball-11/
LOCATION:Verona Gym
END:VEVENT
BEGIN:VEVENT
DTSTART;TZID=America/Chicago:20241205T190000
DTEND;TZID=America/Chicago:20241205T210000
DTSTAMP:20260421T120038
CREATED:20221025T213413Z
LAST-MODIFIED:20230228T181705Z
UID:10012657-1733425200-1733432400@gslcwi.com
SUMMARY:Band Rehearsal
DESCRIPTION:
URL:https://gslcwi.com/event/band-rehearsal/2024-12-05/
LOCATION:Verona Campus\, 7291 County Rd PD\, Verona\, WI\, 53593\, United States
CATEGORIES:Music
END:VEVENT
BEGIN:VEVENT
DTSTART;TZID=America/Chicago:20241205T190000
DTEND;TZID=America/Chicago:20241205T210000
DTSTAMP:20260421T120038
CREATED:20241108T012438Z
LAST-MODIFIED:20241205T212435Z
UID:10021586-1733425200-1733432400@gslcwi.com
SUMMARY:10:00 Worship Band Rehearsal
DESCRIPTION:Tracy Dahl
URL:https://gslcwi.com/event/1000-worship-band-rehearsal-6/
LOCATION:Verona Sanctuary
END:VEVENT
BEGIN:VEVENT
DTSTART;TZID=America/Chicago:20241206T063000
DTEND;TZID=America/Chicago:20241206T073000
DTSTAMP:20260421T120038
CREATED:20220924T190555Z
LAST-MODIFIED:20260121T194640Z
UID:10012267-1733466600-1733470200@gslcwi.com
SUMMARY:Friday Morning Men's Group
DESCRIPTION:A men’s gathering for support\, study\, and fellowship.
URL:https://gslcwi.com/event/friday-morning-mens-group-74/2024-12-06/
LOCATION:Verona Coffee Bar
CATEGORIES:Adult Education,Men's Ministry
ORGANIZER;CN="Rick Thomas":MAILTO:rthomas@gslcwi.com
END:VEVENT
BEGIN:VEVENT
DTSTART;TZID=America/Chicago:20241206T100000
DTEND;TZID=America/Chicago:20241206T130000
DTSTAMP:20260421T120038
CREATED:20241108T013708Z
LAST-MODIFIED:20241205T212625Z
UID:10021589-1733479200-1733490000@gslcwi.com
SUMMARY:Senior Meals
DESCRIPTION:Ethel\, Candice Alexander candicea@newbridgemadison.org
URL:https://gslcwi.com/event/senior-meals-9/
LOCATION:Madison Peterson Hall
END:VEVENT
BEGIN:VEVENT
DTSTART;TZID=America/Chicago:20241206T123000
DTEND;TZID=America/Chicago:20241206T163000
DTSTAMP:20260421T120038
CREATED:20241115T005641Z
LAST-MODIFIED:20241205T212436Z
UID:10021635-1733488200-1733502600@gslcwi.com
SUMMARY:Pickleball
DESCRIPTION:Phyllis Wiederhoeft pwiederhoeft@gmail.com
URL:https://gslcwi.com/event/pickleball-255/
LOCATION:Verona Gym
END:VEVENT
BEGIN:VEVENT
DTSTART;TZID=America/Chicago:20241206T170000
DTEND;TZID=America/Chicago:20241206T200000
DTSTAMP:20260421T120038
CREATED:20241108T013709Z
LAST-MODIFIED:20241205T212626Z
UID:10021590-1733504400-1733515200@gslcwi.com
SUMMARY:Gingerbread House Decorating & Family Dinner
DESCRIPTION:Enjoy a meal\, Advent crafts and gingerbread house decorating. Bring a gingerbread house and we’ll provide the candy to decorate.
URL:https://gslcwi.com/event/winter-dinner-and-gingerbread-house-decorating/
LOCATION:Verona Lobby; Verona Sanctuary
CATEGORIES:Children's Ministry
ATTACH;FMTTYPE=image/jpeg:https://gslcwi.com/wp-content/uploads/2024/11/Gingerbread2024.jpg
ORGANIZER;CN="Emily Gold":MAILTO:egold@gslcwi.com
END:VEVENT
BEGIN:VEVENT
DTSTART;TZID=America/Chicago:20241207T083000
DTEND;TZID=America/Chicago:20241207T093000
DTSTAMP:20260421T120038
CREATED:20220925T214224Z
LAST-MODIFIED:20230921T134939Z
UID:10016428-1733560200-1733563800@gslcwi.com
SUMMARY:Men's Bible Study Zoom
DESCRIPTION:A small group bible study and fellowship group.
URL:https://gslcwi.com/event/mens-bible-study-zoom-74/2024-12-07/
LOCATION:Zoom Meeting
CATEGORIES:Bible Study,Men's Ministry
ORGANIZER;CN="Vern Andren":MAILTO:vwacja12@outlook.com
END:VEVENT
BEGIN:VEVENT
DTSTART;TZID=America/Chicago:20241207T083000
DTEND;TZID=America/Chicago:20241207T110000
DTSTAMP:20260421T120038
CREATED:20241108T013709Z
LAST-MODIFIED:20241205T212627Z
UID:10021591-1733560200-1733569200@gslcwi.com
SUMMARY:Ygdrasil
DESCRIPTION:CRAIG L GJERDE clgjerde@wisc.edu
URL:https://gslcwi.com/event/ygdrasil-26/
LOCATION:Madison Peterson Hall
END:VEVENT
BEGIN:VEVENT
DTSTART;TZID=America/Chicago:20241207T190000
DTEND;TZID=America/Chicago:20241207T210000
DTSTAMP:20260421T120038
CREATED:20241108T013710Z
LAST-MODIFIED:20241205T212627Z
UID:10021592-1733598000-1733605200@gslcwi.com
SUMMARY:Faith of Christ Church
DESCRIPTION:Gorge Garcia\, gorgegarcia613@yahoo.com\n818-264-6914
URL:https://gslcwi.com/event/faith-of-christ-church-173/
LOCATION:Madison Music Room
END:VEVENT
BEGIN:VEVENT
DTSTART;TZID=America/Chicago:20241208T090000
DTEND;TZID=America/Chicago:20241208T100000
DTSTAMP:20260421T120038
CREATED:20240609T130655Z
LAST-MODIFIED:20240926T161612Z
UID:10011874-1733648400-1733652000@gslcwi.com
SUMMARY:9:00 a.m. Worship Service
DESCRIPTION:You’re invited to the intersection of Whitney Way and Raymond Road for a morning of worship with traditional Lutheran textures and rhythms.
URL:https://gslcwi.com/event/900-worship-service-24-13-2-7/2024-12-08/
LOCATION:Madison Sanctuary
CATEGORIES:Worship
ATTACH;FMTTYPE=image/jpeg:https://gslcwi.com/wp-content/uploads/2024/05/9am2.jpg
END:VEVENT
BEGIN:VEVENT
DTSTART;TZID=America/Chicago:20241208T090000
DTEND;TZID=America/Chicago:20241208T100000
DTSTAMP:20260421T120038
CREATED:20240925T160913Z
LAST-MODIFIED:20240925T160913Z
UID:10021238-1733648400-1733652000@gslcwi.com
SUMMARY:9:00 a.m. Church School
DESCRIPTION:Hands-on activities\, music and Bible learning for kids Age 3-5th grade. Church School is held during worship at 9:00 a.m. Madison\, 10:00 a.m. and 6:00 p.m. Verona. \nClasses begin September 15 and new families can join anytime!
URL:https://gslcwi.com/event/900-a-m-church-school/2024-12-08/
LOCATION:Good Shepherd Madison Campus\, 5701 Raymond Road\, Madison\, WI\, 53711\, United States
CATEGORIES:Children's Ministry
ATTACH;FMTTYPE=image/jpeg:https://gslcwi.com/wp-content/uploads/2024/09/church-school-event-slide.jpg
ORGANIZER;CN="Joanne Zastrow":MAILTO:jzastrow@gslcwi.com
END:VEVENT
BEGIN:VEVENT
DTSTART;TZID=America/Chicago:20241208T100000
DTEND;TZID=America/Chicago:20241208T110000
DTSTAMP:20260421T120038
CREATED:20240610T203803Z
LAST-MODIFIED:20240610T203803Z
UID:10020149-1733652000-1733655600@gslcwi.com
SUMMARY:10:00 a.m. Worship Service
DESCRIPTION:Join us on County Highway PD in Verona for morning Worship service featuring modern expressions of praise and prayer anchored by foundational traditions.
URL:https://gslcwi.com/event/1000-a-m-worship-service/2024-12-08/
LOCATION:Good Shepherd Verona Campus\, 7291 County Road PD\, Verona\, WI\, 53593\, United States
CATEGORIES:Worship
ATTACH;FMTTYPE=image/jpeg:https://gslcwi.com/wp-content/uploads/2024/06/10_am_worship_verona.jpg
ORGANIZER;CN="Jared Stellmacher":MAILTO:jstellmacher@gslcwi.com
END:VEVENT
BEGIN:VEVENT
DTSTART;TZID=America/Chicago:20241208T100000
DTEND;TZID=America/Chicago:20241208T110000
DTSTAMP:20260421T120039
CREATED:20240925T171138Z
LAST-MODIFIED:20240925T171138Z
UID:10021265-1733652000-1733655600@gslcwi.com
SUMMARY:10:00 a.m. Church School
DESCRIPTION:Hands-on activities\, music and Bible learning for kids Age 3-5th grade. Church School is held during worship at 9:00 a.m. Madison\, 10:00 a.m. and 6:00 p.m. Verona. \nClasses begin September 15 and new families can join anytime!
URL:https://gslcwi.com/event/1000-a-m-church-school/2024-12-08/
LOCATION:Good Shepherd Verona Campus\, 7291 County Road PD\, Verona\, WI\, 53593\, United States
CATEGORIES:Children's Ministry
ATTACH;FMTTYPE=image/jpeg:https://gslcwi.com/wp-content/uploads/2024/09/church-school-event-slide.jpg
ORGANIZER;CN="Joanne Zastrow":MAILTO:jzastrow@gslcwi.com
END:VEVENT
BEGIN:VEVENT
DTSTART;TZID=America/Chicago:20241208T100000
DTEND;TZID=America/Chicago:20241208T113000
DTSTAMP:20260421T120039
CREATED:20241205T200142Z
LAST-MODIFIED:20241205T200143Z
UID:10021730-1733652000-1733657400@gslcwi.com
SUMMARY:Congregational Life Conversations with Pastor Craig | December 2024
DESCRIPTION:Get details for December’s conversation here. \nUpcoming Conversation Dates: \nMadison – December 8\, January 19\, February 16 \nVerona – December 15\, January 26\, February 23
URL:https://gslcwi.com/event/congregational-life-conversations-with-pastor-craig-december-2024-2/
ATTACH;FMTTYPE=image/jpeg:https://gslcwi.com/wp-content/uploads/2024/11/CLC-Slate-December.jpg
END:VEVENT
BEGIN:VEVENT
DTSTART;TZID=America/Chicago:20241208T103000
DTEND;TZID=America/Chicago:20241208T123000
DTSTAMP:20260421T120039
CREATED:20241108T014116Z
LAST-MODIFIED:20241128T224511Z
UID:10021594-1733653800-1733661000@gslcwi.com
SUMMARY:Bhutanese Church Service
DESCRIPTION:prakash rai prakashmrai14@gmail.com
URL:https://gslcwi.com/event/bhutanese-church-service-39/
LOCATION:Madison Music Room
END:VEVENT
BEGIN:VEVENT
DTSTART;TZID=America/Chicago:20241208T103000
DTEND;TZID=America/Chicago:20241208T160000
DTSTAMP:20260421T120039
CREATED:20241115T011123Z
LAST-MODIFIED:20241205T212628Z
UID:10021636-1733653800-1733673600@gslcwi.com
SUMMARY:Pickleball
DESCRIPTION:Phyllis Wiederhoeft pwiederhoeft@gmail.com
URL:https://gslcwi.com/event/pickleball-256/
LOCATION:Verona Gym
END:VEVENT
BEGIN:VEVENT
DTSTART;TZID=America/Chicago:20241208T120000
DTEND;TZID=America/Chicago:20241208T160000
DTSTAMP:20260421T120039
CREATED:20241108T013711Z
LAST-MODIFIED:20241108T013711Z
UID:10021593-1733659200-1733673600@gslcwi.com
SUMMARY:Pickleball
DESCRIPTION:Phyllis Wiederhoeft pwiederhoeft@gmail.com
URL:https://gslcwi.com/event/pickleball-247/
LOCATION:Verona Gym
END:VEVENT
BEGIN:VEVENT
DTSTART;TZID=America/Chicago:20241208T120000
DTEND;TZID=America/Chicago:20241208T170000
DTSTAMP:20260421T120039
CREATED:20220925T214225Z
LAST-MODIFIED:20230307T202102Z
UID:10012678-1733659200-1733677200@gslcwi.com
SUMMARY:Pickleball
DESCRIPTION:
URL:https://gslcwi.com/event/pickleball-81/2024-12-08/
LOCATION:Verona Gym
CATEGORIES:Sports,Verona Gym
ATTACH;FMTTYPE=image/jpeg:https://gslcwi.com/wp-content/uploads/2023/02/pickleball2-1.jpg
END:VEVENT
BEGIN:VEVENT
DTSTART;TZID=America/Chicago:20241208T130000
DTEND;TZID=America/Chicago:20241208T160000
DTSTAMP:20260421T120039
CREATED:20241108T014117Z
LAST-MODIFIED:20241205T214044Z
UID:10021595-1733662800-1733673600@gslcwi.com
SUMMARY:Iglesia evangelica el remanente
DESCRIPTION:
URL:https://gslcwi.com/event/iglesia-evangelica-el-remanente-216/
LOCATION:Madison Peterson Hall
END:VEVENT
BEGIN:VEVENT
DTSTART;TZID=America/Chicago:20241208T140000
DTEND;TZID=America/Chicago:20241208T153000
DTSTAMP:20260421T120039
CREATED:20241108T014117Z
LAST-MODIFIED:20241205T214045Z
UID:10021596-1733666400-1733671800@gslcwi.com
SUMMARY:Girl Scouts
DESCRIPTION:Andrea Zorbas andyzorbas@gmail.com
URL:https://gslcwi.com/event/girl-scouts-155/
LOCATION:Madison Room 11/The Sheep Fold
END:VEVENT
BEGIN:VEVENT
DTSTART;TZID=America/Chicago:20241208T160000
DTEND;TZID=America/Chicago:20241208T170000
DTSTAMP:20260421T120039
CREATED:20241108T014119Z
LAST-MODIFIED:20241205T214045Z
UID:10021598-1733673600-1733677200@gslcwi.com
SUMMARY:4-H
DESCRIPTION:Laura Smith <lsmith@oak.bank>\nRobyn Voss button0@aol.com\nLaura 608-225-5433
URL:https://gslcwi.com/event/4-h-23/
LOCATION:Verona Fellowship Hall
END:VEVENT
END:VCALENDAR