BEGIN:VCALENDAR
VERSION:2.0
PRODID:-//Good Shepherd Lutheran Church - ECPv6.15.20//NONSGML v1.0//EN
CALSCALE:GREGORIAN
METHOD:PUBLISH
X-WR-CALNAME:Good Shepherd Lutheran Church
X-ORIGINAL-URL:https://gslcwi.com
X-WR-CALDESC:Events for Good Shepherd Lutheran Church
REFRESH-INTERVAL;VALUE=DURATION:PT1H
X-Robots-Tag:noindex
X-PUBLISHED-TTL:PT1H
BEGIN:VTIMEZONE
TZID:America/Chicago
BEGIN:DAYLIGHT
TZOFFSETFROM:-0600
TZOFFSETTO:-0500
TZNAME:CDT
DTSTART:20210314T080000
END:DAYLIGHT
BEGIN:STANDARD
TZOFFSETFROM:-0500
TZOFFSETTO:-0600
TZNAME:CST
DTSTART:20211107T070000
END:STANDARD
BEGIN:DAYLIGHT
TZOFFSETFROM:-0600
TZOFFSETTO:-0500
TZNAME:CDT
DTSTART:20220313T080000
END:DAYLIGHT
BEGIN:STANDARD
TZOFFSETFROM:-0500
TZOFFSETTO:-0600
TZNAME:CST
DTSTART:20221106T070000
END:STANDARD
BEGIN:DAYLIGHT
TZOFFSETFROM:-0600
TZOFFSETTO:-0500
TZNAME:CDT
DTSTART:20230312T080000
END:DAYLIGHT
BEGIN:STANDARD
TZOFFSETFROM:-0500
TZOFFSETTO:-0600
TZNAME:CST
DTSTART:20231105T070000
END:STANDARD
END:VTIMEZONE
BEGIN:VEVENT
DTSTART;TZID=America/Chicago:20220817T183000
DTEND;TZID=America/Chicago:20220817T200000
DTSTAMP:20260419T201440
CREATED:20220724T094617Z
LAST-MODIFIED:20220817T103657Z
UID:10009588-1660761000-1660766400@gslcwi.com
SUMMARY:Madison Achievers Toastmasters Club
DESCRIPTION:
URL:https://gslcwi.com/event/madison-achievers-toastmasters-club-14/
LOCATION:Madison Good Shepherd Room
END:VEVENT
BEGIN:VEVENT
DTSTART;TZID=America/Chicago:20220818T070000
DTEND;TZID=America/Chicago:20220818T220000
DTSTAMP:20260419T201440
CREATED:20220419T141857Z
LAST-MODIFIED:20220818T132704Z
UID:10009268-1660806000-1660860000@gslcwi.com
SUMMARY:Intern Room
DESCRIPTION:
URL:https://gslcwi.com/event/intern-room-73/
LOCATION:Verona Room 7
END:VEVENT
BEGIN:VEVENT
DTSTART;TZID=America/Chicago:20220818T100000
DTEND;TZID=America/Chicago:20220818T120000
DTSTAMP:20260419T201440
CREATED:20220419T141912Z
LAST-MODIFIED:20220818T132702Z
UID:10009269-1660816800-1660824000@gslcwi.com
SUMMARY:Clothes Closet
DESCRIPTION:
URL:https://gslcwi.com/event/clothes-closet-125/
LOCATION:Madison Room 6
END:VEVENT
BEGIN:VEVENT
DTSTART;TZID=America/Chicago:20220818T100000
DTEND;TZID=America/Chicago:20220818T120000
DTSTAMP:20260419T201440
CREATED:20220419T141913Z
LAST-MODIFIED:20220818T132704Z
UID:10009270-1660816800-1660824000@gslcwi.com
SUMMARY:GSLC Food Pantry
DESCRIPTION:
URL:https://gslcwi.com/event/gslc-food-pantry-63/
LOCATION:Madison Lobby
END:VEVENT
BEGIN:VEVENT
DTSTART;TZID=America/Chicago:20220818T100000
DTEND;TZID=America/Chicago:20220818T130000
DTSTAMP:20260419T201440
CREATED:20220802T075109Z
LAST-MODIFIED:20220806T195224Z
UID:10009656-1660816800-1660827600@gslcwi.com
SUMMARY:Senior Meals
DESCRIPTION:
URL:https://gslcwi.com/event/senior-meals-3/
LOCATION:Madison Peterson Hall
END:VEVENT
BEGIN:VEVENT
DTSTART;TZID=America/Chicago:20220818T100000
DTEND;TZID=America/Chicago:20220818T130000
DTSTAMP:20260419T201440
CREATED:20220808T002036Z
LAST-MODIFIED:20220815T064038Z
UID:10009676-1660816800-1660827600@gslcwi.com
SUMMARY:Senior Lunches
DESCRIPTION:
URL:https://gslcwi.com/event/senior-lunches-20/
LOCATION:Madison Kitchen; Madison Peterson Hall
END:VEVENT
BEGIN:VEVENT
DTSTART;TZID=America/Chicago:20220818T170000
DTEND;TZID=America/Chicago:20220818T190000
DTSTAMP:20260419T201440
CREATED:20220724T094637Z
LAST-MODIFIED:20220818T132704Z
UID:10009589-1660842000-1660849200@gslcwi.com
SUMMARY:Worship with the COW
DESCRIPTION:
URL:https://gslcwi.com/event/worship-with-the-cow-9/
LOCATION:Offsite
END:VEVENT
BEGIN:VEVENT
DTSTART;TZID=America/Chicago:20220818T173000
DTEND;TZID=America/Chicago:20220818T183000
DTSTAMP:20260419T201440
CREATED:20220727T162207Z
LAST-MODIFIED:20220727T162208Z
UID:10009625-1660843800-1660847400@gslcwi.com
SUMMARY:Worship with the COW at Meister Park
DESCRIPTION:Follow the COW this summer as we spend Thursday evenings in local parks\, eating and worshipping.  We’ll be at Meister Park in Verona\, sharing a delicious meal followed by a short worship experience. Worship will include Faith Footprints as well as prayer\, reflection and conversation. Accessible for all ages! Bring a chair\, a blanket and a friend.
URL:https://gslcwi.com/event/worship-with-the-cow-at-meister-park/2022-08-18/
CATEGORIES:Holy COW
END:VEVENT
BEGIN:VEVENT
DTSTART;TZID=America/Chicago:20220818T173000
DTEND;TZID=America/Chicago:20220818T190000
DTSTAMP:20260419T201440
CREATED:20220419T141914Z
LAST-MODIFIED:20220818T132703Z
UID:10009271-1660843800-1660849200@gslcwi.com
SUMMARY:Clothes Closet
DESCRIPTION:
URL:https://gslcwi.com/event/clothes-closet-126/
LOCATION:Madison Room 6
END:VEVENT
BEGIN:VEVENT
DTSTART;TZID=America/Chicago:20220818T173000
DTEND;TZID=America/Chicago:20220818T190000
DTSTAMP:20260419T201440
CREATED:20220419T141915Z
LAST-MODIFIED:20220818T132703Z
UID:10009272-1660843800-1660849200@gslcwi.com
SUMMARY:GSLC Food Pantrty
DESCRIPTION:
URL:https://gslcwi.com/event/gslc-food-pantrty-63/
LOCATION:Madison Lobby
END:VEVENT
BEGIN:VEVENT
DTSTART;TZID=America/Chicago:20220818T180000
DTEND;TZID=America/Chicago:20220818T200000
DTSTAMP:20260419T201440
CREATED:20220724T094638Z
LAST-MODIFIED:20220818T132705Z
UID:10009590-1660845600-1660852800@gslcwi.com
SUMMARY:Adams Volleyball
DESCRIPTION:
URL:https://gslcwi.com/event/adams-volleyball-20/
LOCATION:Verona Gym
END:VEVENT
BEGIN:VEVENT
DTSTART;TZID=America/Chicago:20220819T063000
DTEND;TZID=America/Chicago:20220819T073000
DTSTAMP:20260419T201440
CREATED:20220419T141916Z
LAST-MODIFIED:20220818T132705Z
UID:10009273-1660890600-1660894200@gslcwi.com
SUMMARY:Friday Morning Men's Group
DESCRIPTION:
URL:https://gslcwi.com/event/friday-morning-mens-group-63/
LOCATION:Verona Coffee Bar
END:VEVENT
BEGIN:VEVENT
DTSTART;TZID=America/Chicago:20220819T070000
DTEND;TZID=America/Chicago:20220819T220000
DTSTAMP:20260419T201440
CREATED:20220419T141917Z
LAST-MODIFIED:20220819T140249Z
UID:10009274-1660892400-1660946400@gslcwi.com
SUMMARY:Intern Room
DESCRIPTION:
URL:https://gslcwi.com/event/intern-room-74/
LOCATION:Verona Room 7
END:VEVENT
BEGIN:VEVENT
DTSTART;TZID=America/Chicago:20220819T074500
DTEND;TZID=America/Chicago:20220819T090000
DTSTAMP:20260419T201440
CREATED:20211205T215943Z
LAST-MODIFIED:20211212T222717Z
UID:10025958-1660895100-1660899600@gslcwi.com
SUMMARY:Live at 7:45
DESCRIPTION:Join us every other Friday morning at 7:45 a.m. via Zoom! This way\, your kitchen table and favorite mug are nearby! This group reads an array of books on scripture\, spirituality and religious culture. Email Sarah McCormack for information and the Zoom link.
URL:https://gslcwi.com/event/live-at-745/2022-08-19/
CATEGORIES:Adult Education,Fellowship
ATTACH;FMTTYPE=image/jpeg:https://gslcwi.com/wp-content/uploads/2021/12/360_F_281619240_RQEKhn42utSujfr3pZPxGVk9gtEaGtUX.jpg
END:VEVENT
BEGIN:VEVENT
DTSTART;TZID=America/Chicago:20220819T093000
DTEND;TZID=America/Chicago:20220819T130000
DTSTAMP:20260419T201440
CREATED:20220724T094640Z
LAST-MODIFIED:20220819T140248Z
UID:10009591-1660901400-1660914000@gslcwi.com
SUMMARY:New Bridge Meals
DESCRIPTION:
URL:https://gslcwi.com/event/new-bridge-meals-64/
LOCATION:Madison Kitchen; Madison Peterson Hall
END:VEVENT
BEGIN:VEVENT
DTSTART;TZID=America/Chicago:20220820T070000
DTEND;TZID=America/Chicago:20220820T220000
DTSTAMP:20260419T201440
CREATED:20220419T141918Z
LAST-MODIFIED:20220820T141228Z
UID:10009275-1660978800-1661032800@gslcwi.com
SUMMARY:Intern Room
DESCRIPTION:
URL:https://gslcwi.com/event/intern-room-75/
LOCATION:Verona Room 7
END:VEVENT
BEGIN:VEVENT
DTSTART;TZID=America/Chicago:20220820T080000
DTEND;TZID=America/Chicago:20220820T090000
DTSTAMP:20260419T201440
CREATED:20220419T141919Z
LAST-MODIFIED:20220819T140250Z
UID:10009276-1660982400-1660986000@gslcwi.com
SUMMARY:Men's Bible Study Zoom
DESCRIPTION:
URL:https://gslcwi.com/event/mens-bible-study-zoom-63/
LOCATION:Zoom Meeting
END:VEVENT
BEGIN:VEVENT
DTSTART;TZID=America/Chicago:20220820T090000
DTEND;TZID=America/Chicago:20220820T120000
DTSTAMP:20260419T201440
CREATED:20220724T094640Z
LAST-MODIFIED:20220820T141226Z
UID:10009592-1660986000-1660996800@gslcwi.com
SUMMARY:Merit Badge Session
DESCRIPTION:
URL:https://gslcwi.com/event/merit-badge-session-2/
LOCATION:Verona Coffee Bar
END:VEVENT
BEGIN:VEVENT
DTSTART;TZID=America/Chicago:20220820T113000
DTEND;TZID=America/Chicago:20220820T143000
DTSTAMP:20260419T201440
CREATED:20220724T094655Z
LAST-MODIFIED:20220820T141228Z
UID:10009593-1660995000-1661005800@gslcwi.com
SUMMARY:MNA Backup Picnic Location
DESCRIPTION:
URL:https://gslcwi.com/event/mna-backup-picnic-location/
LOCATION:Madison Kitchen; Madison Peterson Hall
END:VEVENT
BEGIN:VEVENT
DTSTART;TZID=America/Chicago:20220820T120000
DTEND;TZID=America/Chicago:20220820T160000
DTSTAMP:20260419T201440
CREATED:20220419T141920Z
LAST-MODIFIED:20220820T141227Z
UID:10009277-1660996800-1661011200@gslcwi.com
SUMMARY:Dreger Birthday Celebration
DESCRIPTION:
URL:https://gslcwi.com/event/dreger-birthday-celebration/
LOCATION:Verona Fellowship Hall
END:VEVENT
BEGIN:VEVENT
DTSTART;TZID=America/Chicago:20220821T070000
DTEND;TZID=America/Chicago:20220821T220000
DTSTAMP:20260419T201440
CREATED:20220419T141935Z
LAST-MODIFIED:20220821T150918Z
UID:10009279-1661065200-1661119200@gslcwi.com
SUMMARY:Intern Room
DESCRIPTION:
URL:https://gslcwi.com/event/intern-room-76/
LOCATION:Verona Room 7
END:VEVENT
BEGIN:VEVENT
DTSTART;TZID=America/Chicago:20220821T090000
DTEND;TZID=America/Chicago:20220821T100000
DTSTAMP:20260419T201440
CREATED:20220724T094703Z
LAST-MODIFIED:20220820T141229Z
UID:10009596-1661072400-1661076000@gslcwi.com
SUMMARY:9:00 Worship Service
DESCRIPTION:
URL:https://gslcwi.com/event/900-worship-service-11/
LOCATION:Madison Sanctuary
END:VEVENT
BEGIN:VEVENT
DTSTART;TZID=America/Chicago:20220821T103000
DTEND;TZID=America/Chicago:20220821T113000
DTSTAMP:20260419T201440
CREATED:20220419T141921Z
LAST-MODIFIED:20220821T150919Z
UID:10009278-1661077800-1661081400@gslcwi.com
SUMMARY:10:30 Worship Service
DESCRIPTION:
URL:https://gslcwi.com/event/1030-worship-service-21/
LOCATION:Verona Sanctuary
END:VEVENT
BEGIN:VEVENT
DTSTART;TZID=America/Chicago:20220821T130000
DTEND;TZID=America/Chicago:20220821T150000
DTSTAMP:20260419T201440
CREATED:20220724T094700Z
LAST-MODIFIED:20220821T150919Z
UID:10009595-1661086800-1661094000@gslcwi.com
SUMMARY:Iglesia evangelica el remanente
DESCRIPTION:
URL:https://gslcwi.com/event/iglesia-evangelica-el-remanente-53/
LOCATION:Madison Peterson Hall
END:VEVENT
BEGIN:VEVENT
DTSTART;TZID=America/Chicago:20220821T130000
DTEND;TZID=America/Chicago:20220821T170000
DTSTAMP:20260419T201440
CREATED:20220724T094659Z
LAST-MODIFIED:20220821T150919Z
UID:10009594-1661086800-1661101200@gslcwi.com
SUMMARY:Pickleball
DESCRIPTION:
URL:https://gslcwi.com/event/pickleball-62/
LOCATION:Verona Gym
END:VEVENT
BEGIN:VEVENT
DTSTART;TZID=America/Chicago:20220821T180000
DTEND;TZID=America/Chicago:20220821T190000
DTSTAMP:20260419T201440
CREATED:20220419T141936Z
LAST-MODIFIED:20220821T150920Z
UID:10009280-1661104800-1661108400@gslcwi.com
SUMMARY:Verona 6:00 Worship
DESCRIPTION:
URL:https://gslcwi.com/event/verona-600-worship-44/
LOCATION:Verona Sanctuary
END:VEVENT
BEGIN:VEVENT
DTSTART;TZID=America/Chicago:20220822T070000
DTEND;TZID=America/Chicago:20220822T220000
DTSTAMP:20260419T201440
CREATED:20220419T141938Z
LAST-MODIFIED:20220822T154502Z
UID:10009281-1661151600-1661205600@gslcwi.com
SUMMARY:Intern Room
DESCRIPTION:
URL:https://gslcwi.com/event/intern-room-77/
LOCATION:Verona Room 7
END:VEVENT
BEGIN:VEVENT
DTSTART;TZID=America/Chicago:20220822T160000
DTEND;TZID=America/Chicago:20220822T173000
DTSTAMP:20260419T201440
CREATED:20220724T094704Z
LAST-MODIFIED:20220822T154502Z
UID:10009597-1661184000-1661189400@gslcwi.com
SUMMARY:Literacy Network
DESCRIPTION:
URL:https://gslcwi.com/event/literacy-network-20/
LOCATION:Madison Room 11/The Sheep Fold; Madison Room 9
END:VEVENT
BEGIN:VEVENT
DTSTART;TZID=America/Chicago:20220822T180000
DTEND;TZID=America/Chicago:20220822T200000
DTSTAMP:20260419T201440
CREATED:20220724T094724Z
LAST-MODIFIED:20220822T154501Z
UID:10009598-1661191200-1661198400@gslcwi.com
SUMMARY:Ignite Volleyball
DESCRIPTION:
URL:https://gslcwi.com/event/ignite-volleyball-15/
LOCATION:Verona Gym
END:VEVENT
BEGIN:VEVENT
DTSTART;TZID=America/Chicago:20220822T190000
DTEND;TZID=America/Chicago:20220822T203000
DTSTAMP:20260419T201440
CREATED:20220819T172036Z
LAST-MODIFIED:20220819T172103Z
UID:10009751-1661194800-1661200200@gslcwi.com
SUMMARY:Let's Dance\, Good Shepherd!
DESCRIPTION:August 22nd will be a special edition of Music Monday! It’s an all-ages dance party! Scott Mueller will DJ under the tent. 7:00 – 8:30. Snacks and beverages will be provided! A time to come and be in joyful motion with your church family!
URL:https://gslcwi.com/event/lets-dance-good-shepherd/
LOCATION:Verona Tent\, 7291 County Rd PD\, Verona\, WI\, 53593\, United States
CATEGORIES:20s & 30s Ministry,Community Event,High School,Music
ORGANIZER;CN="Sarah Iverson":MAILTO:siverson@gslcwi.com
END:VEVENT
END:VCALENDAR