BEGIN:VCALENDAR
VERSION:2.0
PRODID:-//Good Shepherd Lutheran Church - ECPv6.15.20//NONSGML v1.0//EN
CALSCALE:GREGORIAN
METHOD:PUBLISH
X-WR-CALNAME:Good Shepherd Lutheran Church
X-ORIGINAL-URL:https://gslcwi.com
X-WR-CALDESC:Events for Good Shepherd Lutheran Church
REFRESH-INTERVAL;VALUE=DURATION:PT1H
X-Robots-Tag:noindex
X-PUBLISHED-TTL:PT1H
BEGIN:VTIMEZONE
TZID:America/Chicago
BEGIN:DAYLIGHT
TZOFFSETFROM:-0600
TZOFFSETTO:-0500
TZNAME:CDT
DTSTART:20220313T080000
END:DAYLIGHT
BEGIN:STANDARD
TZOFFSETFROM:-0500
TZOFFSETTO:-0600
TZNAME:CST
DTSTART:20221106T070000
END:STANDARD
BEGIN:DAYLIGHT
TZOFFSETFROM:-0600
TZOFFSETTO:-0500
TZNAME:CDT
DTSTART:20230312T080000
END:DAYLIGHT
BEGIN:STANDARD
TZOFFSETFROM:-0500
TZOFFSETTO:-0600
TZNAME:CST
DTSTART:20231105T070000
END:STANDARD
BEGIN:DAYLIGHT
TZOFFSETFROM:-0600
TZOFFSETTO:-0500
TZNAME:CDT
DTSTART:20240310T080000
END:DAYLIGHT
BEGIN:STANDARD
TZOFFSETFROM:-0500
TZOFFSETTO:-0600
TZNAME:CST
DTSTART:20241103T070000
END:STANDARD
END:VTIMEZONE
BEGIN:VEVENT
DTSTART;TZID=America/Chicago:20230513T083000
DTEND;TZID=America/Chicago:20230513T150000
DTSTAMP:20260420T215642
CREATED:20230419T205634Z
LAST-MODIFIED:20230510T213925Z
UID:10013426-1683966600-1683990000@gslcwi.com
SUMMARY:Russian School
DESCRIPTION:
URL:https://gslcwi.com/event/russian-school-88/
LOCATION:Verona Room 5; Verona Room 6; Verona Room 7; Verona Gym; Verona Fellowship Hall; Verona Music Room
CATEGORIES:External Group
END:VEVENT
BEGIN:VEVENT
DTSTART;TZID=America/Chicago:20230513T090000
DTEND;TZID=America/Chicago:20230513T120000
DTSTAMP:20260420T215642
CREATED:20230510T213925Z
LAST-MODIFIED:20230512T150830Z
UID:10013943-1683968400-1683979200@gslcwi.com
SUMMARY:Association of Church Musicians
DESCRIPTION:
URL:https://gslcwi.com/event/association-of-church-musicians-20/
LOCATION:Madison Good Shepherd Room
CATEGORIES:External Group,Music
END:VEVENT
BEGIN:VEVENT
DTSTART;TZID=America/Chicago:20230513T170000
DTEND;TZID=America/Chicago:20230513T210000
DTSTAMP:20260420T215642
CREATED:20230419T205811Z
LAST-MODIFIED:20230510T213927Z
UID:10013428-1683997200-1684011600@gslcwi.com
SUMMARY:Iglesia evangelica el remanente
DESCRIPTION:
URL:https://gslcwi.com/event/iglesia-evangelica-el-remanente-103/
LOCATION:Madison Peterson Hall
CATEGORIES:External Group
END:VEVENT
BEGIN:VEVENT
DTSTART;TZID=America/Chicago:20230513T190000
DTEND;TZID=America/Chicago:20230513T210000
DTSTAMP:20260420T215642
CREATED:20230419T205811Z
LAST-MODIFIED:20230510T213926Z
UID:10013429-1684004400-1684011600@gslcwi.com
SUMMARY:Faith of Christ Church
DESCRIPTION:
URL:https://gslcwi.com/event/faith-of-christ-church-22/
LOCATION:Madison Music Room
CATEGORIES:External Group
END:VEVENT
BEGIN:VEVENT
DTSTART;TZID=America/Chicago:20230514T090000
DTEND;TZID=America/Chicago:20230514T100000
DTSTAMP:20260420T215642
CREATED:20230427T194648Z
LAST-MODIFIED:20230427T194649Z
UID:10010958-1684054800-1684058400@gslcwi.com
SUMMARY:9:00 Worship Service and Church School
DESCRIPTION:You’re invited to the intersection of Whitney Way and Raymond Road for a morning of worship with traditional Lutheran textures and rhythms.
URL:https://gslcwi.com/event/900-worship-service-24-9/
LOCATION:Madison Sanctuary
CATEGORIES:Worship
END:VEVENT
BEGIN:VEVENT
DTSTART;TZID=America/Chicago:20230514T103000
DTEND;TZID=America/Chicago:20230514T113000
DTSTAMP:20260420T215642
CREATED:20230427T194731Z
LAST-MODIFIED:20230427T194732Z
UID:10011062-1684060200-1684063800@gslcwi.com
SUMMARY:10:30 Worship Service and Church School
DESCRIPTION:Join us on County Highway PD in Verona for morning Worship service featuring modern expressions of praise and prayer anchored by foundational traditions.
URL:https://gslcwi.com/event/1030-worship-service-33-6/
LOCATION:Verona Sanctuary
CATEGORIES:Worship
END:VEVENT
BEGIN:VEVENT
DTSTART;TZID=America/Chicago:20230514T120000
DTEND;TZID=America/Chicago:20230514T170000
DTSTAMP:20260420T215642
CREATED:20220925T214225Z
LAST-MODIFIED:20230307T202102Z
UID:10011580-1684065600-1684083600@gslcwi.com
SUMMARY:Pickleball
DESCRIPTION:
URL:https://gslcwi.com/event/pickleball-81/2023-05-14/
LOCATION:Verona Gym
CATEGORIES:Sports,Verona Gym
ATTACH;FMTTYPE=image/jpeg:https://gslcwi.com/wp-content/uploads/2023/02/pickleball2-1.jpg
END:VEVENT
BEGIN:VEVENT
DTSTART;TZID=America/Chicago:20230514T130000
DTEND;TZID=America/Chicago:20230514T160000
DTSTAMP:20260420T215642
CREATED:20230419T205812Z
LAST-MODIFIED:20230510T215553Z
UID:10013432-1684069200-1684080000@gslcwi.com
SUMMARY:Iglesia evangelica el remanente
DESCRIPTION:
URL:https://gslcwi.com/event/iglesia-evangelica-el-remanente-104/
LOCATION:Madison Peterson Hall
CATEGORIES:External Group
END:VEVENT
BEGIN:VEVENT
DTSTART;TZID=America/Chicago:20230514T180000
DTEND;TZID=America/Chicago:20230514T190000
DTSTAMP:20260420T215642
CREATED:20220927T003855Z
LAST-MODIFIED:20230427T194210Z
UID:10011166-1684087200-1684090800@gslcwi.com
SUMMARY:6:00 Worship Service
DESCRIPTION:A worship service with evening rhythms for song\, prayer\, reflection rooted in ancient practices and present day cares & concerns.
URL:https://gslcwi.com/event/600-service-5/2023-05-14/
LOCATION:Verona Sanctuary
CATEGORIES:Worship
END:VEVENT
BEGIN:VEVENT
DTSTART;TZID=America/Chicago:20230515T100000
DTEND;TZID=America/Chicago:20230515T120000
DTSTAMP:20260420T215642
CREATED:20230419T205834Z
LAST-MODIFIED:20230510T220205Z
UID:10013437-1684144800-1684152000@gslcwi.com
SUMMARY:Quilters
DESCRIPTION:A group that prepares quilts to be sent through Lutheran World Relief.
URL:https://gslcwi.com/event/quilters-65/
LOCATION:Verona Fellowship Hall
CATEGORIES:Fellowship,Service
END:VEVENT
BEGIN:VEVENT
DTSTART;TZID=America/Chicago:20230515T100000
DTEND;TZID=America/Chicago:20230515T180000
DTSTAMP:20260420T215642
CREATED:20230419T205834Z
LAST-MODIFIED:20230510T220205Z
UID:10013436-1684144800-1684173600@gslcwi.com
SUMMARY:Blood Drive
DESCRIPTION:
URL:https://gslcwi.com/event/blood-drive-3/
LOCATION:Madison Peterson Hall
CATEGORIES:Community Event,External Group
END:VEVENT
BEGIN:VEVENT
DTSTART;TZID=America/Chicago:20230515T160000
DTEND;TZID=America/Chicago:20230515T173000
DTSTAMP:20260420T215642
CREATED:20220923T135855Z
LAST-MODIFIED:20230913T194729Z
UID:10011374-1684166400-1684171800@gslcwi.com
SUMMARY:Literacy Network
DESCRIPTION:
URL:https://gslcwi.com/event/literacy-network-40/2023-05-15/
LOCATION:Madison Room 11/The Sheep Fold; Madison Room 9
CATEGORIES:Community Event
END:VEVENT
BEGIN:VEVENT
DTSTART;TZID=America/Chicago:20230515T170000
DTEND;TZID=America/Chicago:20230515T190000
DTSTAMP:20260420T215642
CREATED:20230419T210557Z
LAST-MODIFIED:20230510T220206Z
UID:10013438-1684170000-1684177200@gslcwi.com
SUMMARY:HURT
DESCRIPTION:
URL:https://gslcwi.com/event/hurt-16/
LOCATION:Madison Room 6
CATEGORIES:External Group
END:VEVENT
BEGIN:VEVENT
DTSTART;TZID=America/Chicago:20230515T183000
DTEND;TZID=America/Chicago:20230515T203000
DTSTAMP:20260420T215642
CREATED:20230419T210558Z
LAST-MODIFIED:20230510T220206Z
UID:10013439-1684175400-1684182600@gslcwi.com
SUMMARY:Living Waters
DESCRIPTION:A study group for women.
URL:https://gslcwi.com/event/living-waters-10/
LOCATION:Verona Family Lounge
CATEGORIES:Adult Education,Fellowship,Women's Ministry
END:VEVENT
BEGIN:VEVENT
DTSTART;TZID=America/Chicago:20230516T083000
DTEND;TZID=America/Chicago:20230516T093000
DTSTAMP:20260420T215642
CREATED:20230412T210619Z
LAST-MODIFIED:20230412T210658Z
UID:10012920-1684225800-1684229400@gslcwi.com
SUMMARY:Birth through Three Playgroup
DESCRIPTION:Caregivers with children ages 0 – 3 are invited to join us for playgroup on Tuesday mornings in the Verona Campus gym from 8:30 – 9:30 a.m. Enjoy group story time\, rhymes\, songs\, and time for caregivers and babies to socialize! Contact Emily Gold with any questions.
URL:https://gslcwi.com/event/birth-through-three-playgroup/2023-05-16/
LOCATION:Verona Gym
CATEGORIES:Children's Ministry,Fellowship,Verona Gym
ATTACH;FMTTYPE=image/png:https://gslcwi.com/wp-content/uploads/2023/04/69d31f22-63ab-d969-08cd-3c63f2acfeab.png
ORGANIZER;CN="Emily Gold":MAILTO:egold@gslcwi.com
END:VEVENT
BEGIN:VEVENT
DTSTART;TZID=America/Chicago:20230516T090000
DTEND;TZID=America/Chicago:20230516T110000
DTSTAMP:20260420T215642
CREATED:20230320T152255Z
LAST-MODIFIED:20230921T134352Z
UID:10013312-1684227600-1684234800@gslcwi.com
SUMMARY:Tuesday Trekkers
DESCRIPTION:Join other GS folks for an hour-long hike\, Tuesdays at 9am.  Meets at different locations around the area\, enjoying fresh air and fellowship.
URL:https://gslcwi.com/event/tuesday-trekkers-8/2023-05-16/
LOCATION:Offsite
CATEGORIES:Adult Education,Fellowship,Sports
ATTACH;FMTTYPE=image/jpeg:https://gslcwi.com/wp-content/uploads/2023/03/trekers720.jpg
ORGANIZER;CN="Diane Hughes":MAILTO:dhhands@sbcglobal.net
END:VEVENT
BEGIN:VEVENT
DTSTART;TZID=America/Chicago:20230516T090000
DTEND;TZID=America/Chicago:20230516T110000
DTSTAMP:20260420T215642
CREATED:20230419T204832Z
LAST-MODIFIED:20230510T220206Z
UID:10013090-1684227600-1684234800@gslcwi.com
SUMMARY:Ruth Circle
DESCRIPTION:A monthly gathering of women for fellowship\, support\, and study.
URL:https://gslcwi.com/event/ruth-circle-20/
LOCATION:Madison Good Shepherd Room
CATEGORIES:Women's Ministry
END:VEVENT
BEGIN:VEVENT
DTSTART;TZID=America/Chicago:20230516T180000
DTEND;TZID=America/Chicago:20230516T210000
DTSTAMP:20260420T215642
CREATED:20230427T002036Z
LAST-MODIFIED:20230510T221500Z
UID:10013521-1684260000-1684270800@gslcwi.com
SUMMARY:Boy Scouts
DESCRIPTION:
URL:https://gslcwi.com/event/boy-scouts-111/
LOCATION:Verona Fellowship Hall
CATEGORIES:External Group
END:VEVENT
BEGIN:VEVENT
DTSTART;TZID=America/Chicago:20230516T190000
DTEND;TZID=America/Chicago:20230516T210000
DTSTAMP:20260420T215642
CREATED:20230419T210559Z
LAST-MODIFIED:20230510T221500Z
UID:10013442-1684263600-1684270800@gslcwi.com
SUMMARY:AA Meeting
DESCRIPTION:
URL:https://gslcwi.com/event/aa-meeting-65/
LOCATION:Verona Room 6
CATEGORIES:External Group,Fellowship
END:VEVENT
BEGIN:VEVENT
DTSTART;TZID=America/Chicago:20230517T070000
DTEND;TZID=America/Chicago:20230517T080000
DTSTAMP:20260420T215642
CREATED:20230228T160601Z
LAST-MODIFIED:20230921T134643Z
UID:10012523-1684306800-1684310400@gslcwi.com
SUMMARY:Wednesday Morning Men's Bible Study
DESCRIPTION:A Weekly Men’s Bible Study that gathers on Zoom.
URL:https://gslcwi.com/event/wednesday-morning-mens-bible-study/2023-05-17/
CATEGORIES:Adult Education,Bible Study,Men's Ministry
ATTACH;FMTTYPE=image/jpeg:https://gslcwi.com/wp-content/uploads/2023/02/fa-barboza-NWoaoMgMiVY-unsplash.jpg
ORGANIZER;CN="Dean Nelson":MAILTO:deanwnelson@gmail.com
END:VEVENT
BEGIN:VEVENT
DTSTART;TZID=America/Chicago:20230517T083000
DTEND;TZID=America/Chicago:20230517T100000
DTSTAMP:20260420T215642
CREATED:20230320T152258Z
LAST-MODIFIED:20230419T205304Z
UID:10013104-1684312200-1684317600@gslcwi.com
SUMMARY:Pickleball
DESCRIPTION:
URL:https://gslcwi.com/event/pickleball-166/2023-05-17/
LOCATION:Verona Gym
CATEGORIES:Sports,Verona Gym
ATTACH;FMTTYPE=image/jpeg:https://gslcwi.com/wp-content/uploads/2023/02/pickleball2-1.jpg
END:VEVENT
BEGIN:VEVENT
DTSTART;TZID=America/Chicago:20230517T100000
DTEND;TZID=America/Chicago:20230517T110000
DTSTAMP:20260420T215642
CREATED:20230320T152259Z
LAST-MODIFIED:20230419T205334Z
UID:10013208-1684317600-1684321200@gslcwi.com
SUMMARY:Holy Yoga
DESCRIPTION:Yoga classes for people of all abilities focused on faith and community.
URL:https://gslcwi.com/event/holy-yoga-66/2023-05-17/
LOCATION:Verona Sanctuary
CATEGORIES:Fellowship,Sports
ATTACH;FMTTYPE=image/jpeg:https://gslcwi.com/wp-content/uploads/2023/01/holy-yoga-2023.jpg
END:VEVENT
BEGIN:VEVENT
DTSTART;TZID=America/Chicago:20230517T100000
DTEND;TZID=America/Chicago:20230517T113000
DTSTAMP:20260420T215642
CREATED:20230510T222246Z
LAST-MODIFIED:20230510T222246Z
UID:10013944-1684317600-1684323000@gslcwi.com
SUMMARY:All Staff
DESCRIPTION:
URL:https://gslcwi.com/event/all-staff/
LOCATION:Madison Good Shepherd Room
END:VEVENT
BEGIN:VEVENT
DTSTART;TZID=America/Chicago:20230517T120000
DTEND;TZID=America/Chicago:20230517T133000
DTSTAMP:20260420T215642
CREATED:20230419T211646Z
LAST-MODIFIED:20230510T222247Z
UID:10013445-1684324800-1684330200@gslcwi.com
SUMMARY:Bible Study
DESCRIPTION:A small group bible study and fellowship group.
URL:https://gslcwi.com/event/bible-study-68/
LOCATION:Madison Good Shepherd Room
CATEGORIES:Adult Education,Fellowship
END:VEVENT
BEGIN:VEVENT
DTSTART;TZID=America/Chicago:20230517T150000
DTEND;TZID=America/Chicago:20230517T173000
DTSTAMP:20260420T215642
CREATED:20230517T205948Z
LAST-MODIFIED:20230517T205948Z
UID:10014010-1684335600-1684344600@gslcwi.com
SUMMARY:Men’s pickleball
DESCRIPTION:
URL:https://gslcwi.com/event/mens-pickleball-6/
LOCATION:Verona Gym
END:VEVENT
BEGIN:VEVENT
DTSTART;TZID=America/Chicago:20230517T170000
DTEND;TZID=America/Chicago:20230517T200000
DTSTAMP:20260420T215642
CREATED:20230412T153828Z
LAST-MODIFIED:20230427T201040Z
UID:10012908-1684342800-1684353600@gslcwi.com
SUMMARY:Stop the Violence - Food Cart Event
DESCRIPTION:Gathering for Peace\nStop by Good Shepherd Lutheran Church for a community meal and free resources for area youth\, including information on family employment opportunities\, summer activities and more. \nThe Holy COW Food truck will be serving a delicious free meal for all! \nStay energized as we campaign for the safety of our neighborhood with some food from the Holy COW.
URL:https://gslcwi.com/event/stop-the-violence-food-cart-event/
LOCATION:Good Shepherd Verona Campus\, 7291 County Road PD\, Verona\, WI\, 53593\, United States
CATEGORIES:Community Event,Fellowship,Holy COW
ATTACH;FMTTYPE=image/jpeg:https://gslcwi.com/wp-content/uploads/2023/04/StopTheViolenceMarch2023_16x8-scaled.jpg
ORGANIZER;CN="Sheray Wallace":MAILTO:sheraywallace44@gmail.com
END:VEVENT
BEGIN:VEVENT
DTSTART;TZID=America/Chicago:20230517T170000
DTEND;TZID=America/Chicago:20230517T200000
DTSTAMP:20260420T215642
CREATED:20230419T211647Z
LAST-MODIFIED:20230517T205949Z
UID:10013446-1684342800-1684353600@gslcwi.com
SUMMARY:Community Supper
DESCRIPTION:
URL:https://gslcwi.com/event/community-supper-5/
LOCATION:Madison Peterson Hall; Madison Campus Lawn; Madison Parking Lot
CATEGORIES:Community Event,Holy COW
END:VEVENT
BEGIN:VEVENT
DTSTART;TZID=America/Chicago:20230517T180000
DTEND;TZID=America/Chicago:20230517T190000
DTSTAMP:20260420T215642
CREATED:20230419T212326Z
LAST-MODIFIED:20230517T205950Z
UID:10013451-1684346400-1684350000@gslcwi.com
SUMMARY:Girl Scouts
DESCRIPTION:
URL:https://gslcwi.com/event/girl-scouts-32/
LOCATION:Madison Room 6
CATEGORIES:External Group
END:VEVENT
BEGIN:VEVENT
DTSTART;TZID=America/Chicago:20230517T183000
DTEND;TZID=America/Chicago:20230517T193000
DTSTAMP:20260420T215642
CREATED:20230420T174920Z
LAST-MODIFIED:20230420T174921Z
UID:10013504-1684348200-1684351800@gslcwi.com
SUMMARY:May Enneagram Book Group
DESCRIPTION:In February we hosted a wonderful workshop with Dr. Drew Moser\, who helped begin to look at the Enneagram as a tool of discernment to help us better understand ourselves and others. Regardless of if you attended the workshop\, all are welcome to be a part of a month- long book group\, exploring Dr. Moser’s book\, “the ENNEAGRAM of DISCERNMENT”. We’ll meet in the Verona Campus lounge from 6:30 -7:30 on Wednesday nights – May 10\, 17\, 24\, and 31. A Zoom link will be made available in eNews. Please read the first 2 chapters for our first gathering. The book is available on Amazon\, Barnes and Noble\, and through other book sellers. Contact Sarah Iverson with questions.
URL:https://gslcwi.com/event/may-enneagram-book-group/2023-05-17/
LOCATION:Verona Family Lounge
CATEGORIES:Adult Education,Fellowship
ATTACH;FMTTYPE=image/jpeg:https://gslcwi.com/wp-content/uploads/2023/04/enneagram-book-may.jpg
ORGANIZER;CN="Sarah Iverson":MAILTO:siverson@gslcwi.com
END:VEVENT
BEGIN:VEVENT
DTSTART;TZID=America/Chicago:20230517T183000
DTEND;TZID=America/Chicago:20230517T200000
DTSTAMP:20260420T215642
CREATED:20230419T212325Z
LAST-MODIFIED:20230517T211130Z
UID:10013449-1684348200-1684353600@gslcwi.com
SUMMARY:Madison Achievers Toastmasters Club
DESCRIPTION:Are you feeling nervous? Does your normal confidence drain away at the thought of speaking? We offer support and encouragement in a nonjudgmental place to practice. Are you an experienced speaker but wonder if you can improve? We all strive to do better; word choice\, effective pauses\, and concise presentations are just some of the aspects we develop. As you gain confidence\, you might even challenge yourself to participate in a contest. The real goal is to compete against yourself and improve with practice. \nThe Toastmasters educational system\, Pathways\, is an exciting\, flexible and interactive way to develop your skills and help others in your club develop theirs. Pathways includes online training\, videos and interactive tests. There are hands-on\, real world projects available\, including more than 25 elective projects. These projects are designed to work in conjunction with a speech and include: training for activities such as attending a networking event\, working for a volunteer organization\, designing and leading a committee or managing an event\, creating a podcast or blog\, and gaining storytelling and humor skills. \nPreview the first Pathways project\, the Icebreaker speech\, here and learn more about the Pathways program here. Each project consists of the training details for at least one speech\, but might also include additional learning components for a variety of speaking\, management and leadership skills.
URL:https://gslcwi.com/event/madison-achievers-toastmasters-club-24/
LOCATION:Madison Room 11/The Sheep Fold
CATEGORIES:External Group,Fellowship
END:VEVENT
END:VCALENDAR