BEGIN:VCALENDAR
VERSION:2.0
PRODID:-//Good Shepherd Lutheran Church - ECPv6.15.20//NONSGML v1.0//EN
CALSCALE:GREGORIAN
METHOD:PUBLISH
X-WR-CALNAME:Good Shepherd Lutheran Church
X-ORIGINAL-URL:https://gslcwi.com
X-WR-CALDESC:Events for Good Shepherd Lutheran Church
REFRESH-INTERVAL;VALUE=DURATION:PT1H
X-Robots-Tag:noindex
X-PUBLISHED-TTL:PT1H
BEGIN:VTIMEZONE
TZID:America/Chicago
BEGIN:DAYLIGHT
TZOFFSETFROM:-0600
TZOFFSETTO:-0500
TZNAME:CDT
DTSTART:20220313T080000
END:DAYLIGHT
BEGIN:STANDARD
TZOFFSETFROM:-0500
TZOFFSETTO:-0600
TZNAME:CST
DTSTART:20221106T070000
END:STANDARD
BEGIN:DAYLIGHT
TZOFFSETFROM:-0600
TZOFFSETTO:-0500
TZNAME:CDT
DTSTART:20230312T080000
END:DAYLIGHT
BEGIN:STANDARD
TZOFFSETFROM:-0500
TZOFFSETTO:-0600
TZNAME:CST
DTSTART:20231105T070000
END:STANDARD
BEGIN:DAYLIGHT
TZOFFSETFROM:-0600
TZOFFSETTO:-0500
TZNAME:CDT
DTSTART:20240310T080000
END:DAYLIGHT
BEGIN:STANDARD
TZOFFSETFROM:-0500
TZOFFSETTO:-0600
TZNAME:CST
DTSTART:20241103T070000
END:STANDARD
END:VTIMEZONE
BEGIN:VEVENT
DTSTART;TZID=America/Chicago:20230710T170000
DTEND;TZID=America/Chicago:20230710T190000
DTSTAMP:20260421T001017
CREATED:20230425T201702Z
LAST-MODIFIED:20230517T174219Z
UID:10013507-1689008400-1689015600@gslcwi.com
SUMMARY:Music Monday - Common Chord
DESCRIPTION:Come join us for an evening of musical fun full of community\, faith\, and food! The Holy COW will be on-site to distribute meals and fresh produce on the Madison Campus lawn! \nWith their unique combination of vocal\, instrumental\, songwriting and composing/arranging skills\, Common Chord creates an amazing sonic palette. Their repertoire includes vocal-centric pieces with four-part harmonies\, toe-tapping swingy numbers\, folk and bluegrass-flavored pieces\, bluesy tunes\, acoustic rock/pop songs and more…something for everyone\, with appeal to audiences of all ages. The group focuses on originals from each of three writers in the group plus unique covers from the likes of Tom Waits\, the Beatles\, Robert Johnson\, Paul Simon\, and George Gershwin\, and others. Instruments regularly used in live shows include guitars\, bass\, guitar\, mandolin\, fiddle\, clarinet\, bass clarinet\, cigar box guitar\, hand percussion\, and sometimes cello\, melodica\, and hammered dulcimer. \nCommon Chord was formed originally as a duo in 2015 by singer/songwriters and multi-instrumentalists Michael Bryant and Tracy Jane Comer\, who were members of the former Madison-area trio Sticky Fingers (early to mid-2000s). The two have worked as duo on occasion since then as well\, prior to forming Common Chord. The group quickly grew to five regular performers with the addition of singer/songwriter Bruce Buttel\, vocalist Delores Jenison\, and multi-instrumentalist Faye Bruggink. This powerhouse of combined talents yields a strong creative synergy…the musical whole is much greater than the sum of the parts.
URL:https://gslcwi.com/event/music-monday-common-chord/
LOCATION:Madison Campus Lawn
CATEGORIES:Community Event,Fellowship,Holy COW,Music
ATTACH;FMTTYPE=image/png:https://gslcwi.com/wp-content/uploads/2023/04/Common-Chord-MM-new.png
ORGANIZER;CN="Rick Thomas":MAILTO:rthomas@gslcwi.com
END:VEVENT
BEGIN:VEVENT
DTSTART;TZID=America/Chicago:20230711T090000
DTEND;TZID=America/Chicago:20230711T110000
DTSTAMP:20260421T001017
CREATED:20230320T152255Z
LAST-MODIFIED:20230921T134352Z
UID:10013320-1689066000-1689073200@gslcwi.com
SUMMARY:Tuesday Trekkers
DESCRIPTION:Join other GS folks for an hour-long hike\, Tuesdays at 9am.  Meets at different locations around the area\, enjoying fresh air and fellowship.
URL:https://gslcwi.com/event/tuesday-trekkers-8/2023-07-11/
LOCATION:Offsite
CATEGORIES:Adult Education,Fellowship,Sports
ATTACH;FMTTYPE=image/jpeg:https://gslcwi.com/wp-content/uploads/2023/03/trekers720.jpg
ORGANIZER;CN="Diane Hughes":MAILTO:dhhands@sbcglobal.net
END:VEVENT
BEGIN:VEVENT
DTSTART;TZID=America/Chicago:20230711T090000
DTEND;TZID=America/Chicago:20230711T120000
DTSTAMP:20260421T001017
CREATED:20230622T030921Z
LAST-MODIFIED:20230706T001355Z
UID:10014513-1689066000-1689076800@gslcwi.com
SUMMARY:Norma Jeanne's Quilters
DESCRIPTION:A group that prepares quilts to be sent through Lutheran World Relief.
URL:https://gslcwi.com/event/quilters-71/
LOCATION:Verona Fellowship Hall
CATEGORIES:Service
ATTACH;FMTTYPE=image/jpeg:https://gslcwi.com/wp-content/uploads/2023/04/quilters.jpg
END:VEVENT
BEGIN:VEVENT
DTSTART;TZID=America/Chicago:20230711T090000
DTEND;TZID=America/Chicago:20230711T130000
DTSTAMP:20260421T001017
CREATED:20230622T030920Z
LAST-MODIFIED:20230706T001958Z
UID:10014512-1689066000-1689080400@gslcwi.com
SUMMARY:Community Read
DESCRIPTION:
URL:https://gslcwi.com/event/community-read-33/
LOCATION:Madison Room 7; Madison Room 8; Madison Room 9; Madison Room 11/The Sheep Fold
CATEGORIES:Adult Education,Community Event,Fellowship
END:VEVENT
BEGIN:VEVENT
DTSTART;TZID=America/Chicago:20230711T100000
DTEND;TZID=America/Chicago:20230711T140000
DTSTAMP:20260421T001017
CREATED:20230622T032443Z
LAST-MODIFIED:20230706T001957Z
UID:10014514-1689069600-1689084000@gslcwi.com
SUMMARY:New Bridge Meals
DESCRIPTION:
URL:https://gslcwi.com/event/new-bridge-meals-132/
LOCATION:Madison Peterson Hall; Madison Kitchen
CATEGORIES:External Group
END:VEVENT
BEGIN:VEVENT
DTSTART;TZID=America/Chicago:20230711T180000
DTEND;TZID=America/Chicago:20230711T193000
DTSTAMP:20260421T001017
CREATED:20230622T032445Z
LAST-MODIFIED:20230706T001958Z
UID:10014516-1689098400-1689103800@gslcwi.com
SUMMARY:Rise Up Night
DESCRIPTION:
URL:https://gslcwi.com/event/rise-up-night-5/
LOCATION:Verona Tent; Verona Lobby
CATEGORIES:Youth Gathering
END:VEVENT
BEGIN:VEVENT
DTSTART;TZID=America/Chicago:20230711T180000
DTEND;TZID=America/Chicago:20230711T210000
DTSTAMP:20260421T001017
CREATED:20230622T032444Z
LAST-MODIFIED:20230630T143158Z
UID:10014515-1689098400-1689109200@gslcwi.com
SUMMARY:Boy Scouts
DESCRIPTION:
URL:https://gslcwi.com/event/boy-scouts-121/
LOCATION:Verona Fellowship Hall
CATEGORIES:External Group
END:VEVENT
BEGIN:VEVENT
DTSTART;TZID=America/Chicago:20230712T070000
DTEND;TZID=America/Chicago:20230712T080000
DTSTAMP:20260421T001017
CREATED:20230228T160601Z
LAST-MODIFIED:20230921T134643Z
UID:10012531-1689145200-1689148800@gslcwi.com
SUMMARY:Wednesday Morning Men's Bible Study
DESCRIPTION:A Weekly Men’s Bible Study that gathers on Zoom.
URL:https://gslcwi.com/event/wednesday-morning-mens-bible-study/2023-07-12/
CATEGORIES:Adult Education,Bible Study,Men's Ministry
ATTACH;FMTTYPE=image/jpeg:https://gslcwi.com/wp-content/uploads/2023/02/fa-barboza-NWoaoMgMiVY-unsplash.jpg
ORGANIZER;CN="Dean Nelson":MAILTO:deanwnelson@gmail.com
END:VEVENT
BEGIN:VEVENT
DTSTART;TZID=America/Chicago:20230712T083000
DTEND;TZID=America/Chicago:20230712T100000
DTSTAMP:20260421T001017
CREATED:20230320T152258Z
LAST-MODIFIED:20230419T205304Z
UID:10013112-1689150600-1689156000@gslcwi.com
SUMMARY:Pickleball
DESCRIPTION:
URL:https://gslcwi.com/event/pickleball-166/2023-07-12/
LOCATION:Verona Gym
CATEGORIES:Sports,Verona Gym
ATTACH;FMTTYPE=image/jpeg:https://gslcwi.com/wp-content/uploads/2023/02/pickleball2-1.jpg
END:VEVENT
BEGIN:VEVENT
DTSTART;TZID=America/Chicago:20230712T090000
DTEND;TZID=America/Chicago:20230712T130000
DTSTAMP:20260421T001017
CREATED:20230622T032446Z
LAST-MODIFIED:20230706T005222Z
UID:10014518-1689152400-1689166800@gslcwi.com
SUMMARY:Community Read
DESCRIPTION:
URL:https://gslcwi.com/event/community-read-34/
LOCATION:Madison Room 7; Madison Room 8; Madison Room 9; Madison Room 11/The Sheep Fold
CATEGORIES:Community Event,Fellowship
END:VEVENT
BEGIN:VEVENT
DTSTART;TZID=America/Chicago:20230712T120000
DTEND;TZID=America/Chicago:20230712T133000
DTSTAMP:20260421T001017
CREATED:20230622T033946Z
LAST-MODIFIED:20230706T005224Z
UID:10014519-1689163200-1689168600@gslcwi.com
SUMMARY:Bible Study
DESCRIPTION:
URL:https://gslcwi.com/event/bible-study-76/
LOCATION:Madison Good Shepherd Room
CATEGORIES:Adult Education,Fellowship
END:VEVENT
BEGIN:VEVENT
DTSTART;TZID=America/Chicago:20230712T160000
DTEND;TZID=America/Chicago:20230712T180000
DTSTAMP:20260421T001017
CREATED:20230622T033947Z
LAST-MODIFIED:20230712T225746Z
UID:10014520-1689177600-1689184800@gslcwi.com
SUMMARY:Literacy Network
DESCRIPTION:
URL:https://gslcwi.com/event/literacy-network-124/
LOCATION:Madison Good Shepherd Room
CATEGORIES:Adult Education
END:VEVENT
BEGIN:VEVENT
DTSTART;TZID=America/Chicago:20230712T160000
DTEND;TZID=America/Chicago:20230712T193000
DTSTAMP:20260421T001017
CREATED:20230629T023021Z
LAST-MODIFIED:20230712T225746Z
UID:10014560-1689177600-1689190200@gslcwi.com
SUMMARY:Community Meal
DESCRIPTION:
URL:https://gslcwi.com/event/community-meal-2/
LOCATION:Madison Peterson Hall
CATEGORIES:Community Event
END:VEVENT
BEGIN:VEVENT
DTSTART;TZID=America/Chicago:20230712T170000
DTEND;TZID=America/Chicago:20230712T200000
DTSTAMP:20260421T001017
CREATED:20230613T210526Z
LAST-MODIFIED:20230630T153614Z
UID:10014548-1689181200-1689192000@gslcwi.com
SUMMARY:Parks Alive @ Meadowood Park
DESCRIPTION:Held in parks across Madison\, Parks Alive events are a chance to visit your local park\, listen to music\,  participate in fun\, family-friendly activities\, enjoy free food\, and get to know your neighbors\, Build connections with your community and enjoy green spaces across the city at events throughout the summer.
URL:https://gslcwi.com/event/parks-alive-meadowood-park/2023-07-12/
LOCATION:Meadowood Park\, 5808 Thrush Ln\, Madison\, WI\, 53711\, United States
CATEGORIES:Fellowship,Holy COW
ATTACH;FMTTYPE=image/png:https://gslcwi.com/wp-content/uploads/2023/06/parks-alive-1.png
ORGANIZER;CN="Rick Thomas":MAILTO:rthomas@gslcwi.com
END:VEVENT
BEGIN:VEVENT
DTSTART;TZID=America/Chicago:20230712T190000
DTEND;TZID=America/Chicago:20230712T210000
DTSTAMP:20260421T001017
CREATED:20230622T033947Z
LAST-MODIFIED:20230712T225747Z
UID:10014521-1689188400-1689195600@gslcwi.com
SUMMARY:Faith of Christ Church
DESCRIPTION:
URL:https://gslcwi.com/event/faith-of-christ-church-39/
LOCATION:Madison Music Room
CATEGORIES:External Group
END:VEVENT
BEGIN:VEVENT
DTSTART;TZID=America/Chicago:20230713T080000
DTEND;TZID=America/Chicago:20230713T130000
DTSTAMP:20260421T001017
CREATED:20230712T232012Z
LAST-MODIFIED:20230712T232012Z
UID:10014784-1689235200-1689253200@gslcwi.com
SUMMARY:HVAC - Tech
DESCRIPTION:
URL:https://gslcwi.com/event/hvac-tech/
LOCATION:Verona Fellowship Hall
END:VEVENT
BEGIN:VEVENT
DTSTART;TZID=America/Chicago:20230713T090000
DTEND;TZID=America/Chicago:20230713T130000
DTSTAMP:20260421T001017
CREATED:20230622T033948Z
LAST-MODIFIED:20230712T225747Z
UID:10014523-1689238800-1689253200@gslcwi.com
SUMMARY:Community Read
DESCRIPTION:
URL:https://gslcwi.com/event/community-read-35/
LOCATION:Madison Room 7; Madison Room 8; Madison Room 9; Madison Room 11/The Sheep Fold
CATEGORIES:Community Event
END:VEVENT
BEGIN:VEVENT
DTSTART;TZID=America/Chicago:20230713T100000
DTEND;TZID=America/Chicago:20230713T120000
DTSTAMP:20260421T001017
CREATED:20220923T135902Z
LAST-MODIFIED:20230228T181021Z
UID:10010654-1689242400-1689249600@gslcwi.com
SUMMARY:GSLC Food Pantry
DESCRIPTION:Weekly community food distribution – because Jesus said so! \nMore information on the Good Shepherd Food Pantry can be found here.
URL:https://gslcwi.com/event/gslc-food-pantry-74/2023-07-13/
LOCATION:Madison Lobby
CATEGORIES:Community Event
END:VEVENT
BEGIN:VEVENT
DTSTART;TZID=America/Chicago:20230713T100000
DTEND;TZID=America/Chicago:20230713T120000
DTSTAMP:20260421T001017
CREATED:20220923T135903Z
LAST-MODIFIED:20230228T181458Z
UID:10010758-1689242400-1689249600@gslcwi.com
SUMMARY:Clothes Closet
DESCRIPTION:More information on the Good Shepherd Clothes Closet can be found here.
URL:https://gslcwi.com/event/clothes-closet-147/2023-07-13/
LOCATION:Madison Room 6
CATEGORIES:Community Event
END:VEVENT
BEGIN:VEVENT
DTSTART;TZID=America/Chicago:20230713T100000
DTEND;TZID=America/Chicago:20230713T140000
DTSTAMP:20260421T001017
CREATED:20230622T033948Z
LAST-MODIFIED:20230712T225747Z
UID:10014522-1689242400-1689256800@gslcwi.com
SUMMARY:New Bridge Meals
DESCRIPTION:
URL:https://gslcwi.com/event/new-bridge-meals-133/
LOCATION:Madison Peterson Hall; Madison Kitchen
CATEGORIES:External Group
END:VEVENT
BEGIN:VEVENT
DTSTART;TZID=America/Chicago:20230713T103000
DTEND;TZID=America/Chicago:20230713T113000
DTSTAMP:20260421T001017
CREATED:20230517T191615Z
LAST-MODIFIED:20230517T192945Z
UID:10014008-1689244200-1689247800@gslcwi.com
SUMMARY:Summer Coffee Group
DESCRIPTION:Enjoy a cup of coffee\, a donut\, and a good conversation on the second Thursday of the month (June 8th\, July 13th\, and August 10th)  at 10:30 in the Good Shepherd room at the Madison Campus. This gathering is open to all as a time visit with folks you know\, and folks you don’t know yet. Think of it as an extension of the lobby on Sunday morning. Other snacks and friends are welcome.
URL:https://gslcwi.com/event/summer-coffee-group/2023-07-13/
LOCATION:Madison Good Shepherd Room
CATEGORIES:Fellowship
ATTACH;FMTTYPE=image/png:https://gslcwi.com/wp-content/uploads/2023/05/Summer-Cofffee-Group.png
ORGANIZER;CN="Sarah Iverson":MAILTO:siverson@gslcwi.com
END:VEVENT
BEGIN:VEVENT
DTSTART;TZID=America/Chicago:20230713T173000
DTEND;TZID=America/Chicago:20230713T190000
DTSTAMP:20260421T001017
CREATED:20220928T111753Z
LAST-MODIFIED:20230302T174342Z
UID:10010862-1689269400-1689274800@gslcwi.com
SUMMARY:GSLC Food Pantry
DESCRIPTION:Weekly community food distribution – because Jesus said so! \nMore information on the Good Shepherd Food Pantry can be found here.
URL:https://gslcwi.com/event/gslc-food-pantrty-86/2023-07-13/
LOCATION:Madison Lobby
CATEGORIES:Community Event
END:VEVENT
BEGIN:VEVENT
DTSTART;TZID=America/Chicago:20230713T173000
DTEND;TZID=America/Chicago:20230713T193000
DTSTAMP:20260421T001017
CREATED:20230627T154058Z
LAST-MODIFIED:20230718T160940Z
UID:10014545-1689269400-1689276600@gslcwi.com
SUMMARY:Worship in the Park @ Tower Park
DESCRIPTION:During the summer months\, we’ll gather at local parks each Thursday night starting at 5:30 p.m. to share in a delicious Holy COW meal and unique worship experience. The COW (Church on Wheels) is a ministry we share as a congregation\, and all present become part of the welcoming\, the forgiveness\, and the service of the evening.
URL:https://gslcwi.com/event/worship-in-the-park-tower-hills-park/2023-07-13/
LOCATION:Tower Park\, 696 Fairview Terrace\, Verona\, WI\, 53593\, United States
CATEGORIES:Community Event,Holy COW,Worship
END:VEVENT
BEGIN:VEVENT
DTSTART;TZID=America/Chicago:20230713T190000
DTEND;TZID=America/Chicago:20230713T200000
DTSTAMP:20260421T001017
CREATED:20230712T232013Z
LAST-MODIFIED:20230712T232013Z
UID:10014785-1689274800-1689278400@gslcwi.com
SUMMARY:Generosity Committee Meeting
DESCRIPTION:Brent/Rick B
URL:https://gslcwi.com/event/generosity-committee-meeting/
LOCATION:Madison Good Shepherd Room
END:VEVENT
BEGIN:VEVENT
DTSTART;TZID=America/Chicago:20230713T190000
DTEND;TZID=America/Chicago:20230713T210000
DTSTAMP:20260421T001017
CREATED:20221025T213413Z
LAST-MODIFIED:20230228T181705Z
UID:10010550-1689274800-1689282000@gslcwi.com
SUMMARY:Band Rehearsal
DESCRIPTION:
URL:https://gslcwi.com/event/band-rehearsal/2023-07-13/
LOCATION:Verona Campus\, 7291 County Rd PD\, Verona\, WI\, 53593\, United States
CATEGORIES:Music
END:VEVENT
BEGIN:VEVENT
DTSTART;TZID=America/Chicago:20230714T063000
DTEND;TZID=America/Chicago:20230714T073000
DTSTAMP:20260421T001017
CREATED:20220924T190555Z
LAST-MODIFIED:20260121T194640Z
UID:10011278-1689316200-1689319800@gslcwi.com
SUMMARY:Friday Morning Men's Group
DESCRIPTION:A men’s gathering for support\, study\, and fellowship.
URL:https://gslcwi.com/event/friday-morning-mens-group-74/2023-07-14/
LOCATION:Verona Coffee Bar
CATEGORIES:Adult Education,Men's Ministry
ORGANIZER;CN="Rick Thomas":MAILTO:rthomas@gslcwi.com
END:VEVENT
BEGIN:VEVENT
DTSTART;TZID=America/Chicago:20230714T080000
DTEND;TZID=America/Chicago:20230714T090000
DTSTAMP:20260421T001017
CREATED:20230622T041324Z
LAST-MODIFIED:20230712T233320Z
UID:10014529-1689321600-1689325200@gslcwi.com
SUMMARY:Live at 7:45 Bible Study
DESCRIPTION:
URL:https://gslcwi.com/event/live-at-745-bible-study-9/
LOCATION:Zoom Meeting
CATEGORIES:Adult Education,Fellowship
END:VEVENT
BEGIN:VEVENT
DTSTART;TZID=America/Chicago:20230714T093000
DTEND;TZID=America/Chicago:20230714T130000
DTSTAMP:20260421T001017
CREATED:20230622T041325Z
LAST-MODIFIED:20230712T233321Z
UID:10014530-1689327000-1689339600@gslcwi.com
SUMMARY:New Bridge Meals
DESCRIPTION:
URL:https://gslcwi.com/event/new-bridge-meals-134/
LOCATION:Madison Kitchen; Madison Peterson Hall
CATEGORIES:External Group
END:VEVENT
BEGIN:VEVENT
DTSTART;TZID=America/Chicago:20230714T100000
DTEND;TZID=America/Chicago:20230714T113000
DTSTAMP:20260421T001017
CREATED:20230712T233321Z
LAST-MODIFIED:20230712T233321Z
UID:10014786-1689328800-1689334200@gslcwi.com
SUMMARY:Keeping the Connections
DESCRIPTION:Brent/Pastor Sheryl
URL:https://gslcwi.com/event/keeping-the-connections/
LOCATION:Madison Good Shepherd Room
END:VEVENT
BEGIN:VEVENT
DTSTART;TZID=America/Chicago:20230714T170000
DTEND;TZID=America/Chicago:20230714T203000
DTSTAMP:20260421T001017
CREATED:20230712T235809Z
LAST-MODIFIED:20230712T235809Z
UID:10014787-1689354000-1689366600@gslcwi.com
SUMMARY:Iglesia evangelica el remanente
DESCRIPTION:Juan Alcatara
URL:https://gslcwi.com/event/iglesia-evangelica-el-remanente-115/
LOCATION:Madison Peterson Hall
END:VEVENT
END:VCALENDAR