BEGIN:VCALENDAR
VERSION:2.0
PRODID:-//Good Shepherd Lutheran Church - ECPv6.15.20//NONSGML v1.0//EN
CALSCALE:GREGORIAN
METHOD:PUBLISH
X-WR-CALNAME:Good Shepherd Lutheran Church
X-ORIGINAL-URL:https://gslcwi.com
X-WR-CALDESC:Events for Good Shepherd Lutheran Church
REFRESH-INTERVAL;VALUE=DURATION:PT1H
X-Robots-Tag:noindex
X-PUBLISHED-TTL:PT1H
BEGIN:VTIMEZONE
TZID:America/Chicago
BEGIN:DAYLIGHT
TZOFFSETFROM:-0600
TZOFFSETTO:-0500
TZNAME:CDT
DTSTART:20250309T080000
END:DAYLIGHT
BEGIN:STANDARD
TZOFFSETFROM:-0500
TZOFFSETTO:-0600
TZNAME:CST
DTSTART:20251102T070000
END:STANDARD
BEGIN:DAYLIGHT
TZOFFSETFROM:-0600
TZOFFSETTO:-0500
TZNAME:CDT
DTSTART:20260308T080000
END:DAYLIGHT
BEGIN:STANDARD
TZOFFSETFROM:-0500
TZOFFSETTO:-0600
TZNAME:CST
DTSTART:20261101T070000
END:STANDARD
BEGIN:DAYLIGHT
TZOFFSETFROM:-0600
TZOFFSETTO:-0500
TZNAME:CDT
DTSTART:20270314T080000
END:DAYLIGHT
BEGIN:STANDARD
TZOFFSETFROM:-0500
TZOFFSETTO:-0600
TZNAME:CST
DTSTART:20271107T070000
END:STANDARD
END:VTIMEZONE
BEGIN:VEVENT
DTSTART;TZID=America/Chicago:20260507T190000
DTEND;TZID=America/Chicago:20260507T210000
DTSTAMP:20260424T045337
CREATED:20260404T160259Z
LAST-MODIFIED:20260418T153523Z
UID:10025702-1778180400-1778187600@gslcwi.com
SUMMARY:10:00 Worship Band Rehearsal
DESCRIPTION:Tracy Dahl\n________________________________________________________________________________\nMicrosoft Teams Need help?\nJoin the meeting now\nMeeting ID: 245 083 983 401 78\nPasscode: zJ2j3V3L\n________________________________\nFor organizers: Meeting options\n________________________________________________________________________________
URL:https://gslcwi.com/event/1000-worship-band-rehearsal-76/
LOCATION:Verona Sanctuary
END:VEVENT
BEGIN:VEVENT
DTSTART;TZID=America/Chicago:20260508T063000
DTEND;TZID=America/Chicago:20260508T073000
DTSTAMP:20260424T045337
CREATED:20220924T190555Z
LAST-MODIFIED:20260121T194640Z
UID:10016166-1778221800-1778225400@gslcwi.com
SUMMARY:Friday Morning Men's Group
DESCRIPTION:A men’s gathering for support\, study\, and fellowship.
URL:https://gslcwi.com/event/friday-morning-mens-group-74/2026-05-08/
LOCATION:Verona Coffee Bar
CATEGORIES:Adult Education,Men's Ministry
ORGANIZER;CN="Rick Thomas":MAILTO:rthomas@gslcwi.com
END:VEVENT
BEGIN:VEVENT
DTSTART;TZID=America/Chicago:20260508T063000
DTEND;TZID=America/Chicago:20260508T073000
DTSTAMP:20260424T045337
CREATED:20260404T160742Z
LAST-MODIFIED:20260418T153523Z
UID:10025704-1778221800-1778225400@gslcwi.com
SUMMARY:Friday Morning Men's Group
DESCRIPTION:RT\nNathan Brinkman
URL:https://gslcwi.com/event/friday-morning-mens-group-195/
LOCATION:Verona Coffee Bar
END:VEVENT
BEGIN:VEVENT
DTSTART;TZID=America/Chicago:20260508T130000
DTEND;TZID=America/Chicago:20260508T170000
DTSTAMP:20260424T045337
CREATED:20260404T160743Z
LAST-MODIFIED:20260418T153523Z
UID:10025705-1778245200-1778259600@gslcwi.com
SUMMARY:Pickleball
DESCRIPTION:Phyllis Wiederhoeft\n608-235-6312\npwiederhoeft@gmail.com\n________________________________________________________________________________\nMicrosoft Teams Need help?\nJoin the meeting now\nMeeting ID: 297 226 134 502 5\nPasscode: Xc36EC6C\n________________________________\nFor organizers: Meeting options\n________________________________________________________________________________
URL:https://gslcwi.com/event/pickleball-364/
LOCATION:Verona Gym
END:VEVENT
BEGIN:VEVENT
DTSTART;TZID=America/Chicago:20260509T083000
DTEND;TZID=America/Chicago:20260509T093000
DTSTAMP:20260424T045337
CREATED:20220925T214224Z
LAST-MODIFIED:20230921T134939Z
UID:10016502-1778315400-1778319000@gslcwi.com
SUMMARY:Men's Bible Study Zoom
DESCRIPTION:A small group bible study and fellowship group.
URL:https://gslcwi.com/event/mens-bible-study-zoom-74/2026-05-09/
LOCATION:Zoom Meeting
CATEGORIES:Bible Study,Men's Ministry
ORGANIZER;CN="Vern Andren":MAILTO:vwacja12@outlook.com
END:VEVENT
BEGIN:VEVENT
DTSTART;TZID=America/Chicago:20260510T090000
DTEND;TZID=America/Chicago:20260510T100000
DTSTAMP:20260424T045337
CREATED:20240609T130655Z
LAST-MODIFIED:20240926T161612Z
UID:10013833-1778403600-1778407200@gslcwi.com
SUMMARY:9:00 a.m. Worship Service
DESCRIPTION:You’re invited to the intersection of Whitney Way and Raymond Road for a morning of worship with traditional Lutheran textures and rhythms.
URL:https://gslcwi.com/event/900-worship-service-24-13-2-7/2026-05-10/
LOCATION:Madison Sanctuary
CATEGORIES:Worship
ATTACH;FMTTYPE=image/jpeg:https://gslcwi.com/wp-content/uploads/2024/05/9am2.jpg
END:VEVENT
BEGIN:VEVENT
DTSTART;TZID=America/Chicago:20260510T090000
DTEND;TZID=America/Chicago:20260510T100000
DTSTAMP:20260424T045337
CREATED:20260404T160744Z
LAST-MODIFIED:20260418T153524Z
UID:10025706-1778403600-1778407200@gslcwi.com
SUMMARY:Madison Church Service
DESCRIPTION:Pr. Craig
URL:https://gslcwi.com/event/madison-church-service-70/
LOCATION:Madison Sanctuary; Madison Lobby
END:VEVENT
BEGIN:VEVENT
DTSTART;TZID=America/Chicago:20260510T100000
DTEND;TZID=America/Chicago:20260510T110000
DTSTAMP:20260424T045337
CREATED:20240610T203803Z
LAST-MODIFIED:20240610T203803Z
UID:10020223-1778407200-1778410800@gslcwi.com
SUMMARY:10:00 a.m. Worship Service
DESCRIPTION:Join us on County Highway PD in Verona for morning Worship service featuring modern expressions of praise and prayer anchored by foundational traditions.
URL:https://gslcwi.com/event/1000-a-m-worship-service/2026-05-10/
LOCATION:Good Shepherd Verona Campus\, 7291 County Road PD\, Verona\, WI\, 53593\, United States
CATEGORIES:Worship
ATTACH;FMTTYPE=image/jpeg:https://gslcwi.com/wp-content/uploads/2024/06/10_am_worship_verona.jpg
ORGANIZER;CN="Jared Stellmacher":MAILTO:jstellmacher@gslcwi.com
END:VEVENT
BEGIN:VEVENT
DTSTART;TZID=America/Chicago:20260510T100000
DTEND;TZID=America/Chicago:20260510T110000
DTSTAMP:20260424T045337
CREATED:20260404T160744Z
LAST-MODIFIED:20260418T153524Z
UID:10025707-1778407200-1778410800@gslcwi.com
SUMMARY:Verona Worship Service
DESCRIPTION:Pr. Craig
URL:https://gslcwi.com/event/verona-worship-service-71/
LOCATION:Verona Sanctuary; Verona Lobby
END:VEVENT
BEGIN:VEVENT
DTSTART;TZID=America/Chicago:20260510T120000
DTEND;TZID=America/Chicago:20260510T160000
DTSTAMP:20260424T045337
CREATED:20260404T161227Z
LAST-MODIFIED:20260418T153957Z
UID:10025713-1778414400-1778428800@gslcwi.com
SUMMARY:Iglesia evangelica el remanente
DESCRIPTION:Juan\, alcaconstruction@yahoo.com\nRT\nNelsy Palma nelsypalma24@gmail.com\nMisael Gamez misaelgamezguti@gmail.com
URL:https://gslcwi.com/event/iglesia-evangelica-el-remanente-300/
LOCATION:Madison Peterson Hall
END:VEVENT
BEGIN:VEVENT
DTSTART;TZID=America/Chicago:20260510T120000
DTEND;TZID=America/Chicago:20260510T170000
DTSTAMP:20260424T045337
CREATED:20220925T214225Z
LAST-MODIFIED:20230307T202102Z
UID:10017670-1778414400-1778432400@gslcwi.com
SUMMARY:Pickleball
DESCRIPTION:
URL:https://gslcwi.com/event/pickleball-81/2026-05-10/
LOCATION:Verona Gym
CATEGORIES:Sports,Verona Gym
ATTACH;FMTTYPE=image/jpeg:https://gslcwi.com/wp-content/uploads/2023/02/pickleball2-1.jpg
END:VEVENT
BEGIN:VEVENT
DTSTART;TZID=America/Chicago:20260510T130000
DTEND;TZID=America/Chicago:20260510T150000
DTSTAMP:20260424T045337
CREATED:20260404T161224Z
LAST-MODIFIED:20260418T153957Z
UID:10025709-1778418000-1778425200@gslcwi.com
SUMMARY:VASA
DESCRIPTION:Rollie Littlewood rklittle@gmail.com\n    (608)273-0211
URL:https://gslcwi.com/event/vasa-9/
LOCATION:Madison Good Shepherd Room
END:VEVENT
BEGIN:VEVENT
DTSTART;TZID=America/Chicago:20260510T130000
DTEND;TZID=America/Chicago:20260510T170000
DTSTAMP:20260424T045337
CREATED:20260404T161225Z
LAST-MODIFIED:20260418T153957Z
UID:10025711-1778418000-1778432400@gslcwi.com
SUMMARY:Pickleball
DESCRIPTION:Phyllis Wiederhoeft\npwiederhoeft@gmail.com
URL:https://gslcwi.com/event/pickleball-365/
LOCATION:Verona Gym
END:VEVENT
BEGIN:VEVENT
DTSTART;TZID=America/Chicago:20260510T140000
DTEND;TZID=America/Chicago:20260510T153000
DTSTAMP:20260424T045337
CREATED:20260404T160744Z
LAST-MODIFIED:20260418T153957Z
UID:10025708-1778421600-1778427000@gslcwi.com
SUMMARY:Girl Scouts
DESCRIPTION:Sara Powers sapowers09@gmail.com
URL:https://gslcwi.com/event/girl-scouts-253/
LOCATION:Madison Room 11/The Sheep Fold
END:VEVENT
BEGIN:VEVENT
DTSTART;TZID=America/Chicago:20260510T153000
DTEND;TZID=America/Chicago:20260510T180000
DTSTAMP:20260424T045337
CREATED:20260404T161226Z
LAST-MODIFIED:20260418T153957Z
UID:10025712-1778427000-1778436000@gslcwi.com
SUMMARY:Faith of Christ Church
DESCRIPTION:Gorge Garcia\, gorgegarcia613@yahoo.com
URL:https://gslcwi.com/event/faith-of-christ-church-272/
LOCATION:Madison Room 11/The Sheep Fold
END:VEVENT
BEGIN:VEVENT
DTSTART;TZID=America/Chicago:20260510T160000
DTEND;TZID=America/Chicago:20260510T173000
DTSTAMP:20260424T045337
CREATED:20260404T161225Z
LAST-MODIFIED:20260418T154440Z
UID:10025710-1778428800-1778434200@gslcwi.com
SUMMARY:Verona 4-H
DESCRIPTION:Laura Smith lsmith@oak.bank
URL:https://gslcwi.com/event/verona-4-h-9/
LOCATION:Verona Fellowship Hall
END:VEVENT
BEGIN:VEVENT
DTSTART;TZID=America/Chicago:20260510T180000
DTEND;TZID=America/Chicago:20260510T190000
DTSTAMP:20260424T045337
CREATED:20240925T155628Z
LAST-MODIFIED:20240925T155628Z
UID:10021209-1778436000-1778439600@gslcwi.com
SUMMARY:6:00 p.m. Worship Service
DESCRIPTION:A worship service with evening rhythms for song\, prayer\, and reflection rooted in ancient practices and present day cares & concerns.
URL:https://gslcwi.com/event/600-p-m-worship-service/2026-05-10/
LOCATION:Good Shepherd Verona Campus\, 7291 County Road PD\, Verona\, WI\, 53593\, United States
CATEGORIES:Worship
ATTACH;FMTTYPE=image/jpeg:https://gslcwi.com/wp-content/uploads/2024/09/6pmw2-1.jpg
ORGANIZER;CN="Jared Stellmacher":MAILTO:jstellmacher@gslcwi.com
END:VEVENT
BEGIN:VEVENT
DTSTART;TZID=America/Chicago:20260510T180000
DTEND;TZID=America/Chicago:20260510T190000
DTSTAMP:20260424T045337
CREATED:20260411T154647Z
LAST-MODIFIED:20260418T154441Z
UID:10025737-1778436000-1778439600@gslcwi.com
SUMMARY:6:00 Worship Service
DESCRIPTION:________________________________________________________________________________\nMicrosoft Teams Need help?\nJoin the meeting now\nMeeting ID: 242 838 998 615 7\nPasscode: 9VG9JP66\n________________________________\nFor organizers: Meeting options\n________________________________________________________________________________
URL:https://gslcwi.com/event/600-worship-service-69/
LOCATION:Verona Lobby; Verona Sanctuary
END:VEVENT
BEGIN:VEVENT
DTSTART;TZID=America/Chicago:20260511T083000
DTEND;TZID=America/Chicago:20260511T100000
DTSTAMP:20260424T045337
CREATED:20260411T154648Z
LAST-MODIFIED:20260418T154441Z
UID:10025738-1778488200-1778493600@gslcwi.com
SUMMARY:Clothes Closet Sorters
DESCRIPTION:Courtnety
URL:https://gslcwi.com/event/clothes-closet-sorters-56/
LOCATION:Madison Peterson Hall
END:VEVENT
BEGIN:VEVENT
DTSTART;TZID=America/Chicago:20260511T090000
DTEND;TZID=America/Chicago:20260511T110000
DTSTAMP:20260424T045337
CREATED:20260411T155136Z
LAST-MODIFIED:20260418T154920Z
UID:10025741-1778490000-1778497200@gslcwi.com
SUMMARY:Ruth Circle
DESCRIPTION:Brent / Polly\n________________________________________________________________________________\nMicrosoft Teams Need help?\nJoin the meeting now\nMeeting ID: 231 318 037 012\nPasscode: zkWPHb\n________________________________\nFor organizers: Meeting options\n________________________________________________________________________________
URL:https://gslcwi.com/event/ruth-circle-53/
LOCATION:Madison Good Shepherd Room
END:VEVENT
BEGIN:VEVENT
DTSTART;TZID=America/Chicago:20260511T100000
DTEND;TZID=America/Chicago:20260511T160000
DTSTAMP:20260424T045337
CREATED:20260411T154649Z
LAST-MODIFIED:20260423T204532Z
UID:10025740-1778493600-1778515200@gslcwi.com
SUMMARY:Holy COW at Meadowood Health Partnership
DESCRIPTION:Meadowood Health & Resource Fair \nWhen: Monday\, May 11 at 10:00 a.m. Where: 5902 Raymond Road \nA free event bringing together organizations from across Madison to offer health screenings\, family supports\, wellness activities and connections to local programs. The Holy COW will be serving lunch at the event from 11:00-1:00. \n  \nRT/ Sheray
URL:https://gslcwi.com/event/holy-cow-at-meadowood-health-partnership/
LOCATION:Food Cart Event
END:VEVENT
BEGIN:VEVENT
DTSTART;TZID=America/Chicago:20260511T104500
DTEND;TZID=America/Chicago:20260511T114500
DTSTAMP:20260424T045337
CREATED:20260411T154648Z
LAST-MODIFIED:20260418T154441Z
UID:10025739-1778496300-1778499900@gslcwi.com
SUMMARY:ACM Program Committee
DESCRIPTION:Jared\n________________________________________________________________________________\nMicrosoft Teams Need help?\nJoin the meeting now\nMeeting ID: 246 849 161 092 5\nPasscode: 2RT2793w\n________________________________\nFor organizers: Meeting options\n________________________________________________________________________________
URL:https://gslcwi.com/event/acm-program-committee-22/
LOCATION:Madison Lobby
END:VEVENT
BEGIN:VEVENT
DTSTART;TZID=America/Chicago:20260511T120000
DTEND;TZID=America/Chicago:20260511T130000
DTSTAMP:20260424T045337
CREATED:20260411T155136Z
LAST-MODIFIED:20260418T154920Z
UID:10025742-1778500800-1778504400@gslcwi.com
SUMMARY:ACM Board Meeting
DESCRIPTION:Jared
URL:https://gslcwi.com/event/acm-board-meeting-10/
LOCATION:Madison Good Shepherd Room
END:VEVENT
BEGIN:VEVENT
DTSTART;TZID=America/Chicago:20260511T160000
DTEND;TZID=America/Chicago:20260511T173000
DTSTAMP:20260424T045337
CREATED:20220923T135855Z
LAST-MODIFIED:20230913T194729Z
UID:10015612-1778515200-1778520600@gslcwi.com
SUMMARY:Literacy Network
DESCRIPTION:
URL:https://gslcwi.com/event/literacy-network-40/2026-05-11/
LOCATION:Madison Room 11/The Sheep Fold; Madison Room 9
CATEGORIES:Community Event
END:VEVENT
BEGIN:VEVENT
DTSTART;TZID=America/Chicago:20260511T163000
DTEND;TZID=America/Chicago:20260511T173000
DTSTAMP:20260424T045337
CREATED:20260411T155138Z
LAST-MODIFIED:20260418T154921Z
UID:10025744-1778517000-1778520600@gslcwi.com
SUMMARY:Facilities Fund Sub Committee Meeting (Tentative)
DESCRIPTION:________________________________________________________________________________\nMicrosoft Teams meeting\nJoin: https://teams.microsoft.com/meet/21208695416390?p=CsNCHxlmOCtY1dyYbE\nMeeting ID: 212 086 954 163 90\nPasscode: tc9Dp6G7\n________________________________\nNeed help? | System reference\nFor organizers: Meeting options\n________________________________________________________________________________
URL:https://gslcwi.com/event/facilities-fund-sub-committee-meeting-tentative/
LOCATION:Madison Room 6
END:VEVENT
BEGIN:VEVENT
DTSTART;TZID=America/Chicago:20260511T173000
DTEND;TZID=America/Chicago:20260511T190000
DTSTAMP:20260424T045337
CREATED:20260411T155137Z
LAST-MODIFIED:20260418T154921Z
UID:10025743-1778520600-1778526000@gslcwi.com
SUMMARY:Girl Scouts
DESCRIPTION:Kim Cleveland 763-300-2363\n________________________________________________________________________________\nMicrosoft Teams Need help?\nJoin the meeting now\nMeeting ID: 228 777 967 663 32\nPasscode: Ks7n2Jj7\n________________________________\nFor organizers: Meeting options\n________________________________________________________________________________
URL:https://gslcwi.com/event/girl-scouts-254/
LOCATION:Verona Fellowship Hall
END:VEVENT
BEGIN:VEVENT
DTSTART;TZID=America/Chicago:20260511T180000
DTEND;TZID=America/Chicago:20260511T190000
DTSTAMP:20260424T045337
CREATED:20260411T155138Z
LAST-MODIFIED:20260418T154921Z
UID:10025745-1778522400-1778526000@gslcwi.com
SUMMARY:Webelos
DESCRIPTION:Kyle Davis\, anthem1@gmail.com
URL:https://gslcwi.com/event/webelos-12/
LOCATION:Verona Room 6
END:VEVENT
BEGIN:VEVENT
DTSTART;TZID=America/Chicago:20260511T180000
DTEND;TZID=America/Chicago:20260511T203000
DTSTAMP:20260424T045337
CREATED:20260314T152726Z
LAST-MODIFIED:20260418T155412Z
UID:10025541-1778522400-1778531400@gslcwi.com
SUMMARY:Grace Connection
DESCRIPTION:Holly Simon\, hollyjsimon@gmail.com
URL:https://gslcwi.com/event/grace-connection/
LOCATION:Verona Coffee Bar
END:VEVENT
BEGIN:VEVENT
DTSTART;TZID=America/Chicago:20260511T180000
DTEND;TZID=America/Chicago:20260511T203000
DTSTAMP:20260424T045337
CREATED:20260411T155616Z
LAST-MODIFIED:20260418T155412Z
UID:10025747-1778522400-1778531400@gslcwi.com
SUMMARY:Grace Collective
DESCRIPTION:Holly Simon\, hollyjsimon@gmail.com
URL:https://gslcwi.com/event/grace-collective-11/
LOCATION:Verona Sanctuary
END:VEVENT
BEGIN:VEVENT
DTSTART;TZID=America/Chicago:20260511T183000
DTEND;TZID=America/Chicago:20260511T200000
DTSTAMP:20260424T045337
CREATED:20260411T155616Z
LAST-MODIFIED:20260418T155411Z
UID:10025746-1778524200-1778529600@gslcwi.com
SUMMARY:Finance Committee Meeting
DESCRIPTION:________________________________________________________________________________\nMicrosoft Teams meeting\nJoin: https://teams.microsoft.com/meet/23566615288812?p=gDiZpMaxlwZgYOS7XE\nMeeting ID: 235 666 152 888 12\nPasscode: Qo7Uj6SU\n________________________________\nNeed help? | System reference\nFor organizers: Meeting options\n________________________________________________________________________________
URL:https://gslcwi.com/event/finance-committee-meeting-6/
LOCATION:Madison Good Shepherd Room
END:VEVENT
END:VCALENDAR