BEGIN:VCALENDAR
VERSION:2.0
PRODID:-//Good Shepherd Lutheran Church - ECPv6.15.20//NONSGML v1.0//EN
CALSCALE:GREGORIAN
METHOD:PUBLISH
X-WR-CALNAME:Good Shepherd Lutheran Church
X-ORIGINAL-URL:https://gslcwi.com
X-WR-CALDESC:Events for Good Shepherd Lutheran Church
REFRESH-INTERVAL;VALUE=DURATION:PT1H
X-Robots-Tag:noindex
X-PUBLISHED-TTL:PT1H
BEGIN:VTIMEZONE
TZID:America/Chicago
BEGIN:DAYLIGHT
TZOFFSETFROM:-0600
TZOFFSETTO:-0500
TZNAME:CDT
DTSTART:20210314T080000
END:DAYLIGHT
BEGIN:STANDARD
TZOFFSETFROM:-0500
TZOFFSETTO:-0600
TZNAME:CST
DTSTART:20211107T070000
END:STANDARD
BEGIN:DAYLIGHT
TZOFFSETFROM:-0600
TZOFFSETTO:-0500
TZNAME:CDT
DTSTART:20220313T080000
END:DAYLIGHT
BEGIN:STANDARD
TZOFFSETFROM:-0500
TZOFFSETTO:-0600
TZNAME:CST
DTSTART:20221106T070000
END:STANDARD
BEGIN:DAYLIGHT
TZOFFSETFROM:-0600
TZOFFSETTO:-0500
TZNAME:CDT
DTSTART:20230312T080000
END:DAYLIGHT
BEGIN:STANDARD
TZOFFSETFROM:-0500
TZOFFSETTO:-0600
TZNAME:CST
DTSTART:20231105T070000
END:STANDARD
END:VTIMEZONE
BEGIN:VEVENT
DTSTART;TZID=America/Chicago:20220126T200000
DTEND;TZID=America/Chicago:20220126T213000
DTSTAMP:20260420T085346
CREATED:20220113T174153Z
LAST-MODIFIED:20220126T024856Z
UID:10008432-1643227200-1643232600@gslcwi.com
SUMMARY:Volleyball
DESCRIPTION:
URL:https://gslcwi.com/event/volleyball-3/
LOCATION:Verona Gym
END:VEVENT
BEGIN:VEVENT
DTSTART;TZID=America/Chicago:20220127T100000
DTEND;TZID=America/Chicago:20220127T120000
DTSTAMP:20260420T085346
CREATED:20220102T024912Z
LAST-MODIFIED:20220126T024857Z
UID:10008368-1643277600-1643284800@gslcwi.com
SUMMARY:GSLC Food Pantry
DESCRIPTION:
URL:https://gslcwi.com/event/gslc-food-pantry-37/
LOCATION:Madison Lobby
END:VEVENT
BEGIN:VEVENT
DTSTART;TZID=America/Chicago:20220127T100000
DTEND;TZID=America/Chicago:20220127T120000
DTSTAMP:20260420T085346
CREATED:20220102T024913Z
LAST-MODIFIED:20220126T024857Z
UID:10008369-1643277600-1643284800@gslcwi.com
SUMMARY:Clothes Closet
DESCRIPTION:
URL:https://gslcwi.com/event/clothes-closet-73/
LOCATION:Madison Room 6
END:VEVENT
BEGIN:VEVENT
DTSTART;TZID=America/Chicago:20220127T163000
DTEND;TZID=America/Chicago:20220127T213000
DTSTAMP:20260420T085346
CREATED:20220102T024913Z
LAST-MODIFIED:20220126T024857Z
UID:10008371-1643301000-1643319000@gslcwi.com
SUMMARY:Beaton Volleyball
DESCRIPTION:
URL:https://gslcwi.com/event/beaton-volleyball-67/
LOCATION:Verona Gym
END:VEVENT
BEGIN:VEVENT
DTSTART;TZID=America/Chicago:20220127T173000
DTEND;TZID=America/Chicago:20220127T190000
DTSTAMP:20260420T085346
CREATED:20220102T024913Z
LAST-MODIFIED:20220126T054814Z
UID:10008370-1643304600-1643310000@gslcwi.com
SUMMARY:GSLC Food Pantrty
DESCRIPTION:
URL:https://gslcwi.com/event/gslc-food-pantrty-37/
LOCATION:Madison Lobby
END:VEVENT
BEGIN:VEVENT
DTSTART;TZID=America/Chicago:20220127T173000
DTEND;TZID=America/Chicago:20220127T190000
DTSTAMP:20260420T085346
CREATED:20220102T024915Z
LAST-MODIFIED:20220126T054814Z
UID:10008374-1643304600-1643310000@gslcwi.com
SUMMARY:Clothes Closet
DESCRIPTION:
URL:https://gslcwi.com/event/clothes-closet-74/
LOCATION:Madison Room 6
END:VEVENT
BEGIN:VEVENT
DTSTART;TZID=America/Chicago:20220127T180000
DTEND;TZID=America/Chicago:20220127T200000
DTSTAMP:20260420T085346
CREATED:20220102T024914Z
LAST-MODIFIED:20220126T054814Z
UID:10008372-1643306400-1643313600@gslcwi.com
SUMMARY:Iglesia evangelica el remanente
DESCRIPTION:
URL:https://gslcwi.com/event/iglesia-evangelica-el-remanente-20/
LOCATION:Madison Music Room
END:VEVENT
BEGIN:VEVENT
DTSTART;TZID=America/Chicago:20220127T190000
DTEND;TZID=America/Chicago:20220127T210000
DTSTAMP:20260420T085346
CREATED:20220102T024914Z
LAST-MODIFIED:20220126T054813Z
UID:10008373-1643310000-1643317200@gslcwi.com
SUMMARY:Iglesia Pentecostal
DESCRIPTION:
URL:https://gslcwi.com/event/iglesia-pentecostal-13/
LOCATION:Madison Sanctuary; Madison Room 7; Madison Room 8; Madison Room 9
END:VEVENT
BEGIN:VEVENT
DTSTART;TZID=America/Chicago:20220127T190000
DTEND;TZID=America/Chicago:20220127T210000
DTSTAMP:20260420T085346
CREATED:20220102T024915Z
LAST-MODIFIED:20220126T024857Z
UID:10008375-1643310000-1643317200@gslcwi.com
SUMMARY:Echoes of Grace Rehearsal
DESCRIPTION:
URL:https://gslcwi.com/event/echoes-of-grace-rehearsal-31/
LOCATION:Verona Sanctuary
END:VEVENT
BEGIN:VEVENT
DTSTART;TZID=America/Chicago:20220127T193000
DTEND;TZID=America/Chicago:20220127T203000
DTSTAMP:20260420T085346
CREATED:20220120T210313Z
LAST-MODIFIED:20220120T210314Z
UID:10008537-1643311800-1643315400@gslcwi.com
SUMMARY:Beer & Bibles
DESCRIPTION:Dust off your bible and grab a favorite cold beverage as Good Shepherd’s Men’s Ministry gathers for the first Beer and Bible group of 2022. Our first meeting will kick-off virtually\, but we plan to once again meet in a local establishment for fellowship\, faith questions and conversation.  Look for a ZOOM link in eNews or send an e-mail to Eric to get connected – see you there!
URL:https://gslcwi.com/event/beer-bibles/
LOCATION:Zoom Meeting
CATEGORIES:Adult Education,Men's Ministry
ATTACH;FMTTYPE=image/jpeg:https://gslcwi.com/wp-content/uploads/2022/01/BeerBibles.jpg
ORGANIZER;CN="Eric Holmer":MAILTO:eholmer@gslcwi.com
END:VEVENT
BEGIN:VEVENT
DTSTART;TZID=America/Chicago:20220128T063000
DTEND;TZID=America/Chicago:20220128T073000
DTSTAMP:20260420T085346
CREATED:20220102T024916Z
LAST-MODIFIED:20220126T054814Z
UID:10008376-1643351400-1643355000@gslcwi.com
SUMMARY:Friday Morning Men's Group
DESCRIPTION:
URL:https://gslcwi.com/event/friday-morning-mens-group-37/
LOCATION:Verona Coffee Bar
END:VEVENT
BEGIN:VEVENT
DTSTART;TZID=America/Chicago:20220128T093000
DTEND;TZID=America/Chicago:20220128T130000
DTSTAMP:20260420T085346
CREATED:20220102T024916Z
LAST-MODIFIED:20220128T173716Z
UID:10008377-1643362200-1643374800@gslcwi.com
SUMMARY:New Bridge Meals
DESCRIPTION:
URL:https://gslcwi.com/event/new-bridge-meals-39/
LOCATION:Madison Kitchen; Madison Peterson Hall
END:VEVENT
BEGIN:VEVENT
DTSTART;TZID=America/Chicago:20220128T170000
DTEND;TZID=America/Chicago:20220128T180000
DTSTAMP:20260420T085346
CREATED:20220113T202912Z
LAST-MODIFIED:20220128T173716Z
UID:10008433-1643389200-1643392800@gslcwi.com
SUMMARY:Track Pickup
DESCRIPTION:
URL:https://gslcwi.com/event/track-pickup/
LOCATION:Verona Sanctuary
END:VEVENT
BEGIN:VEVENT
DTSTART;TZID=America/Chicago:20220129T080000
DTEND;TZID=America/Chicago:20220129T090000
DTSTAMP:20260420T085346
CREATED:20220102T024917Z
LAST-MODIFIED:20220129T035307Z
UID:10008379-1643443200-1643446800@gslcwi.com
SUMMARY:Men's Bible Study Zoom
DESCRIPTION:
URL:https://gslcwi.com/event/mens-bible-study-zoom-37/
LOCATION:Zoom Meeting
END:VEVENT
BEGIN:VEVENT
DTSTART;TZID=America/Chicago:20220129T090000
DTEND;TZID=America/Chicago:20220129T100000
DTSTAMP:20260420T085346
CREATED:20220102T024917Z
LAST-MODIFIED:20220113T202912Z
UID:10008381-1643446800-1643450400@gslcwi.com
SUMMARY:Holy Yoga
DESCRIPTION:
URL:https://gslcwi.com/event/holy-yoga-12/
LOCATION:Verona Lobby
END:VEVENT
BEGIN:VEVENT
DTSTART;TZID=America/Chicago:20220129T090000
DTEND;TZID=America/Chicago:20220129T150000
DTSTAMP:20260420T085346
CREATED:20220102T024916Z
LAST-MODIFIED:20220129T035306Z
UID:10008378-1643446800-1643468400@gslcwi.com
SUMMARY:Russian School
DESCRIPTION:
URL:https://gslcwi.com/event/russian-school-18/
LOCATION:Verona Fellowship Hall; Verona Kitchen; Verona Room 11; Verona Room 7; Verona Room 6; Verona Room 5
END:VEVENT
BEGIN:VEVENT
DTSTART;TZID=America/Chicago:20220129T100000
DTEND;TZID=America/Chicago:20220129T120000
DTSTAMP:20260420T085346
CREATED:20220102T024917Z
LAST-MODIFIED:20220129T035307Z
UID:10008380-1643450400-1643457600@gslcwi.com
SUMMARY:Bhutanese Youth Group
DESCRIPTION:
URL:https://gslcwi.com/event/bhutanese-youth-group-23/
LOCATION:Madison Music Room
END:VEVENT
BEGIN:VEVENT
DTSTART;TZID=America/Chicago:20220130T103000
DTEND;TZID=America/Chicago:20220130T113000
DTSTAMP:20260420T085346
CREATED:20220102T024918Z
LAST-MODIFIED:20220129T035307Z
UID:10008382-1643538600-1643542200@gslcwi.com
SUMMARY:Verona 10:30 Worship
DESCRIPTION:
URL:https://gslcwi.com/event/verona-1030-worship-21/
LOCATION:Verona Sanctuary
END:VEVENT
BEGIN:VEVENT
DTSTART;TZID=America/Chicago:20220130T103000
DTEND;TZID=America/Chicago:20220130T133000
DTSTAMP:20260420T085346
CREATED:20220102T024918Z
LAST-MODIFIED:20220129T035308Z
UID:10008384-1643538600-1643549400@gslcwi.com
SUMMARY:Bhutanese Worship
DESCRIPTION:
URL:https://gslcwi.com/event/bhutanese-worship-22/
LOCATION:Madison Music Room
END:VEVENT
BEGIN:VEVENT
DTSTART;TZID=America/Chicago:20220130T130000
DTEND;TZID=America/Chicago:20220130T150000
DTSTAMP:20260420T085346
CREATED:20220102T024918Z
LAST-MODIFIED:20220129T035308Z
UID:10008383-1643547600-1643554800@gslcwi.com
SUMMARY:Iglesia evangelica el remanente
DESCRIPTION:
URL:https://gslcwi.com/event/iglesia-evangelica-el-remanente-21/
LOCATION:Madison Peterson Hall
END:VEVENT
BEGIN:VEVENT
DTSTART;TZID=America/Chicago:20220130T130000
DTEND;TZID=America/Chicago:20220130T170000
DTSTAMP:20260420T085346
CREATED:20220102T024919Z
LAST-MODIFIED:20220129T035308Z
UID:10008387-1643547600-1643562000@gslcwi.com
SUMMARY:Pickleball
DESCRIPTION:
URL:https://gslcwi.com/event/pickleball-28/
LOCATION:Verona Gym
END:VEVENT
BEGIN:VEVENT
DTSTART;TZID=America/Chicago:20220130T170000
DTEND;TZID=America/Chicago:20220130T210000
DTSTAMP:20260420T085346
CREATED:20220102T024919Z
LAST-MODIFIED:20220129T035308Z
UID:10008386-1643562000-1643576400@gslcwi.com
SUMMARY:Iglesia Pentecostal
DESCRIPTION:
URL:https://gslcwi.com/event/iglesia-pentecostal-14/
LOCATION:Madison Sanctuary
END:VEVENT
BEGIN:VEVENT
DTSTART;TZID=America/Chicago:20220130T180000
DTEND;TZID=America/Chicago:20220130T190000
DTSTAMP:20260420T085346
CREATED:20220102T024919Z
LAST-MODIFIED:20220129T035308Z
UID:10008388-1643565600-1643569200@gslcwi.com
SUMMARY:Verona 6:00 Worship
DESCRIPTION:
URL:https://gslcwi.com/event/verona-600-worship-21/
LOCATION:Verona Sanctuary
END:VEVENT
BEGIN:VEVENT
DTSTART;TZID=America/Chicago:20220131T100000
DTEND;TZID=America/Chicago:20220131T113000
DTSTAMP:20260420T085346
CREATED:20220121T151126Z
LAST-MODIFIED:20220131T125617Z
UID:10008538-1643623200-1643628600@gslcwi.com
SUMMARY:Planning Meeting
DESCRIPTION:
URL:https://gslcwi.com/event/planning-meeting/
LOCATION:Madison Good Shepherd Room
END:VEVENT
BEGIN:VEVENT
DTSTART;TZID=America/Chicago:20220131T100000
DTEND;TZID=America/Chicago:20220131T120000
DTSTAMP:20260420T085346
CREATED:20220102T024920Z
LAST-MODIFIED:20220131T125618Z
UID:10008389-1643623200-1643630400@gslcwi.com
SUMMARY:Playgroup
DESCRIPTION:
URL:https://gslcwi.com/event/playgroup-15/
LOCATION:Madison Little Blessings Preschool
END:VEVENT
BEGIN:VEVENT
DTSTART;TZID=America/Chicago:20220131T170000
DTEND;TZID=America/Chicago:20220131T210000
DTSTAMP:20260420T085346
CREATED:20220102T024920Z
LAST-MODIFIED:20220128T173719Z
UID:10008390-1643648400-1643662800@gslcwi.com
SUMMARY:Pickleball
DESCRIPTION:
URL:https://gslcwi.com/event/pickleball-29/
LOCATION:Verona Gym
END:VEVENT
BEGIN:VEVENT
DTSTART;TZID=America/Chicago:20220131T180000
DTEND;TZID=America/Chicago:20220131T200000
DTSTAMP:20260420T085346
CREATED:20220129T035309Z
LAST-MODIFIED:20220131T125618Z
UID:10008596-1643652000-1643659200@gslcwi.com
SUMMARY:Pickleball
DESCRIPTION:
URL:https://gslcwi.com/event/pickleball-38/
LOCATION:Verona Gym
END:VEVENT
BEGIN:VEVENT
DTSTART;TZID=America/Chicago:20220131T190000
DTEND;TZID=America/Chicago:20220131T210000
DTSTAMP:20260420T085346
CREATED:20220102T024920Z
LAST-MODIFIED:20220131T125618Z
UID:10008391-1643655600-1643662800@gslcwi.com
SUMMARY:Iglesia Pentecostal
DESCRIPTION:
URL:https://gslcwi.com/event/iglesia-pentecostal-15/
LOCATION:Madison Sanctuary
END:VEVENT
BEGIN:VEVENT
DTSTART;TZID=America/Chicago:20220201T163000
DTEND;TZID=America/Chicago:20220201T180000
DTSTAMP:20260420T085346
CREATED:20220102T024920Z
LAST-MODIFIED:20220201T102432Z
UID:10008392-1643733000-1643738400@gslcwi.com
SUMMARY:Daisy Troop 8131
DESCRIPTION:
URL:https://gslcwi.com/event/daisy-troop-8131-7/
LOCATION:Madison Room 6
END:VEVENT
BEGIN:VEVENT
DTSTART;TZID=America/Chicago:20220201T180000
DTEND;TZID=America/Chicago:20220201T200000
DTSTAMP:20260420T085346
CREATED:20220102T024921Z
LAST-MODIFIED:20220201T102432Z
UID:10008394-1643738400-1643745600@gslcwi.com
SUMMARY:Amped
DESCRIPTION:
URL:https://gslcwi.com/event/amped-37/
LOCATION:Madison Kitchen; Madison Lobby; Madison Peterson Hall; Madison Room 7; Madison Room 8; Madison Room 9; Madison Room 11/The Sheep Fold; Madison Good Shepherd Room
CATEGORIES:AMPED Confirmation
END:VEVENT
END:VCALENDAR