BEGIN:VCALENDAR
VERSION:2.0
PRODID:-//Good Shepherd Lutheran Church - ECPv6.15.20//NONSGML v1.0//EN
CALSCALE:GREGORIAN
METHOD:PUBLISH
X-WR-CALNAME:Good Shepherd Lutheran Church
X-ORIGINAL-URL:https://gslcwi.com
X-WR-CALDESC:Events for Good Shepherd Lutheran Church
REFRESH-INTERVAL;VALUE=DURATION:PT1H
X-Robots-Tag:noindex
X-PUBLISHED-TTL:PT1H
BEGIN:VTIMEZONE
TZID:America/Chicago
BEGIN:DAYLIGHT
TZOFFSETFROM:-0600
TZOFFSETTO:-0500
TZNAME:CDT
DTSTART:20210314T080000
END:DAYLIGHT
BEGIN:STANDARD
TZOFFSETFROM:-0500
TZOFFSETTO:-0600
TZNAME:CST
DTSTART:20211107T070000
END:STANDARD
BEGIN:DAYLIGHT
TZOFFSETFROM:-0600
TZOFFSETTO:-0500
TZNAME:CDT
DTSTART:20220313T080000
END:DAYLIGHT
BEGIN:STANDARD
TZOFFSETFROM:-0500
TZOFFSETTO:-0600
TZNAME:CST
DTSTART:20221106T070000
END:STANDARD
BEGIN:DAYLIGHT
TZOFFSETFROM:-0600
TZOFFSETTO:-0500
TZNAME:CDT
DTSTART:20230312T080000
END:DAYLIGHT
BEGIN:STANDARD
TZOFFSETFROM:-0500
TZOFFSETTO:-0600
TZNAME:CST
DTSTART:20231105T070000
END:STANDARD
END:VTIMEZONE
BEGIN:VEVENT
DTSTART;TZID=America/Chicago:20220811T173000
DTEND;TZID=America/Chicago:20220811T190000
DTSTAMP:20260420T090023
CREATED:20220419T141826Z
LAST-MODIFIED:20220811T030520Z
UID:10009249-1660239000-1660244400@gslcwi.com
SUMMARY:GSLC Food Pantrty
DESCRIPTION:
URL:https://gslcwi.com/event/gslc-food-pantrty-62/
LOCATION:Madison Lobby
END:VEVENT
BEGIN:VEVENT
DTSTART;TZID=America/Chicago:20220811T173000
DTEND;TZID=America/Chicago:20220811T190000
DTSTAMP:20260420T090023
CREATED:20220419T141826Z
LAST-MODIFIED:20220811T030521Z
UID:10009250-1660239000-1660244400@gslcwi.com
SUMMARY:Clothes Closet
DESCRIPTION:
URL:https://gslcwi.com/event/clothes-closet-123/
LOCATION:Madison Room 6
END:VEVENT
BEGIN:VEVENT
DTSTART;TZID=America/Chicago:20220811T180000
DTEND;TZID=America/Chicago:20220811T190000
DTSTAMP:20260420T090023
CREATED:20220419T141829Z
LAST-MODIFIED:20220811T030519Z
UID:10009254-1660240800-1660244400@gslcwi.com
SUMMARY:Inreach Committee
DESCRIPTION:
URL:https://gslcwi.com/event/inreach-committee-5/
LOCATION:Madison Good Shepherd Room
END:VEVENT
BEGIN:VEVENT
DTSTART;TZID=America/Chicago:20220811T180000
DTEND;TZID=America/Chicago:20220811T200000
DTSTAMP:20260420T090023
CREATED:20220724T094510Z
LAST-MODIFIED:20220811T030540Z
UID:10009574-1660240800-1660248000@gslcwi.com
SUMMARY:Adams Volleyball
DESCRIPTION:
URL:https://gslcwi.com/event/adams-volleyball-19/
LOCATION:Verona Gym
END:VEVENT
BEGIN:VEVENT
DTSTART;TZID=America/Chicago:20220811T180000
DTEND;TZID=America/Chicago:20220811T200000
DTSTAMP:20260420T090023
CREATED:20220806T012954Z
LAST-MODIFIED:20220811T030521Z
UID:10009673-1660240800-1660248000@gslcwi.com
SUMMARY:Generosity Committee
DESCRIPTION:
URL:https://gslcwi.com/event/generosity-committee-8/
LOCATION:Madison Room 6
END:VEVENT
BEGIN:VEVENT
DTSTART;TZID=America/Chicago:20220811T200000
DTEND;TZID=America/Chicago:20220811T220000
DTSTAMP:20260420T090023
CREATED:20220811T030539Z
LAST-MODIFIED:20220811T030539Z
UID:10009693-1660248000-1660255200@gslcwi.com
SUMMARY:Ignite Volleyball
DESCRIPTION:
URL:https://gslcwi.com/event/ignite-volleyball-20/
LOCATION:Verona Gym
END:VEVENT
BEGIN:VEVENT
DTSTART;TZID=America/Chicago:20220812T063000
DTEND;TZID=America/Chicago:20220812T073000
DTSTAMP:20260420T090023
CREATED:20220419T141830Z
LAST-MODIFIED:20220812T031806Z
UID:10009255-1660285800-1660289400@gslcwi.com
SUMMARY:Friday Morning Men's Group
DESCRIPTION:
URL:https://gslcwi.com/event/friday-morning-mens-group-62/
LOCATION:Verona Coffee Bar
END:VEVENT
BEGIN:VEVENT
DTSTART;TZID=America/Chicago:20220812T070000
DTEND;TZID=America/Chicago:20220812T220000
DTSTAMP:20260420T090023
CREATED:20220419T141831Z
LAST-MODIFIED:20220812T031805Z
UID:10009256-1660287600-1660341600@gslcwi.com
SUMMARY:Intern Room
DESCRIPTION:
URL:https://gslcwi.com/event/intern-room-67/
LOCATION:Verona Room 7
END:VEVENT
BEGIN:VEVENT
DTSTART;TZID=America/Chicago:20220812T090000
DTEND;TZID=America/Chicago:20220812T110000
DTSTAMP:20260420T090023
CREATED:20220812T031805Z
LAST-MODIFIED:20220812T031805Z
UID:10009695-1660294800-1660302000@gslcwi.com
SUMMARY:Barth Gym
DESCRIPTION:
URL:https://gslcwi.com/event/barth-gym-2/
LOCATION:Verona Gym
END:VEVENT
BEGIN:VEVENT
DTSTART;TZID=America/Chicago:20220812T093000
DTEND;TZID=America/Chicago:20220812T130000
DTSTAMP:20260420T090023
CREATED:20220724T094531Z
LAST-MODIFIED:20220812T031806Z
UID:10009576-1660296600-1660309200@gslcwi.com
SUMMARY:New Bridge Meals
DESCRIPTION:
URL:https://gslcwi.com/event/new-bridge-meals-63/
LOCATION:Madison Kitchen; Madison Peterson Hall
END:VEVENT
BEGIN:VEVENT
DTSTART;TZID=America/Chicago:20220812T170000
DTEND;TZID=America/Chicago:20220812T190000
DTSTAMP:20260420T090023
CREATED:20220811T030541Z
LAST-MODIFIED:20220812T031807Z
UID:10009694-1660323600-1660330800@gslcwi.com
SUMMARY:Ignite Volleyball
DESCRIPTION:
URL:https://gslcwi.com/event/ignite-volleyball-21/
LOCATION:Verona Gym
END:VEVENT
BEGIN:VEVENT
DTSTART;TZID=America/Chicago:20220813T070000
DTEND;TZID=America/Chicago:20220813T220000
DTSTAMP:20260420T090023
CREATED:20220419T141846Z
LAST-MODIFIED:20220813T033702Z
UID:10009259-1660374000-1660428000@gslcwi.com
SUMMARY:Intern Room
DESCRIPTION:
URL:https://gslcwi.com/event/intern-room-68/
LOCATION:Verona Room 7
END:VEVENT
BEGIN:VEVENT
DTSTART;TZID=America/Chicago:20220813T080000
DTEND;TZID=America/Chicago:20220813T090000
DTSTAMP:20260420T090023
CREATED:20220419T141832Z
LAST-MODIFIED:20220813T033702Z
UID:10009257-1660377600-1660381200@gslcwi.com
SUMMARY:Men's Bible Study Zoom
DESCRIPTION:
URL:https://gslcwi.com/event/mens-bible-study-zoom-62/
LOCATION:Zoom Meeting
END:VEVENT
BEGIN:VEVENT
DTSTART;TZID=America/Chicago:20220813T090000
DTEND;TZID=America/Chicago:20220813T123000
DTSTAMP:20260420T090023
CREATED:20220724T094534Z
LAST-MODIFIED:20220813T033701Z
UID:10009577-1660381200-1660393800@gslcwi.com
SUMMARY:Merit Badge Session
DESCRIPTION:
URL:https://gslcwi.com/event/merit-badge-session/
LOCATION:Verona Fellowship Hall
END:VEVENT
BEGIN:VEVENT
DTSTART;TZID=America/Chicago:20220813T113000
DTEND;TZID=America/Chicago:20220813T133000
DTSTAMP:20260420T090023
CREATED:20220419T141833Z
LAST-MODIFIED:20220813T033702Z
UID:10009258-1660390200-1660397400@gslcwi.com
SUMMARY:Leadership Training
DESCRIPTION:
URL:https://gslcwi.com/event/leadership-training-3/
LOCATION:Madison Peterson Hall
END:VEVENT
BEGIN:VEVENT
DTSTART;TZID=America/Chicago:20220814T070000
DTEND;TZID=America/Chicago:20220814T220000
DTSTAMP:20260420T090023
CREATED:20220419T141849Z
LAST-MODIFIED:20220814T052735Z
UID:10009262-1660460400-1660514400@gslcwi.com
SUMMARY:Intern Room
DESCRIPTION:
URL:https://gslcwi.com/event/intern-room-69/
LOCATION:Verona Room 7
END:VEVENT
BEGIN:VEVENT
DTSTART;TZID=America/Chicago:20220814T090000
DTEND;TZID=America/Chicago:20220814T100000
DTSTAMP:20260420T090023
CREATED:20220724T094552Z
LAST-MODIFIED:20220814T052736Z
UID:10009578-1660467600-1660471200@gslcwi.com
SUMMARY:9:00 Worship Service
DESCRIPTION:
URL:https://gslcwi.com/event/900-worship-service-10/
LOCATION:Madison Sanctuary
END:VEVENT
BEGIN:VEVENT
DTSTART;TZID=America/Chicago:20220814T103000
DTEND;TZID=America/Chicago:20220814T113000
DTSTAMP:20260420T090023
CREATED:20220419T141847Z
LAST-MODIFIED:20220814T052734Z
UID:10009260-1660473000-1660476600@gslcwi.com
SUMMARY:10:30 Worship Service
DESCRIPTION:
URL:https://gslcwi.com/event/1030-worship-service-20/
LOCATION:Verona Sanctuary
END:VEVENT
BEGIN:VEVENT
DTSTART;TZID=America/Chicago:20220814T130000
DTEND;TZID=America/Chicago:20220814T150000
DTSTAMP:20260420T090023
CREATED:20220724T094553Z
LAST-MODIFIED:20220814T052734Z
UID:10009579-1660482000-1660489200@gslcwi.com
SUMMARY:Iglesia evangelica el remanente
DESCRIPTION:
URL:https://gslcwi.com/event/iglesia-evangelica-el-remanente-52/
LOCATION:Madison Peterson Hall
END:VEVENT
BEGIN:VEVENT
DTSTART;TZID=America/Chicago:20220814T130000
DTEND;TZID=America/Chicago:20220814T170000
DTSTAMP:20260420T090023
CREATED:20220724T094553Z
LAST-MODIFIED:20220814T052735Z
UID:10009580-1660482000-1660496400@gslcwi.com
SUMMARY:Pickleball
DESCRIPTION:
URL:https://gslcwi.com/event/pickleball-61/
LOCATION:Verona Gym
END:VEVENT
BEGIN:VEVENT
DTSTART;TZID=America/Chicago:20220814T180000
DTEND;TZID=America/Chicago:20220814T190000
DTSTAMP:20260420T090023
CREATED:20220419T141848Z
LAST-MODIFIED:20220814T052736Z
UID:10009261-1660500000-1660503600@gslcwi.com
SUMMARY:Verona 6:00 Worship
DESCRIPTION:
URL:https://gslcwi.com/event/verona-600-worship-43/
LOCATION:Verona Sanctuary
END:VEVENT
BEGIN:VEVENT
DTSTART;TZID=America/Chicago:20220814T190000
DTEND;TZID=America/Chicago:20220814T203000
DTSTAMP:20260420T090023
CREATED:20220519T214556Z
LAST-MODIFIED:20220519T214556Z
UID:10009367-1660503600-1660509000@gslcwi.com
SUMMARY:HS Youth Group
DESCRIPTION:Hang out with us at high school youth group after evening worship! Friends are always welcome!
URL:https://gslcwi.com/event/hs-youth-group-23/2022-08-14/
LOCATION:Verona Tent; Verona Fire Pit
CATEGORIES:High School
ORGANIZER;CN="Becca Feldhacker":MAILTO:bmortensen@gslcwi.com
END:VEVENT
BEGIN:VEVENT
DTSTART;TZID=America/Chicago:20220814T190000
DTEND;TZID=America/Chicago:20220814T203000
DTSTAMP:20260420T090023
CREATED:20220724T094554Z
LAST-MODIFIED:20220814T052735Z
UID:10009581-1660503600-1660509000@gslcwi.com
SUMMARY:Youth Group
DESCRIPTION:
URL:https://gslcwi.com/event/youth-group-30/
LOCATION:Verona Gym; Verona Fire Pit; Verona Youth Room
END:VEVENT
BEGIN:VEVENT
DTSTART;TZID=America/Chicago:20220815T070000
DTEND;TZID=America/Chicago:20220815T220000
DTSTAMP:20260420T090023
CREATED:20220419T141853Z
LAST-MODIFIED:20220815T064022Z
UID:10009265-1660546800-1660600800@gslcwi.com
SUMMARY:Intern Room
DESCRIPTION:
URL:https://gslcwi.com/event/intern-room-70/
LOCATION:Verona Room 7
END:VEVENT
BEGIN:VEVENT
DTSTART;TZID=America/Chicago:20220815T090000
DTEND;TZID=America/Chicago:20220815T120000
DTSTAMP:20260420T090023
CREATED:20220419T141850Z
LAST-MODIFIED:20220815T064021Z
UID:10009263-1660554000-1660564800@gslcwi.com
SUMMARY:Quitlers
DESCRIPTION:
URL:https://gslcwi.com/event/quitlers-7/
LOCATION:Verona Fellowship Hall
END:VEVENT
BEGIN:VEVENT
DTSTART;TZID=America/Chicago:20220815T123000
DTEND;TZID=America/Chicago:20220815T150000
DTSTAMP:20260420T090023
CREATED:20220419T141852Z
LAST-MODIFIED:20220815T064021Z
UID:10009264-1660566600-1660575600@gslcwi.com
SUMMARY:Card Ministry
DESCRIPTION:
URL:https://gslcwi.com/event/card-ministry-12/
LOCATION:Madison Good Shepherd Room
END:VEVENT
BEGIN:VEVENT
DTSTART;TZID=America/Chicago:20220815T160000
DTEND;TZID=America/Chicago:20220815T173000
DTSTAMP:20260420T090023
CREATED:20220724T094556Z
LAST-MODIFIED:20220815T064022Z
UID:10009582-1660579200-1660584600@gslcwi.com
SUMMARY:Literacy Network
DESCRIPTION:
URL:https://gslcwi.com/event/literacy-network-18/
LOCATION:Madison Room 11/The Sheep Fold; Madison Room 9
END:VEVENT
BEGIN:VEVENT
DTSTART;TZID=America/Chicago:20220815T170000
DTEND;TZID=America/Chicago:20220815T190000
DTSTAMP:20260420T090023
CREATED:20220724T094615Z
LAST-MODIFIED:20220815T064023Z
UID:10009584-1660582800-1660590000@gslcwi.com
SUMMARY:Music Monday with the COW
DESCRIPTION:
URL:https://gslcwi.com/event/music-monday-with-the-cow-5/
LOCATION:Madison Campus Lawn
END:VEVENT
BEGIN:VEVENT
DTSTART;TZID=America/Chicago:20220815T180000
DTEND;TZID=America/Chicago:20220815T200000
DTSTAMP:20260420T090023
CREATED:20220724T094614Z
LAST-MODIFIED:20220815T064022Z
UID:10009583-1660586400-1660593600@gslcwi.com
SUMMARY:Ignite Volleyball
DESCRIPTION:
URL:https://gslcwi.com/event/ignite-volleyball-14/
LOCATION:Verona Gym
END:VEVENT
BEGIN:VEVENT
DTSTART;TZID=America/Chicago:20220816T070000
DTEND;TZID=America/Chicago:20220816T220000
DTSTAMP:20260420T090023
CREATED:20220419T141855Z
LAST-MODIFIED:20220816T081214Z
UID:10009266-1660633200-1660687200@gslcwi.com
SUMMARY:Intern Room
DESCRIPTION:
URL:https://gslcwi.com/event/intern-room-71/
LOCATION:Verona Room 7
END:VEVENT
END:VCALENDAR