BEGIN:VCALENDAR
VERSION:2.0
PRODID:-//Good Shepherd Lutheran Church - ECPv6.15.20//NONSGML v1.0//EN
CALSCALE:GREGORIAN
METHOD:PUBLISH
X-WR-CALNAME:Good Shepherd Lutheran Church
X-ORIGINAL-URL:https://gslcwi.com
X-WR-CALDESC:Events for Good Shepherd Lutheran Church
REFRESH-INTERVAL;VALUE=DURATION:PT1H
X-Robots-Tag:noindex
X-PUBLISHED-TTL:PT1H
BEGIN:VTIMEZONE
TZID:America/Chicago
BEGIN:DAYLIGHT
TZOFFSETFROM:-0600
TZOFFSETTO:-0500
TZNAME:CDT
DTSTART:20240310T080000
END:DAYLIGHT
BEGIN:STANDARD
TZOFFSETFROM:-0500
TZOFFSETTO:-0600
TZNAME:CST
DTSTART:20241103T070000
END:STANDARD
BEGIN:DAYLIGHT
TZOFFSETFROM:-0600
TZOFFSETTO:-0500
TZNAME:CDT
DTSTART:20250309T080000
END:DAYLIGHT
BEGIN:STANDARD
TZOFFSETFROM:-0500
TZOFFSETTO:-0600
TZNAME:CST
DTSTART:20251102T070000
END:STANDARD
BEGIN:DAYLIGHT
TZOFFSETFROM:-0600
TZOFFSETTO:-0500
TZNAME:CDT
DTSTART:20260308T080000
END:DAYLIGHT
BEGIN:STANDARD
TZOFFSETFROM:-0500
TZOFFSETTO:-0600
TZNAME:CST
DTSTART:20261101T070000
END:STANDARD
END:VTIMEZONE
BEGIN:VEVENT
DTSTART;TZID=America/Chicago:20250209T103000
DTEND;TZID=America/Chicago:20250209T160000
DTSTAMP:20260420T181739
CREATED:20250110T021931Z
LAST-MODIFIED:20250206T221445Z
UID:10022058-1739097000-1739116800@gslcwi.com
SUMMARY:Pickleball
DESCRIPTION:Phyllis Wiederhoeft pwiederhoeft@gmail.com
URL:https://gslcwi.com/event/pickleball-275/
LOCATION:Verona Gym
END:VEVENT
BEGIN:VEVENT
DTSTART;TZID=America/Chicago:20250209T120000
DTEND;TZID=America/Chicago:20250209T170000
DTSTAMP:20260420T181739
CREATED:20220925T214225Z
LAST-MODIFIED:20230307T202102Z
UID:10012687-1739102400-1739120400@gslcwi.com
SUMMARY:Pickleball
DESCRIPTION:
URL:https://gslcwi.com/event/pickleball-81/2025-02-09/
LOCATION:Verona Gym
CATEGORIES:Sports,Verona Gym
ATTACH;FMTTYPE=image/jpeg:https://gslcwi.com/wp-content/uploads/2023/02/pickleball2-1.jpg
END:VEVENT
BEGIN:VEVENT
DTSTART;TZID=America/Chicago:20250209T140000
DTEND;TZID=America/Chicago:20250209T200000
DTSTAMP:20260420T181739
CREATED:20250110T022157Z
LAST-MODIFIED:20250206T221542Z
UID:10022066-1739109600-1739131200@gslcwi.com
SUMMARY:Iglesia evangelica el remanente
DESCRIPTION:
URL:https://gslcwi.com/event/iglesia-evangelica-el-remanente-228/
LOCATION:Madison Peterson Hall
END:VEVENT
BEGIN:VEVENT
DTSTART;TZID=America/Chicago:20250209T170000
DTEND;TZID=America/Chicago:20250210T200000
DTSTAMP:20260420T181739
CREATED:20250110T021934Z
LAST-MODIFIED:20250206T223300Z
UID:10022062-1739120400-1739217600@gslcwi.com
SUMMARY:Iglesia evangelica el remanente
DESCRIPTION:Juan Alcatera
URL:https://gslcwi.com/event/iglesia-evangelica-el-remanente-227/
LOCATION:Madison Peterson Hall
END:VEVENT
BEGIN:VEVENT
DTSTART;TZID=America/Chicago:20250209T180000
DTEND;TZID=America/Chicago:20250209T190000
DTSTAMP:20260420T181739
CREATED:20240925T155628Z
LAST-MODIFIED:20240925T155628Z
UID:10021144-1739124000-1739127600@gslcwi.com
SUMMARY:6:00 p.m. Worship Service
DESCRIPTION:A worship service with evening rhythms for song\, prayer\, and reflection rooted in ancient practices and present day cares & concerns.
URL:https://gslcwi.com/event/600-p-m-worship-service/2025-02-09/
LOCATION:Good Shepherd Verona Campus\, 7291 County Road PD\, Verona\, WI\, 53593\, United States
CATEGORIES:Worship
ATTACH;FMTTYPE=image/jpeg:https://gslcwi.com/wp-content/uploads/2024/09/6pmw2-1.jpg
ORGANIZER;CN="Jared Stellmacher":MAILTO:jstellmacher@gslcwi.com
END:VEVENT
BEGIN:VEVENT
DTSTART;TZID=America/Chicago:20250209T180000
DTEND;TZID=America/Chicago:20250209T190000
DTSTAMP:20260420T181739
CREATED:20240925T171350Z
LAST-MODIFIED:20240925T171350Z
UID:10021300-1739124000-1739127600@gslcwi.com
SUMMARY:6:00 p.m. Church School
DESCRIPTION:Hands-on activities\, music and Bible learning for kids Age 3-5th grade. Church School is held during worship at 9:00 a.m. Madison\, 10:00 a.m. and 6:00 p.m. Verona. \nClasses begin September 15 and new families can join anytime!
URL:https://gslcwi.com/event/600-p-m-church-school/2025-02-09/
LOCATION:Good Shepherd Verona Campus\, 7291 County Road PD\, Verona\, WI\, 53593\, United States
CATEGORIES:Children's Ministry
ATTACH;FMTTYPE=image/jpeg:https://gslcwi.com/wp-content/uploads/2024/09/church-school-event-slide.jpg
ORGANIZER;CN="Emily Gold":MAILTO:egold@gslcwi.com
END:VEVENT
BEGIN:VEVENT
DTSTART;TZID=America/Chicago:20250209T180000
DTEND;TZID=America/Chicago:20250209T190000
DTSTAMP:20260420T181739
CREATED:20250110T022156Z
LAST-MODIFIED:20250206T221543Z
UID:10022064-1739124000-1739127600@gslcwi.com
SUMMARY:6:00 Worship Service
DESCRIPTION:Pr. Craig
URL:https://gslcwi.com/event/600-worship-service-7/
LOCATION:Verona Lobby; Verona Sanctuary
END:VEVENT
BEGIN:VEVENT
DTSTART;TZID=America/Chicago:20250209T190000
DTEND;TZID=America/Chicago:20250209T203000
DTSTAMP:20260420T181739
CREATED:20250110T022156Z
LAST-MODIFIED:20250206T221544Z
UID:10022065-1739127600-1739133000@gslcwi.com
SUMMARY:Youth Group
DESCRIPTION:Brent / Sarah\n________________________________________________________________________________\nMicrosoft Teams Need help?\nJoin the meeting now\nMeeting ID: 212 377 247 449\nPasscode: K85dVF\n________________________________\nFor organizers: Meeting options\n________________________________________________________________________________
URL:https://gslcwi.com/event/youth-group-76/
LOCATION:Verona Fellowship Hall; Verona Youth Room
END:VEVENT
BEGIN:VEVENT
DTSTART;TZID=America/Chicago:20250210T083000
DTEND;TZID=America/Chicago:20250210T103000
DTSTAMP:20260420T181739
CREATED:20250117T014102Z
LAST-MODIFIED:20250206T223121Z
UID:10022101-1739176200-1739183400@gslcwi.com
SUMMARY:Clothes Closet Sorters
DESCRIPTION:
URL:https://gslcwi.com/event/clothes-closet-sorters-4/
LOCATION:Madison Peterson Hall
END:VEVENT
BEGIN:VEVENT
DTSTART;TZID=America/Chicago:20250210T090000
DTEND;TZID=America/Chicago:20250210T110000
DTSTAMP:20260420T181739
CREATED:20250110T022157Z
LAST-MODIFIED:20250206T221545Z
UID:10022067-1739178000-1739185200@gslcwi.com
SUMMARY:Ruth Circle
DESCRIPTION:Brent / Polly\n________________________________________________________________________________\nMicrosoft Teams Need help?\nJoin the meeting now\nMeeting ID: 231 318 037 012\nPasscode: zkWPHb\n________________________________\nFor organizers: Meeting options\n________________________________________________________________________________
URL:https://gslcwi.com/event/ruth-circle-38/
LOCATION:Madison Good Shepherd Room
END:VEVENT
BEGIN:VEVENT
DTSTART;TZID=America/Chicago:20250210T110000
DTEND;TZID=America/Chicago:20250210T153000
DTSTAMP:20260420T181739
CREATED:20250110T021933Z
LAST-MODIFIED:20250206T221544Z
UID:10022061-1739185200-1739201400@gslcwi.com
SUMMARY:Blood Drive
DESCRIPTION:Meekma-Yaun\, Michelle Michelle.Meekma-Yaun@redcross.org
URL:https://gslcwi.com/event/blood-drive-7/
LOCATION:Madison Peterson Hall
END:VEVENT
BEGIN:VEVENT
DTSTART;TZID=America/Chicago:20250210T160000
DTEND;TZID=America/Chicago:20250210T170000
DTSTAMP:20260420T181739
CREATED:20250110T023532Z
LAST-MODIFIED:20250206T223123Z
UID:10022068-1739203200-1739206800@gslcwi.com
SUMMARY:Wissen Gym Time
DESCRIPTION:Stephanie Wissen wissen@uwalumni.com
URL:https://gslcwi.com/event/wissen-gym-time-9/
LOCATION:Verona Gym
END:VEVENT
BEGIN:VEVENT
DTSTART;TZID=America/Chicago:20250210T160000
DTEND;TZID=America/Chicago:20250210T173000
DTSTAMP:20260420T181739
CREATED:20220923T135855Z
LAST-MODIFIED:20230913T194729Z
UID:10012723-1739203200-1739208600@gslcwi.com
SUMMARY:Literacy Network
DESCRIPTION:
URL:https://gslcwi.com/event/literacy-network-40/2025-02-10/
LOCATION:Madison Room 11/The Sheep Fold; Madison Room 9
CATEGORIES:Community Event
END:VEVENT
BEGIN:VEVENT
DTSTART;TZID=America/Chicago:20250210T160000
DTEND;TZID=America/Chicago:20250210T173000
DTSTAMP:20260420T181739
CREATED:20250117T014104Z
LAST-MODIFIED:20250206T223122Z
UID:10022102-1739203200-1739208600@gslcwi.com
SUMMARY:Literacy Network
DESCRIPTION:Bex Fabrizio Bex@litnetwork.org
URL:https://gslcwi.com/event/literacy-network-225/
LOCATION:Madison Good Shepherd Room
END:VEVENT
BEGIN:VEVENT
DTSTART;TZID=America/Chicago:20250210T173000
DTEND;TZID=America/Chicago:20250210T200000
DTSTAMP:20260420T181739
CREATED:20250110T023534Z
LAST-MODIFIED:20250206T223301Z
UID:10022071-1739208600-1739217600@gslcwi.com
SUMMARY:HR Committee
DESCRIPTION:Deni Naumann deninaumann@gmail.com
URL:https://gslcwi.com/event/hr-committee-4/
LOCATION:Madison Room 6
END:VEVENT
BEGIN:VEVENT
DTSTART;TZID=America/Chicago:20250210T180000
DTEND;TZID=America/Chicago:20250210T190000
DTSTAMP:20260420T181739
CREATED:20250110T023533Z
LAST-MODIFIED:20250110T023533Z
UID:10022070-1739210400-1739214000@gslcwi.com
SUMMARY:Rewald Gym
DESCRIPTION:Sara Rewald sararewald@yahoo.com
URL:https://gslcwi.com/event/rewald-gym-5/
LOCATION:Verona Gym
END:VEVENT
BEGIN:VEVENT
DTSTART;TZID=America/Chicago:20250210T183000
DTEND;TZID=America/Chicago:20250210T193000
DTSTAMP:20260420T181739
CREATED:20250110T023534Z
LAST-MODIFIED:20250206T223124Z
UID:10022072-1739212200-1739215800@gslcwi.com
SUMMARY:AOL Den Meeting
DESCRIPTION:Terry Goeldner tgoeldner@hotmail.com
URL:https://gslcwi.com/event/aol-den-meeting-10/
LOCATION:Verona Room 11
END:VEVENT
BEGIN:VEVENT
DTSTART;TZID=America/Chicago:20250210T190000
DTEND;TZID=America/Chicago:20250210T200000
DTSTAMP:20260420T181739
CREATED:20250110T023533Z
LAST-MODIFIED:20250206T223125Z
UID:10022069-1739214000-1739217600@gslcwi.com
SUMMARY:McCarty Gym Time
DESCRIPTION:Phillip Mattsson-Boze pmattsso@gmail.com
URL:https://gslcwi.com/event/mccarty-gym-time-6/
LOCATION:Verona Gym
END:VEVENT
BEGIN:VEVENT
DTSTART;TZID=America/Chicago:20250210T213000
DTEND;TZID=America/Chicago:20250210T223000
DTSTAMP:20260420T181739
CREATED:20250124T005411Z
LAST-MODIFIED:20250206T223301Z
UID:10022142-1739223000-1739226600@gslcwi.com
SUMMARY:Cub Scouts
DESCRIPTION:Jon Bach\, drjonnyb@yahoo.com
URL:https://gslcwi.com/event/cub-scouts-103/
LOCATION:Verona Room 6
END:VEVENT
BEGIN:VEVENT
DTSTART;TZID=America/Chicago:20250211T083000
DTEND;TZID=America/Chicago:20250211T093000
DTSTAMP:20260420T181739
CREATED:20250110T023804Z
LAST-MODIFIED:20250206T223302Z
UID:10022073-1739262600-1739266200@gslcwi.com
SUMMARY:Playgroup - Emily
DESCRIPTION:Brent / Emily G\n-Having the  table in front of window\n-table and 4 chairs set up on that perpendicular wall\n-the 2 playgroup rugs set up similar to last year on the opposite wall\n________________________________________________________________________________\nMicrosoft Teams Need help?\nJoin the meeting now\nMeeting ID: 220 897 479 041\nPasscode: c6TL2D\n________________________________\nFor organizers: Meeting options\n________________________________________________________________________________
URL:https://gslcwi.com/event/playgroup-emily-34/
LOCATION:Verona Gym
END:VEVENT
BEGIN:VEVENT
DTSTART;TZID=America/Chicago:20250211T090000
DTEND;TZID=America/Chicago:20250211T110000
DTSTAMP:20260420T181739
CREATED:20230320T152255Z
LAST-MODIFIED:20230921T134352Z
UID:10013403-1739264400-1739271600@gslcwi.com
SUMMARY:Tuesday Trekkers
DESCRIPTION:Join other GS folks for an hour-long hike\, Tuesdays at 9am.  Meets at different locations around the area\, enjoying fresh air and fellowship.
URL:https://gslcwi.com/event/tuesday-trekkers-8/2025-02-11/
LOCATION:Offsite
CATEGORIES:Adult Education,Fellowship,Sports
ATTACH;FMTTYPE=image/jpeg:https://gslcwi.com/wp-content/uploads/2023/03/trekers720.jpg
ORGANIZER;CN="Diane Hughes":MAILTO:dhhands@sbcglobal.net
END:VEVENT
BEGIN:VEVENT
DTSTART;TZID=America/Chicago:20250211T100000
DTEND;TZID=America/Chicago:20250211T120000
DTSTAMP:20260420T181739
CREATED:20250110T023805Z
LAST-MODIFIED:20250206T224610Z
UID:10022076-1739268000-1739275200@gslcwi.com
SUMMARY:Quilters
DESCRIPTION:Brent – ** / Donna Hintze<teddyb55@icloud.com\n________________________________________________________________________________\nMicrosoft Teams Need help?\nJoin the meeting now\nMeeting ID: 239 398 851 631\nPasscode: qzhfKD\n________________________________\nFor organizers: Meeting options\n________________________________________________________________________________
URL:https://gslcwi.com/event/quilters-123/
LOCATION:Verona Fellowship Hall
END:VEVENT
BEGIN:VEVENT
DTSTART;TZID=America/Chicago:20250211T103000
DTEND;TZID=America/Chicago:20250211T120000
DTSTAMP:20260420T181739
CREATED:20250110T023805Z
LAST-MODIFIED:20250206T224610Z
UID:10022075-1739269800-1739275200@gslcwi.com
SUMMARY:Caregiver Support Group
DESCRIPTION:Hayde\, Julia Hayde.Julia@danecounty.gov
URL:https://gslcwi.com/event/caregiver-support-group-13/
LOCATION:Madison Room 6
END:VEVENT
BEGIN:VEVENT
DTSTART;TZID=America/Chicago:20250211T110000
DTEND;TZID=America/Chicago:20250211T120000
DTSTAMP:20260420T181739
CREATED:20250110T023804Z
LAST-MODIFIED:20250206T223302Z
UID:10022074-1739271600-1739275200@gslcwi.com
SUMMARY:Staff Meeting
DESCRIPTION:Pr. Craig
URL:https://gslcwi.com/event/staff-meeting-29/
LOCATION:Madison Good Shepherd Room
END:VEVENT
BEGIN:VEVENT
DTSTART;TZID=America/Chicago:20250211T130000
DTEND;TZID=America/Chicago:20250211T143000
DTSTAMP:20260420T181739
CREATED:20250110T023806Z
LAST-MODIFIED:20250206T224611Z
UID:10022077-1739278800-1739284200@gslcwi.com
SUMMARY:Men’s Caregiver Support Group
DESCRIPTION:Hayde\, Julia Hayde.Julia@danecounty.gov
URL:https://gslcwi.com/event/mens-caregiver-support-group-13/
LOCATION:Madison Room 11/The Sheep Fold
END:VEVENT
BEGIN:VEVENT
DTSTART;TZID=America/Chicago:20250211T180000
DTEND;TZID=America/Chicago:20250211T190000
DTSTAMP:20260420T181739
CREATED:20250110T025217Z
LAST-MODIFIED:20250206T224720Z
UID:10022082-1739296800-1739300400@gslcwi.com
SUMMARY:Den Meeting
DESCRIPTION:4650 County Rd D M\, Morrisonville\, WI
URL:https://gslcwi.com/event/den-meeting-76/
LOCATION:Verona Room 11; Verona Room 7
END:VEVENT
BEGIN:VEVENT
DTSTART;TZID=America/Chicago:20250211T180000
DTEND;TZID=America/Chicago:20250211T193000
DTSTAMP:20260420T181739
CREATED:20250110T025216Z
LAST-MODIFIED:20250206T224722Z
UID:10022081-1739296800-1739302200@gslcwi.com
SUMMARY:Inreach Committee
DESCRIPTION:PS\n________________________________________________________________________________\nMicrosoft Teams Need help?\nJoin the meeting now\nMeeting ID: 272 063 174 567\nPasscode: Ukkxzd\n________________________________\nFor organizers: Meeting options\n________________________________________________________________________________
URL:https://gslcwi.com/event/inreach-committee-21/
LOCATION:Madison Good Shepherd Room
END:VEVENT
BEGIN:VEVENT
DTSTART;TZID=America/Chicago:20250211T183000
DTEND;TZID=America/Chicago:20250211T193000
DTSTAMP:20260420T181739
CREATED:20250110T025214Z
LAST-MODIFIED:20250206T224612Z
UID:10022078-1739298600-1739302200@gslcwi.com
SUMMARY:Bear Den Meeting
DESCRIPTION:Kyle Davis\, anthem1@gmail.com
URL:https://gslcwi.com/event/bear-den-meeting-8/
LOCATION:Verona Room 7
END:VEVENT
BEGIN:VEVENT
DTSTART;TZID=America/Chicago:20250211T183000
DTEND;TZID=America/Chicago:20250211T200000
DTSTAMP:20260420T181739
CREATED:20250110T025215Z
LAST-MODIFIED:20250206T224612Z
UID:10022079-1739298600-1739304000@gslcwi.com
SUMMARY:Bonhoeffer Class Week 4 | Taking a Stand
DESCRIPTION:Taking a Stand: “Is this a Bonhoeffer moment?” is the wrong question\nBy attending this session\, participants will consider lessons from Bonhoeffer formed by paying attention to the intersections of his biography\, theology\, and ethics. They will continue to think about the relevance of Bonhoeffer’s thought for our politically fraught and divisive times\, and consider what responsible action looks like in their own lives. \nZoom Meeting Details\nClick here to join the Zoom meeting \nTopic: Good Shepherd | Bonhoeffer Class 4\nTime: Feb 11\, 2025 06:30 PM Central Time (US and Canada)\nJoin Zoom Meeting\nhttps://duke.zoom.us/j/93479945615 \nMeeting ID: 934 7994 5615 \n  \n 
URL:https://gslcwi.com/event/bonhoeffer-class-4/
LOCATION:Madison Peterson Hall
CATEGORIES:Adult Education
ATTACH;FMTTYPE=image/jpeg:https://gslcwi.com/wp-content/uploads/2025/01/Bonhoeffer-Classs.jpg
ORGANIZER;CN="Eric Holmer":MAILTO:eholmer@gslcwi.com
END:VEVENT
BEGIN:VEVENT
DTSTART;TZID=America/Chicago:20250211T183000
DTEND;TZID=America/Chicago:20250211T203000
DTSTAMP:20260420T181739
CREATED:20250110T025215Z
LAST-MODIFIED:20250206T224720Z
UID:10022080-1739298600-1739305800@gslcwi.com
SUMMARY:Boy Scouts
DESCRIPTION:Amy Byrnes – Scout Master ajmbyrnes@yahoo.com\nMatt Watrud – Scout Master watrud@uwalumni.com
URL:https://gslcwi.com/event/boy-scouts-213/
LOCATION:Verona Fellowship Hall
END:VEVENT
END:VCALENDAR