BEGIN:VCALENDAR
VERSION:2.0
PRODID:-//Good Shepherd Lutheran Church - ECPv6.15.20//NONSGML v1.0//EN
CALSCALE:GREGORIAN
METHOD:PUBLISH
X-WR-CALNAME:Good Shepherd Lutheran Church
X-ORIGINAL-URL:https://gslcwi.com
X-WR-CALDESC:Events for Good Shepherd Lutheran Church
REFRESH-INTERVAL;VALUE=DURATION:PT1H
X-Robots-Tag:noindex
X-PUBLISHED-TTL:PT1H
BEGIN:VTIMEZONE
TZID:America/Chicago
BEGIN:DAYLIGHT
TZOFFSETFROM:-0600
TZOFFSETTO:-0500
TZNAME:CDT
DTSTART:20230312T080000
END:DAYLIGHT
BEGIN:STANDARD
TZOFFSETFROM:-0500
TZOFFSETTO:-0600
TZNAME:CST
DTSTART:20231105T070000
END:STANDARD
BEGIN:DAYLIGHT
TZOFFSETFROM:-0600
TZOFFSETTO:-0500
TZNAME:CDT
DTSTART:20240310T080000
END:DAYLIGHT
BEGIN:STANDARD
TZOFFSETFROM:-0500
TZOFFSETTO:-0600
TZNAME:CST
DTSTART:20241103T070000
END:STANDARD
BEGIN:DAYLIGHT
TZOFFSETFROM:-0600
TZOFFSETTO:-0500
TZNAME:CDT
DTSTART:20250309T080000
END:DAYLIGHT
BEGIN:STANDARD
TZOFFSETFROM:-0500
TZOFFSETTO:-0600
TZNAME:CST
DTSTART:20251102T070000
END:STANDARD
END:VTIMEZONE
BEGIN:VEVENT
DTSTART;TZID=America/Chicago:20240304T183000
DTEND;TZID=America/Chicago:20240304T203000
DTSTAMP:20260420T081841
CREATED:20240208T072939Z
LAST-MODIFIED:20240229T033544Z
UID:10018414-1709577000-1709584200@gslcwi.com
SUMMARY:Bible study group\, Living Waters
DESCRIPTION:Brent /\nNancy Rasmussen <erinan@chorus.net\n________________________________________________________________________________\nMicrosoft Teams meeting\nJoin on your computer\, mobile app or room device\nClick here to join the meeting\nMeeting ID: 233 365 525 45\nPasscode: xAeSa4\nDownload Teams | Join on the web\nLearn More | Meeting options\n________________________________________________________________________________
URL:https://gslcwi.com/event/bible-study-group-living-waters-8/
LOCATION:Verona Family Lounge
END:VEVENT
BEGIN:VEVENT
DTSTART;TZID=America/Chicago:20240304T180000
DTEND;TZID=America/Chicago:20240304T200000
DTSTAMP:20260420T081841
CREATED:20240208T072941Z
LAST-MODIFIED:20240229T033545Z
UID:10018418-1709575200-1709582400@gslcwi.com
SUMMARY:Webelos Den Meeting
DESCRIPTION:Terry Goeldner\, terry.goeldner@gmail.com
URL:https://gslcwi.com/event/webelos-den-meeting-6/
LOCATION:Verona Room 11
END:VEVENT
BEGIN:VEVENT
DTSTART;TZID=America/Chicago:20240304T180000
DTEND;TZID=America/Chicago:20240304T200000
DTSTAMP:20260420T081841
CREATED:20240208T072940Z
LAST-MODIFIED:20240229T033544Z
UID:10018416-1709575200-1709582400@gslcwi.com
SUMMARY:Cub Scouts
DESCRIPTION:Matt Dederich mattdederich@gmail.com
URL:https://gslcwi.com/event/cub-scouts-80/
LOCATION:Verona Room 6
END:VEVENT
BEGIN:VEVENT
DTSTART;TZID=America/Chicago:20240304T180000
DTEND;TZID=America/Chicago:20240304T200000
DTSTAMP:20260420T081841
CREATED:20240208T072939Z
LAST-MODIFIED:20240229T033432Z
UID:10018415-1709575200-1709582400@gslcwi.com
SUMMARY:Troop 9110
DESCRIPTION:Katy Kosobucki kbreidenbach@uwalumni.com
URL:https://gslcwi.com/event/troop-9110-23/
LOCATION:Verona Fellowship Hall
END:VEVENT
BEGIN:VEVENT
DTSTART;TZID=America/Chicago:20240304T170000
DTEND;TZID=America/Chicago:20240304T180000
DTSTAMP:20260420T081841
CREATED:20240208T072941Z
LAST-MODIFIED:20240229T033544Z
UID:10018417-1709571600-1709575200@gslcwi.com
SUMMARY:Scott's Gym
DESCRIPTION:Brent / Scott
URL:https://gslcwi.com/event/scotts-gym-5/
LOCATION:Verona Gym
END:VEVENT
BEGIN:VEVENT
DTSTART;TZID=America/Chicago:20240304T160000
DTEND;TZID=America/Chicago:20240304T180000
DTSTAMP:20260420T081841
CREATED:20240208T073331Z
LAST-MODIFIED:20240229T033431Z
UID:10018419-1709568000-1709575200@gslcwi.com
SUMMARY:Literacy Network
DESCRIPTION:Bex Fabrizio Bex@litnetwork.org
URL:https://gslcwi.com/event/literacy-network-173/
LOCATION:Madison Good Shepherd Room
END:VEVENT
BEGIN:VEVENT
DTSTART;TZID=America/Chicago:20240304T160000
DTEND;TZID=America/Chicago:20240304T173000
DTSTAMP:20260420T081841
CREATED:20220923T135855Z
LAST-MODIFIED:20230913T194729Z
UID:10011416-1709568000-1709573400@gslcwi.com
SUMMARY:Literacy Network
DESCRIPTION:
URL:https://gslcwi.com/event/literacy-network-40/2024-03-04/
LOCATION:Madison Room 11/The Sheep Fold; Madison Room 9
CATEGORIES:Community Event
END:VEVENT
BEGIN:VEVENT
DTSTART;TZID=America/Chicago:20240304T080000
DTEND;TZID=America/Chicago:20240304T100000
DTSTAMP:20260420T081841
CREATED:20240208T071504Z
LAST-MODIFIED:20240229T033431Z
UID:10018413-1709539200-1709546400@gslcwi.com
SUMMARY:Pickelball
DESCRIPTION:Brent / Greg Simmons\n________________________________________________________________________________\nMicrosoft Teams meeting\nJoin on your computer\, mobile app or room device\nClick here to join the meeting\nMeeting ID: 295 593 964 961\nPasscode: wEqZm5\nDownload Teams | Join on the web\nLearn More | Meeting options\n________________________________________________________________________________
URL:https://gslcwi.com/event/pickelball-81/
LOCATION:Verona Gym
END:VEVENT
BEGIN:VEVENT
DTSTART;TZID=America/Chicago:20240303T190000
DTEND;TZID=America/Chicago:20240303T203000
DTSTAMP:20260420T081841
CREATED:20240104T163946Z
LAST-MODIFIED:20240104T163946Z
UID:10017924-1709492400-1709497800@gslcwi.com
SUMMARY:High School Youth Group
DESCRIPTION:Join us on Sunday nights immediately following 6:00pm worship at Verona on the 1st & 3rd Sunday of each month. We gather fellowship\, activities\, conversations\, and community building. A great way to go into the week ahead. Guests are welcome!
URL:https://gslcwi.com/event/high-school-youth-group/2024-03-03/
CATEGORIES:High School
ATTACH;FMTTYPE=image/jpeg:https://gslcwi.com/wp-content/uploads/2024/01/IMG_3194.jpg
END:VEVENT
BEGIN:VEVENT
DTSTART;TZID=America/Chicago:20240303T180000
DTEND;TZID=America/Chicago:20240303T190000
DTSTAMP:20260420T081841
CREATED:20240208T071503Z
LAST-MODIFIED:20240229T032039Z
UID:10018411-1709488800-1709492400@gslcwi.com
SUMMARY:Verona Church Service
DESCRIPTION:Brent\n________________________________________________________________________________\nMicrosoft Teams meeting\nJoin on your computer\, mobile app or room device\nClick here to join the meeting\nMeeting ID: 296 424 686 530\nPasscode: PJNDzW\nDownload Teams | Join on the web\nLearn More | Meeting options\n________________________________________________________________________________
URL:https://gslcwi.com/event/verona-church-service-9/
LOCATION:Verona Sanctuary
END:VEVENT
BEGIN:VEVENT
DTSTART;TZID=America/Chicago:20240303T180000
DTEND;TZID=America/Chicago:20240303T190000
DTSTAMP:20260420T081841
CREATED:20240208T071503Z
LAST-MODIFIED:20240229T033430Z
UID:10018412-1709488800-1709492400@gslcwi.com
SUMMARY:Verona Church Sunday School
DESCRIPTION:Brent. Fellowship 30
URL:https://gslcwi.com/event/verona-church-sunday-school-48/
LOCATION:Verona Room 5; Verona Youth Room
END:VEVENT
BEGIN:VEVENT
DTSTART;TZID=America/Chicago:20240303T140000
DTEND;TZID=America/Chicago:20240303T153000
DTSTAMP:20260420T081841
CREATED:20240208T071502Z
LAST-MODIFIED:20240229T032038Z
UID:10018410-1709474400-1709479800@gslcwi.com
SUMMARY:Girl Scouts
DESCRIPTION:Andrea Zorbas andyzorbas@gmail.com
URL:https://gslcwi.com/event/girl-scouts-86/
LOCATION:Madison Room 11/The Sheep Fold
END:VEVENT
BEGIN:VEVENT
DTSTART;TZID=America/Chicago:20240303T130000
DTEND;TZID=America/Chicago:20240303T180000
DTSTAMP:20260420T081841
CREATED:20240222T043408Z
LAST-MODIFIED:20240229T033430Z
UID:10018505-1709470800-1709488800@gslcwi.com
SUMMARY:AMPED retreat
DESCRIPTION:Brent / Sarah\nSanctuary Set-Up (I can find help)\nAfter 10:00 worship Sarah will ask for 4 folks to volunteer to take down the chairs in the sanctuary space.\nAt 5:00 – Brent and the Johnson family will set up the worship space. In Christmas Around the Tree shape. For about 350.\nAfter 6:00 worship Sarah will have people stack chairs once again so the space is cleared.\nOther Set Up – this could be done at 4:00 (and I can find help)\nGym – tables and chairs for 80 and garbage cans.\nFellowship Hall – tables and chairs for 40\nMusic Room – tables and chairs for 30 and garbage cans\nCoffee Area – tables and chairs for 50
URL:https://gslcwi.com/event/amped-retreat-4/
LOCATION:Verona Coffee Bar; Verona Fellowship Hall; Verona Family Lounge
END:VEVENT
BEGIN:VEVENT
DTSTART;TZID=America/Chicago:20240303T130000
DTEND;TZID=America/Chicago:20240303T160000
DTSTAMP:20260420T081841
CREATED:20240208T071501Z
LAST-MODIFIED:20240229T032038Z
UID:10018409-1709470800-1709481600@gslcwi.com
SUMMARY:Iglesia evangelica el remanente
DESCRIPTION:
URL:https://gslcwi.com/event/iglesia-evangelica-el-remanente-162/
LOCATION:Madison Peterson Hall
END:VEVENT
BEGIN:VEVENT
DTSTART;TZID=America/Chicago:20240303T120000
DTEND;TZID=America/Chicago:20240303T170000
DTSTAMP:20260420T081841
CREATED:20220925T214225Z
LAST-MODIFIED:20230307T202102Z
UID:10011622-1709467200-1709485200@gslcwi.com
SUMMARY:Pickleball
DESCRIPTION:
URL:https://gslcwi.com/event/pickleball-81/2024-03-03/
LOCATION:Verona Gym
CATEGORIES:Sports,Verona Gym
ATTACH;FMTTYPE=image/jpeg:https://gslcwi.com/wp-content/uploads/2023/02/pickleball2-1.jpg
END:VEVENT
BEGIN:VEVENT
DTSTART;TZID=America/Chicago:20240303T113000
DTEND;TZID=America/Chicago:20240303T150000
DTSTAMP:20260420T081841
CREATED:20240208T071323Z
LAST-MODIFIED:20240229T032039Z
UID:10018408-1709465400-1709478000@gslcwi.com
SUMMARY:Pickelball
DESCRIPTION:Brent / Phyllis\n________________________________________________________________________________\nMicrosoft Teams meeting\nJoin on your computer\, mobile app or room device\nClick here to join the meeting\nMeeting ID: 298 398 162 996\nPasscode: 2Ryikb\nDownload Teams | Join on the web\nLearn More | Meeting options\n________________________________________________________________________________
URL:https://gslcwi.com/event/pickelball-80/
LOCATION:Verona Gym
END:VEVENT
BEGIN:VEVENT
DTSTART;TZID=America/Chicago:20240303T100000
DTEND;TZID=America/Chicago:20240303T110000
DTSTAMP:20260420T081841
CREATED:20240208T071322Z
LAST-MODIFIED:20240229T032037Z
UID:10018407-1709460000-1709463600@gslcwi.com
SUMMARY:Verona Church Sunday School
DESCRIPTION:Brent / Joanne\nHere are some additional set-up notes.\n  *   The divider between Room 9 & Room 10 can be shut\n  *   The divider between Room 2 & Room 3 can be shut\n  *   Divider between Room 4 & Room 5 can be shut\n  *   While we will utilize Room 3 the furnishing in there do not need to be moved\, unless the teacher in that room has a concern about them. The church school students can work around them.\n  *   Church School is held September 17-May 19. We will not have class on October 22\, November 26\, December 24 & 31\, February 18\, March 24 & 31
URL:https://gslcwi.com/event/verona-church-sunday-school-47/
LOCATION:Verona Room 5; Verona Youth Room
END:VEVENT
BEGIN:VEVENT
DTSTART;TZID=America/Chicago:20240303T090000
DTEND;TZID=America/Chicago:20240303T100000
DTSTAMP:20260420T081841
CREATED:20240208T071321Z
LAST-MODIFIED:20240229T031916Z
UID:10018405-1709456400-1709460000@gslcwi.com
SUMMARY:Madison Church Sunday School
DESCRIPTION:Brent /Joanne\nHere are the classrooms that Madison Church School will be using. All the rooms are already set with tables and chairs. Only set-up/take down need is in Room 11. Each Sunday that needs to be an open space with no tables and chairs in it.
URL:https://gslcwi.com/event/madison-church-sunday-school-24/
LOCATION:Madison Room 7; Madison Room 8
END:VEVENT
BEGIN:VEVENT
DTSTART;TZID=America/Chicago:20240303T090000
DTEND;TZID=America/Chicago:20240303T100000
DTSTAMP:20260420T081841
CREATED:20240208T071321Z
LAST-MODIFIED:20240229T031916Z
UID:10018406-1709456400-1709460000@gslcwi.com
SUMMARY:Childern's Choir
DESCRIPTION:
URL:https://gslcwi.com/event/childerns-choir/
LOCATION:Madison Room 11/The Sheep Fold
END:VEVENT
BEGIN:VEVENT
DTSTART;TZID=America/Chicago:20240303T090000
DTEND;TZID=America/Chicago:20240303T100000
DTSTAMP:20260420T081841
CREATED:20230821T195753Z
LAST-MODIFIED:20230905T200955Z
UID:10011000-1709456400-1709460000@gslcwi.com
SUMMARY:9:00 Worship Service & Church School
DESCRIPTION:You’re invited to the intersection of Whitney Way and Raymond Road for a morning of worship with traditional Lutheran textures and rhythms.
URL:https://gslcwi.com/event/900-worship-service-24-13-2/2024-03-03/
LOCATION:Madison Sanctuary
CATEGORIES:Worship
END:VEVENT
BEGIN:VEVENT
DTSTART;TZID=America/Chicago:20240302T190000
DTEND;TZID=America/Chicago:20240302T210000
DTSTAMP:20260420T081841
CREATED:20240208T071320Z
LAST-MODIFIED:20240229T031916Z
UID:10018404-1709406000-1709413200@gslcwi.com
SUMMARY:Faith of Christ Church
DESCRIPTION:Gorge Garcia\, gorgegarcia613@yahoo.com\n818-264-6914
URL:https://gslcwi.com/event/faith-of-christ-church-94/
LOCATION:Madison Music Room
END:VEVENT
BEGIN:VEVENT
DTSTART;TZID=America/Chicago:20240302T100000
DTEND;TZID=America/Chicago:20240302T120000
DTSTAMP:20260420T081841
CREATED:20240208T065914Z
LAST-MODIFIED:20240229T031915Z
UID:10018403-1709373600-1709380800@gslcwi.com
SUMMARY:Pickelball
DESCRIPTION:Brent / Phyllis\n________________________________________________________________________________\nMicrosoft Teams meeting\nJoin on your computer\, mobile app or room device\nClick here to join the meeting\nMeeting ID: 224 251 428 808\nPasscode: WjfNPE\nDownload Teams | Join on the web\nLearn More | Meeting options\n________________________________________________________________________________
URL:https://gslcwi.com/event/pickelball-79/
LOCATION:Verona Gym
END:VEVENT
BEGIN:VEVENT
DTSTART;TZID=America/Chicago:20240302T083000
DTEND;TZID=America/Chicago:20240302T093000
DTSTAMP:20260420T081841
CREATED:20220925T214224Z
LAST-MODIFIED:20230921T134939Z
UID:10016388-1709368200-1709371800@gslcwi.com
SUMMARY:Men's Bible Study Zoom
DESCRIPTION:A small group bible study and fellowship group.
URL:https://gslcwi.com/event/mens-bible-study-zoom-74/2024-03-02/
LOCATION:Zoom Meeting
CATEGORIES:Bible Study,Men's Ministry
ORGANIZER;CN="Vern Andren":MAILTO:vwacja12@outlook.com
END:VEVENT
BEGIN:VEVENT
DTSTART;TZID=America/Chicago:20240302T080000
DTEND;TZID=America/Chicago:20240302T090000
DTSTAMP:20260420T081841
CREATED:20240208T065913Z
LAST-MODIFIED:20240229T031915Z
UID:10018402-1709366400-1709370000@gslcwi.com
SUMMARY:Men's Bible Study Zoom
DESCRIPTION:
URL:https://gslcwi.com/event/mens-bible-study-zoom-149/
LOCATION:Zoom Meeting
END:VEVENT
BEGIN:VEVENT
DTSTART;TZID=America/Chicago:20240301T100000
DTEND;TZID=America/Chicago:20240301T130000
DTSTAMP:20260420T081841
CREATED:20240208T065911Z
LAST-MODIFIED:20240229T030602Z
UID:10018400-1709287200-1709298000@gslcwi.com
SUMMARY:New Bridge Meals
DESCRIPTION:
URL:https://gslcwi.com/event/new-bridge-meals-179/
LOCATION:Madison Room 6
END:VEVENT
BEGIN:VEVENT
DTSTART;TZID=America/Chicago:20240301T080000
DTEND;TZID=America/Chicago:20240301T100000
DTSTAMP:20260420T081841
CREATED:20240208T065912Z
LAST-MODIFIED:20240229T030603Z
UID:10018401-1709280000-1709287200@gslcwi.com
SUMMARY:Pickelball
DESCRIPTION:Brent / Phyllis\n________________________________________________________________________________\nMicrosoft Teams meeting\nJoin on your computer\, mobile app or room device\nClick here to join the meeting\nMeeting ID: 283 594 274 855\nPasscode: fzYNai\nDownload Teams | Join on the web\nLearn More | Meeting options\n________________________________________________________________________________
URL:https://gslcwi.com/event/pickelball-78/
LOCATION:Verona Gym
END:VEVENT
BEGIN:VEVENT
DTSTART;TZID=America/Chicago:20240301T063000
DTEND;TZID=America/Chicago:20240301T073000
DTSTAMP:20260420T081841
CREATED:20240208T065911Z
LAST-MODIFIED:20240229T030600Z
UID:10018399-1709274600-1709278200@gslcwi.com
SUMMARY:Friday Morning Men's Group
DESCRIPTION:
URL:https://gslcwi.com/event/friday-morning-mens-group-151/
LOCATION:Verona Coffee Bar
END:VEVENT
BEGIN:VEVENT
DTSTART;TZID=America/Chicago:20240301T063000
DTEND;TZID=America/Chicago:20240301T073000
DTSTAMP:20260420T081841
CREATED:20220924T190555Z
LAST-MODIFIED:20260121T194640Z
UID:10011311-1709274600-1709278200@gslcwi.com
SUMMARY:Friday Morning Men's Group
DESCRIPTION:A men’s gathering for support\, study\, and fellowship.
URL:https://gslcwi.com/event/friday-morning-mens-group-74/2024-03-01/
LOCATION:Verona Coffee Bar
CATEGORIES:Adult Education,Men's Ministry
ORGANIZER;CN="Rick Thomas":MAILTO:rthomas@gslcwi.com
END:VEVENT
BEGIN:VEVENT
DTSTART;TZID=America/Chicago:20240229T190000
DTEND;TZID=America/Chicago:20240229T210000
DTSTAMP:20260420T081841
CREATED:20221025T213413Z
LAST-MODIFIED:20230228T181705Z
UID:10010583-1709233200-1709240400@gslcwi.com
SUMMARY:Band Rehearsal
DESCRIPTION:
URL:https://gslcwi.com/event/band-rehearsal/2024-02-29/
LOCATION:Verona Campus\, 7291 County Rd PD\, Verona\, WI\, 53593\, United States
CATEGORIES:Music
END:VEVENT
BEGIN:VEVENT
DTSTART;TZID=America/Chicago:20240229T183000
DTEND;TZID=America/Chicago:20240229T193000
DTSTAMP:20260420T081841
CREATED:20240208T065622Z
LAST-MODIFIED:20240229T030558Z
UID:10018398-1709231400-1709235000@gslcwi.com
SUMMARY:Cub Scouts Den Meeting
DESCRIPTION:Terry Goeldner\, tgoeldner@hotmail.com
URL:https://gslcwi.com/event/cub-scouts-den-meeting-27/
LOCATION:Verona Room 11
END:VEVENT
END:VCALENDAR