BEGIN:VCALENDAR
VERSION:2.0
PRODID:-//Good Shepherd Lutheran Church - ECPv6.15.20//NONSGML v1.0//EN
CALSCALE:GREGORIAN
METHOD:PUBLISH
X-WR-CALNAME:Good Shepherd Lutheran Church
X-ORIGINAL-URL:https://gslcwi.com
X-WR-CALDESC:Events for Good Shepherd Lutheran Church
REFRESH-INTERVAL;VALUE=DURATION:PT1H
X-Robots-Tag:noindex
X-PUBLISHED-TTL:PT1H
BEGIN:VTIMEZONE
TZID:America/Chicago
BEGIN:DAYLIGHT
TZOFFSETFROM:-0600
TZOFFSETTO:-0500
TZNAME:CDT
DTSTART:20240310T080000
END:DAYLIGHT
BEGIN:STANDARD
TZOFFSETFROM:-0500
TZOFFSETTO:-0600
TZNAME:CST
DTSTART:20241103T070000
END:STANDARD
BEGIN:DAYLIGHT
TZOFFSETFROM:-0600
TZOFFSETTO:-0500
TZNAME:CDT
DTSTART:20250309T080000
END:DAYLIGHT
BEGIN:STANDARD
TZOFFSETFROM:-0500
TZOFFSETTO:-0600
TZNAME:CST
DTSTART:20251102T070000
END:STANDARD
BEGIN:DAYLIGHT
TZOFFSETFROM:-0600
TZOFFSETTO:-0500
TZNAME:CDT
DTSTART:20260308T080000
END:DAYLIGHT
BEGIN:STANDARD
TZOFFSETFROM:-0500
TZOFFSETTO:-0600
TZNAME:CST
DTSTART:20261101T070000
END:STANDARD
END:VTIMEZONE
BEGIN:VEVENT
DTSTART;TZID=America/Chicago:20250126T113000
DTEND;TZID=America/Chicago:20250126T130000
DTSTAMP:20260421T030646
CREATED:20241220T023048Z
LAST-MODIFIED:20250123T220807Z
UID:10021961-1737891000-1737896400@gslcwi.com
SUMMARY:Social Action Committee
DESCRIPTION:Kimberly King we5kings36@gmail.com
URL:https://gslcwi.com/event/social-action-committee/
LOCATION:Verona Family Lounge
END:VEVENT
BEGIN:VEVENT
DTSTART;TZID=America/Chicago:20250126T103000
DTEND;TZID=America/Chicago:20250126T160000
DTSTAMP:20260421T030646
CREATED:20241220T023131Z
LAST-MODIFIED:20250123T215423Z
UID:10021963-1737887400-1737907200@gslcwi.com
SUMMARY:Pickleball
DESCRIPTION:Phyllis Wiederhoeft pwiederhoeft@gmail.com
URL:https://gslcwi.com/event/pickleball-271/
LOCATION:Verona Gym
END:VEVENT
BEGIN:VEVENT
DTSTART;TZID=America/Chicago:20250126T090000
DTEND;TZID=America/Chicago:20250126T103000
DTSTAMP:20260421T030646
CREATED:20250102T204236Z
LAST-MODIFIED:20250109T161800Z
UID:10022008-1737882000-1737887400@gslcwi.com
SUMMARY:Food Pantry 20th Anniversary
DESCRIPTION:Join us in celebrating the 20th anniversary of the Good Shepherd Food Pantry with a special combined worship service on Sunday\, January 26\, at 9 a.m. at our Madison Campus. Pastor Brent Campbell will return to the pulpit to preach. Please note: there will be no services at the Verona campus that day. After the service\, we’ll host a reception with cake\, a Food Pantry Open House\, and a mini Outreach Fair. To mark this milestone\, we’re aiming to collect 2\,025 food items in honor of the occasion! Please bring your food donations to worship that day—but no soup! Save your soup for our Souper Bowl event in February. Come celebrate 20 years of feeding our neighbors and help us look ahead to continuing this vital ministry together! \n 
URL:https://gslcwi.com/event/food-pantry-20th-anniversary/
ATTACH;FMTTYPE=image/jpeg:https://gslcwi.com/wp-content/uploads/2025/01/20-Years-Food-Pantry-4-web.jpg
END:VEVENT
BEGIN:VEVENT
DTSTART;TZID=America/Chicago:20250126T090000
DTEND;TZID=America/Chicago:20250126T100000
DTSTAMP:20260421T030646
CREATED:20241220T023046Z
LAST-MODIFIED:20250123T215423Z
UID:10021959-1737882000-1737885600@gslcwi.com
SUMMARY:Madison Church Service
DESCRIPTION:Pr. Craig
URL:https://gslcwi.com/event/madison-church-service-6/
LOCATION:Madison Sanctuary; Madison Lobby
END:VEVENT
BEGIN:VEVENT
DTSTART;TZID=America/Chicago:20250126T090000
DTEND;TZID=America/Chicago:20250126T100000
DTSTAMP:20260421T030646
CREATED:20240925T160913Z
LAST-MODIFIED:20240925T160913Z
UID:10021244-1737882000-1737885600@gslcwi.com
SUMMARY:9:00 a.m. Church School
DESCRIPTION:Hands-on activities\, music and Bible learning for kids Age 3-5th grade. Church School is held during worship at 9:00 a.m. Madison\, 10:00 a.m. and 6:00 p.m. Verona. \nClasses begin September 15 and new families can join anytime!
URL:https://gslcwi.com/event/900-a-m-church-school/2025-01-26/
LOCATION:Good Shepherd Madison Campus\, 5701 Raymond Road\, Madison\, WI\, 53711\, United States
CATEGORIES:Children's Ministry
ATTACH;FMTTYPE=image/jpeg:https://gslcwi.com/wp-content/uploads/2024/09/church-school-event-slide.jpg
ORGANIZER;CN="Joanne Zastrow":MAILTO:jzastrow@gslcwi.com
END:VEVENT
BEGIN:VEVENT
DTSTART;TZID=America/Chicago:20250126T090000
DTEND;TZID=America/Chicago:20250126T100000
DTSTAMP:20260421T030646
CREATED:20240609T130655Z
LAST-MODIFIED:20240926T161612Z
UID:10012134-1737882000-1737885600@gslcwi.com
SUMMARY:9:00 a.m. Worship Service
DESCRIPTION:You’re invited to the intersection of Whitney Way and Raymond Road for a morning of worship with traditional Lutheran textures and rhythms.
URL:https://gslcwi.com/event/900-worship-service-24-13-2-7/2025-01-26/
LOCATION:Madison Sanctuary
CATEGORIES:Worship
ATTACH;FMTTYPE=image/jpeg:https://gslcwi.com/wp-content/uploads/2024/05/9am2.jpg
END:VEVENT
BEGIN:VEVENT
DTSTART;TZID=America/Chicago:20250125T190000
DTEND;TZID=America/Chicago:20250125T210000
DTSTAMP:20260421T030647
CREATED:20241220T023046Z
LAST-MODIFIED:20250123T215421Z
UID:10021958-1737831600-1737838800@gslcwi.com
SUMMARY:Faith of Christ Church
DESCRIPTION:Gorge Garcia\, gorgegarcia613@yahoo.com\n818-264-6914
URL:https://gslcwi.com/event/faith-of-christ-church-187/
LOCATION:Madison Music Room
END:VEVENT
BEGIN:VEVENT
DTSTART;TZID=America/Chicago:20250125T083000
DTEND;TZID=America/Chicago:20250125T093000
DTSTAMP:20260421T030647
CREATED:20220925T214224Z
LAST-MODIFIED:20230921T134939Z
UID:10016435-1737793800-1737797400@gslcwi.com
SUMMARY:Men's Bible Study Zoom
DESCRIPTION:A small group bible study and fellowship group.
URL:https://gslcwi.com/event/mens-bible-study-zoom-74/2025-01-25/
LOCATION:Zoom Meeting
CATEGORIES:Bible Study,Men's Ministry
ORGANIZER;CN="Vern Andren":MAILTO:vwacja12@outlook.com
END:VEVENT
BEGIN:VEVENT
DTSTART;TZID=America/Chicago:20250124T153000
DTEND;TZID=America/Chicago:20250124T210000
DTSTAMP:20260421T030647
CREATED:20241220T021552Z
LAST-MODIFIED:20250123T215141Z
UID:10021957-1737732600-1737752400@gslcwi.com
SUMMARY:Pinewood Derby
DESCRIPTION:Scott Getz smgetz@tds.net
URL:https://gslcwi.com/event/pinewood-derby-6/
LOCATION:Madison Peterson Hall
END:VEVENT
BEGIN:VEVENT
DTSTART;TZID=America/Chicago:20250124T123000
DTEND;TZID=America/Chicago:20250124T163000
DTSTAMP:20260421T030647
CREATED:20241220T021551Z
LAST-MODIFIED:20250123T215142Z
UID:10021956-1737721800-1737736200@gslcwi.com
SUMMARY:Pickleball
DESCRIPTION:Phyllis Wiederhoeft pwiederhoeft@gmail.com
URL:https://gslcwi.com/event/pickleball-270/
LOCATION:Verona Gym
END:VEVENT
BEGIN:VEVENT
DTSTART;TZID=America/Chicago:20250124T063000
DTEND;TZID=America/Chicago:20250124T073000
DTSTAMP:20260421T030647
CREATED:20220924T190555Z
LAST-MODIFIED:20260121T194640Z
UID:10012274-1737700200-1737703800@gslcwi.com
SUMMARY:Friday Morning Men's Group
DESCRIPTION:A men’s gathering for support\, study\, and fellowship.
URL:https://gslcwi.com/event/friday-morning-mens-group-74/2025-01-24/
LOCATION:Verona Coffee Bar
CATEGORIES:Adult Education,Men's Ministry
ORGANIZER;CN="Rick Thomas":MAILTO:rthomas@gslcwi.com
END:VEVENT
BEGIN:VEVENT
DTSTART;TZID=America/Chicago:20250123T190000
DTEND;TZID=America/Chicago:20250123T210000
DTSTAMP:20260421T030647
CREATED:20241220T021549Z
LAST-MODIFIED:20250123T215140Z
UID:10021953-1737658800-1737666000@gslcwi.com
SUMMARY:10:00 Worship Band Rehearsal
DESCRIPTION:Tracy Dahl
URL:https://gslcwi.com/event/1000-worship-band-rehearsal-12/
LOCATION:Verona Sanctuary
END:VEVENT
BEGIN:VEVENT
DTSTART;TZID=America/Chicago:20250123T190000
DTEND;TZID=America/Chicago:20250123T210000
DTSTAMP:20260421T030647
CREATED:20221025T213413Z
LAST-MODIFIED:20230228T181705Z
UID:10012664-1737658800-1737666000@gslcwi.com
SUMMARY:Band Rehearsal
DESCRIPTION:
URL:https://gslcwi.com/event/band-rehearsal/2025-01-23/
LOCATION:Verona Campus\, 7291 County Rd PD\, Verona\, WI\, 53593\, United States
CATEGORIES:Music
END:VEVENT
BEGIN:VEVENT
DTSTART;TZID=America/Chicago:20250123T183000
DTEND;TZID=America/Chicago:20250123T200000
DTSTAMP:20260421T030647
CREATED:20241220T021551Z
LAST-MODIFIED:20250116T225024Z
UID:10021955-1737657000-1737662400@gslcwi.com
SUMMARY:Palecek Basketball
DESCRIPTION:Cheryl Palecek clf1070@tds.net
URL:https://gslcwi.com/event/palecek-basketball-22/
LOCATION:Verona Gym
END:VEVENT
BEGIN:VEVENT
DTSTART;TZID=America/Chicago:20250123T173000
DTEND;TZID=America/Chicago:20250123T190000
DTSTAMP:20260421T030647
CREATED:20241220T021550Z
LAST-MODIFIED:20250123T215139Z
UID:10021954-1737653400-1737658800@gslcwi.com
SUMMARY:GSLC Food Pantrty
DESCRIPTION:
URL:https://gslcwi.com/event/gslc-food-pantrty-193/
LOCATION:Madison Peterson Hall
END:VEVENT
BEGIN:VEVENT
DTSTART;TZID=America/Chicago:20250123T173000
DTEND;TZID=America/Chicago:20250123T190000
DTSTAMP:20260421T030647
CREATED:20220928T111753Z
LAST-MODIFIED:20230302T174342Z
UID:10012647-1737653400-1737658800@gslcwi.com
SUMMARY:GSLC Food Pantry
DESCRIPTION:Weekly community food distribution – because Jesus said so! \nMore information on the Good Shepherd Food Pantry can be found here.
URL:https://gslcwi.com/event/gslc-food-pantrty-86/2025-01-23/
LOCATION:Madison Lobby
CATEGORIES:Community Event
END:VEVENT
BEGIN:VEVENT
DTSTART;TZID=America/Chicago:20250123T170000
DTEND;TZID=America/Chicago:20250123T180000
DTSTAMP:20260421T030647
CREATED:20241220T021400Z
LAST-MODIFIED:20250123T215140Z
UID:10021952-1737651600-1737655200@gslcwi.com
SUMMARY:Christensen Gym
DESCRIPTION:Scott smchristensen@gmail.com
URL:https://gslcwi.com/event/christensen-gym-10/
LOCATION:Verona Gym
END:VEVENT
BEGIN:VEVENT
DTSTART;TZID=America/Chicago:20250123T100000
DTEND;TZID=America/Chicago:20250123T120000
DTSTAMP:20260421T030647
CREATED:20241220T021359Z
LAST-MODIFIED:20250116T223659Z
UID:10021951-1737626400-1737633600@gslcwi.com
SUMMARY:GSLC Food Pantry
DESCRIPTION:
URL:https://gslcwi.com/event/gslc-food-pantry-194/
LOCATION:Madison Lobby
END:VEVENT
BEGIN:VEVENT
DTSTART;TZID=America/Chicago:20250123T100000
DTEND;TZID=America/Chicago:20250123T120000
DTSTAMP:20260421T030647
CREATED:20241220T021358Z
LAST-MODIFIED:20250116T223700Z
UID:10021950-1737626400-1737633600@gslcwi.com
SUMMARY:Clothes Closet
DESCRIPTION:
URL:https://gslcwi.com/event/clothes-closet-287/
LOCATION:Madison Room 6
END:VEVENT
BEGIN:VEVENT
DTSTART;TZID=America/Chicago:20250123T100000
DTEND;TZID=America/Chicago:20250123T120000
DTSTAMP:20260421T030647
CREATED:20220923T135903Z
LAST-MODIFIED:20230228T181458Z
UID:10012127-1737626400-1737633600@gslcwi.com
SUMMARY:Clothes Closet
DESCRIPTION:More information on the Good Shepherd Clothes Closet can be found here.
URL:https://gslcwi.com/event/clothes-closet-147/2025-01-23/
LOCATION:Madison Room 6
CATEGORIES:Community Event
END:VEVENT
BEGIN:VEVENT
DTSTART;TZID=America/Chicago:20250123T100000
DTEND;TZID=America/Chicago:20250123T120000
DTSTAMP:20260421T030647
CREATED:20220923T135902Z
LAST-MODIFIED:20230228T181021Z
UID:10012113-1737626400-1737633600@gslcwi.com
SUMMARY:GSLC Food Pantry
DESCRIPTION:Weekly community food distribution – because Jesus said so! \nMore information on the Good Shepherd Food Pantry can be found here.
URL:https://gslcwi.com/event/gslc-food-pantry-74/2025-01-23/
LOCATION:Madison Lobby
CATEGORIES:Community Event
END:VEVENT
BEGIN:VEVENT
DTSTART;TZID=America/Chicago:20250122T190000
DTEND;TZID=America/Chicago:20250122T213000
DTSTAMP:20260421T030647
CREATED:20241220T021358Z
LAST-MODIFIED:20250116T223659Z
UID:10021949-1737572400-1737581400@gslcwi.com
SUMMARY:Choir
DESCRIPTION:
URL:https://gslcwi.com/event/choir-18/
LOCATION:Madison Sanctuary
END:VEVENT
BEGIN:VEVENT
DTSTART;TZID=America/Chicago:20250122T190000
DTEND;TZID=America/Chicago:20250122T210000
DTSTAMP:20260421T030647
CREATED:20241220T015932Z
LAST-MODIFIED:20250116T223509Z
UID:10021946-1737572400-1737579600@gslcwi.com
SUMMARY:Faith of Christ Church
DESCRIPTION:Gorge Garcia\, gorgegarcia613@yahoo.com\n818-264-6914
URL:https://gslcwi.com/event/faith-of-christ-church-186/
LOCATION:Madison Music Room
END:VEVENT
BEGIN:VEVENT
DTSTART;TZID=America/Chicago:20250122T181500
DTEND;TZID=America/Chicago:20250122T200000
DTSTAMP:20260421T030647
CREATED:20240926T164449Z
LAST-MODIFIED:20240926T164449Z
UID:10021339-1737569700-1737576000@gslcwi.com
SUMMARY:AMPED Confirmation
DESCRIPTION:
URL:https://gslcwi.com/event/amped-confirmation-32/2025-01-22/
LOCATION:Good Shepherd Verona Campus\, 7291 County Road PD\, Verona\, WI\, 53593\, United States
CATEGORIES:AMPED Confirmation
ATTACH;FMTTYPE=image/jpeg:https://gslcwi.com/wp-content/uploads/2024/09/Amped-Confirmation-Event-Graphic.jpg
ORGANIZER;CN="Sarah Iverson":MAILTO:siverson@gslcwi.com
END:VEVENT
BEGIN:VEVENT
DTSTART;TZID=America/Chicago:20250122T180000
DTEND;TZID=America/Chicago:20250122T200000
DTSTAMP:20260421T030647
CREATED:20241220T021357Z
LAST-MODIFIED:20250116T223658Z
UID:10021948-1737568800-1737576000@gslcwi.com
SUMMARY:Amped
DESCRIPTION:
URL:https://gslcwi.com/event/amped-114/
LOCATION:Verona Campus\, 7291 County Rd PD\, Verona\, WI\, 53593\, United States
END:VEVENT
BEGIN:VEVENT
DTSTART;TZID=America/Chicago:20250122T180000
DTEND;TZID=America/Chicago:20250122T190000
DTSTAMP:20260421T030647
CREATED:20241220T015933Z
LAST-MODIFIED:20250116T223658Z
UID:10021947-1737568800-1737572400@gslcwi.com
SUMMARY:Hand Bells
DESCRIPTION:Brent / Jared
URL:https://gslcwi.com/event/hand-bells-18/
LOCATION:Madison Sanctuary
END:VEVENT
BEGIN:VEVENT
DTSTART;TZID=America/Chicago:20250122T160000
DTEND;TZID=America/Chicago:20250122T173000
DTSTAMP:20260421T030647
CREATED:20250116T223509Z
LAST-MODIFIED:20250116T223509Z
UID:10022090-1737561600-1737567000@gslcwi.com
SUMMARY:Literacy Network
DESCRIPTION:Bex Fabrizio Bex@litnetwork.org
URL:https://gslcwi.com/event/literacy-network-220/
LOCATION:Madison Good Shepherd Room
END:VEVENT
BEGIN:VEVENT
DTSTART;TZID=America/Chicago:20250122T120000
DTEND;TZID=America/Chicago:20250122T130000
DTSTAMP:20260421T030647
CREATED:20241213T023330Z
LAST-MODIFIED:20250116T223508Z
UID:10021881-1737547200-1737550800@gslcwi.com
SUMMARY:Bible study
DESCRIPTION:Brent / Robin godsinspirations@icloud.com\n________________________________________________________________________________\nMicrosoft Teams Need help?\nJoin the meeting now\nMeeting ID: 261 902 178 874\nPasscode: cqxmem\n________________________________\nFor organizers: Meeting options\n________________________________________________________________________________
URL:https://gslcwi.com/event/bible-study-100/
LOCATION:Madison Good Shepherd Room
END:VEVENT
BEGIN:VEVENT
DTSTART;TZID=America/Chicago:20250122T083000
DTEND;TZID=America/Chicago:20250122T100000
DTSTAMP:20260421T030647
CREATED:20230320T152258Z
LAST-MODIFIED:20230419T205304Z
UID:10013192-1737534600-1737540000@gslcwi.com
SUMMARY:Pickleball
DESCRIPTION:
URL:https://gslcwi.com/event/pickleball-166/2025-01-22/
LOCATION:Verona Gym
CATEGORIES:Sports,Verona Gym
ATTACH;FMTTYPE=image/jpeg:https://gslcwi.com/wp-content/uploads/2023/02/pickleball2-1.jpg
END:VEVENT
BEGIN:VEVENT
DTSTART;TZID=America/Chicago:20250122T070000
DTEND;TZID=America/Chicago:20250122T080000
DTSTAMP:20260421T030647
CREATED:20230228T160601Z
LAST-MODIFIED:20230921T134643Z
UID:10012611-1737529200-1737532800@gslcwi.com
SUMMARY:Wednesday Morning Men's Bible Study
DESCRIPTION:A Weekly Men’s Bible Study that gathers on Zoom.
URL:https://gslcwi.com/event/wednesday-morning-mens-bible-study/2025-01-22/
CATEGORIES:Adult Education,Bible Study,Men's Ministry
ATTACH;FMTTYPE=image/jpeg:https://gslcwi.com/wp-content/uploads/2023/02/fa-barboza-NWoaoMgMiVY-unsplash.jpg
ORGANIZER;CN="Dean Nelson":MAILTO:deanwnelson@gmail.com
END:VEVENT
END:VCALENDAR